Back to the "Multiple platform build/check report"
Package 199/234 | Hostname | OS | Arch | BUILD | CHECK | BUILD BIN |
sagenhaft 1.8.0 Tim Beissbarth Last Changed Date: 2007-10-04 18:59:04 -0700 Last Changed Rev: 27771 | lamb1 | Linux (SUSE 10.1) | x86_64 | OK | OK | |
wellington | Linux (SUSE 9.2) | i686 | OK | OK | ||
liverpool | Windows Server 2003 R2 (32-bit) | x64 | [ OK ] | OK | OK | |
pitt | Mac OS X (10.4.10) | i386 | OK | OK | OK |
Package: sagenhaft |
Version: 1.8.0 |
Command: E:\biocbld\bbs-2.1-bioc\R\bin\R.exe CMD build sagenhaft |
RetCode: 0 |
Time: 31.2 seconds |
Status: OK |
PackageFile: sagenhaft_1.8.0.tar.gz |
* checking for file 'sagenhaft/DESCRIPTION' ... OK * preparing 'sagenhaft': * checking DESCRIPTION meta-information ... OK * checking whether 'INDEX' is up-to-date ... NO * use '--force' to overwrite the existing 'INDEX' * installing the package to re-build vignettes installing R.css in E:/biocbld/bbs-2.1-bioc/tmpdir/Rinst433623654 ---------- Making package sagenhaft ------------ adding build stamp to DESCRIPTION installing R files installing inst files installing data files installing man source files installing indices not zipping data installing help >>> Building/Updating help pages for package 'sagenhaft' Formats: text html latex example chm error.correction text html latex example chm extract.lib text html latex example chm sage.library text html latex example chm sage.library.comparison text html latex example chm sage.test text html latex example chm sage.utilities text html latex example chm sagelibrary.simulate text html latex example chm Microsoft HTML Help Compiler 4.74.8702 Compiling e:\biocbld\bbs-2.1-bioc\meat\sagenhaft\chm\sagenhaft.chm Compile time: 0 minutes, 1 second 8 Topics 51 Local links 5 Internet links 1 Graphic Created e:\biocbld\bbs-2.1-bioc\meat\sagenhaft\chm\sagenhaft.chm, 27,920 bytes Compression decreased file by 12,063 bytes. preparing package sagenhaft for lazy loading Loading required package: SparseM adding MD5 sums * DONE (sagenhaft) * creating vignettes ... OK * removing junk files * checking for LF line-endings in source and make files * checking for empty or unneeded directories * building 'sagenhaft_1.8.0.tar.gz'