MAQCsubset 1.0.11 VJ Carey
Snapshot Date: 2008-04-10 00:02:38 -0700 (Thu, 10 Apr 2008) | URL: https://hedgehog.fhcrc.org/bioc-data/trunk/experiment/pkgs/MAQCsubset | Last Changed Rev: 549 / Revision: 624 | Last Changed Date: 2008-01-30 12:39:30 -0800 (Wed, 30 Jan 2008) |
| lamb1 | Linux (SUSE 10.1) / x86_64 | OK | WARNINGS | |
lemming | Windows Server 2003 (32-bit) / x64 | [ OK ] | WARNINGS | OK |
pitt | Mac OS X Tiger (10.4.11) / i386 | OK | WARNINGS | OK |
* checking for file 'MAQCsubset/DESCRIPTION' ... OK
* preparing 'MAQCsubset':
* checking DESCRIPTION meta-information ... OK
* installing the package to re-build vignettes
installing R.css in D:/biocbld/bbs-2.1-data-experiment/tmpdir/Rinst464895269
---------- Making package MAQCsubset ------------
adding build stamp to DESCRIPTION
installing R files
installing inst files
installing data files
preparing package MAQCsubset for lazy loading
Loading required package: Biobase
Loading required package: tools
Welcome to Bioconductor
Vignettes contain introductory material. To view, type
'openVignette()'. To cite Bioconductor, see
'citation("Biobase")' and for packages 'citation(pkgname)'.
Creating a new generic function for "plot" in "MAQCsubset"
Creating a new generic function for "lines" in "MAQCsubset"
installing man source files
installing indices
not zipping data
installing help
>>> Building/Updating help pages for package 'MAQCsubset'
Formats: text html latex example chm
MAQCsubset text html latex example chm
gehMAQCsubDef text html latex example chm
gnfCerebHi text html latex example chm
proboStruct-class text html latex example chm
proboscis text html latex example chm
Microsoft HTML Help Compiler 4.74.8702
Compiling d:\biocbld\bbs-2.1-data-experiment\meat\MAQCsubset\chm\MAQCsubset.chm
Compile time: 0 minutes, 0 seconds
6 Topics
19 Local links
0 Internet links
1 Graphic
Created d:\biocbld\bbs-2.1-data-experiment\meat\MAQCsubset\chm\MAQCsubset.chm, 21,851 bytes
Compression increased file by 1,002 bytes.
adding MD5 sums
* DONE (MAQCsubset)
* creating vignettes ... OK
* removing junk files
* checking for LF line-endings in source and make files
* checking for empty or unneeded directories
* building 'MAQCsubset_1.0.11.tar.gz'