davidTiling 1.2.5 Wolfgang Huber
Snapshot Date: 2008-04-10 00:02:38 -0700 (Thu, 10 Apr 2008) | URL: https://hedgehog.fhcrc.org/bioc-data/trunk/experiment/pkgs/davidTiling | Last Changed Rev: 444 / Revision: 624 | Last Changed Date: 2007-09-09 08:26:34 -0700 (Sun, 09 Sep 2007) |
| lamb1 | Linux (SUSE 10.1) / x86_64 | OK | [ OK ] | |
lemming | Windows Server 2003 (32-bit) / x64 | OK | OK | OK |
pitt | Mac OS X Tiger (10.4.11) / i386 | OK | OK | OK |
* checking for working latex ... OK
* using log directory '/home/biocbuild/bbs-2.1-data-experiment/meat/davidTiling.Rcheck'
* using R version 2.6.2 (2008-02-08)
* checking for file 'davidTiling/DESCRIPTION' ... OK
* this is package 'davidTiling' version '1.2.5'
* checking package name space information ... OK
* checking package dependencies ... OK
* checking if this is a source package ... OK
* checking whether package 'davidTiling' can be installed ... OK
* checking package directory ... OK
* checking for portable file names ... OK
* checking for sufficient/correct file permissions ... OK
* checking DESCRIPTION meta-information ... OK
* checking top-level files ... OK
* checking index information ... OK
* checking package subdirectories ... OK
* checking R files for non-ASCII characters ... OK
* checking R files for syntax errors ... OK
* checking whether the package can be loaded ... OK
* checking whether the package can be loaded with stated dependencies ... OK
* checking whether the name space can be loaded with stated dependencies ... OK
* checking for unstated dependencies in R code ... OK
* checking S3 generic/method consistency ... OK
* checking replacement functions ... OK
* checking foreign function calls ... OK
* checking R code for possible problems ... NOTE
GOHyperG: no visible global function definition for
'replaceSystematicByCommonName'
scoreSegments: no visible binding for global variable 'yeastFeatures'
scoreSegments: no visible binding for global variable 'chrs'
* checking Rd files ... OK
* checking Rd cross-references ... OK
* checking for missing documentation entries ... OK
* checking for code/documentation mismatches ... OK
* checking Rd \usage sections ... OK
* checking data for non-ASCII characters ... OK
* creating davidTiling-Ex.R ... OK
* checking examples ... OK
* creating davidTiling-manual.tex ... OK
* checking davidTiling-manual.tex ... OK
* Installing *source* package 'davidTiling' ...
** R
** data
** inst
** help
>>> Building/Updating help pages for package 'davidTiling'
Formats: text html latex example
GOHyperG text html latex example
davidTiling text html latex example
getAttributeField text html latex example
getGO text html latex example
gff text html latex example
probeAnno text html latex example
scatterWithHist text html latex example
scoreSegments text html latex example
showDens text html latex example
yeastFeatures text html latex example
** building package indices ...
Loading required package: methods
* DONE (davidTiling)