yeastGSData 0.1.0 R. Gentleman
Snapshot Date: 2008-04-10 00:02:38 -0700 (Thu, 10 Apr 2008) | URL: https://hedgehog.fhcrc.org/bioc-data/trunk/experiment/pkgs/yeastGSData | Last Changed Rev: 570 / Revision: 624 | Last Changed Date: 2008-03-07 15:29:44 -0800 (Fri, 07 Mar 2008) |
| lamb1 | Linux (SUSE 10.1) / x86_64 | OK | [ OK ] | |
lemming | Windows Server 2003 (32-bit) / x64 | OK | OK | OK |
pitt | Mac OS X Tiger (10.4.11) / i386 | OK | OK | OK |
* checking for working latex ... OK
* using log directory '/home/biocbuild/bbs-2.1-data-experiment/meat/yeastGSData.Rcheck'
* using R version 2.6.2 (2008-02-08)
* checking for file 'yeastGSData/DESCRIPTION' ... OK
* this is package 'yeastGSData' version '0.1.0'
* checking package dependencies ... OK
* checking if this is a source package ... OK
* checking whether package 'yeastGSData' can be installed ... OK
* checking package directory ... OK
* checking for portable file names ... OK
* checking for sufficient/correct file permissions ... OK
* checking DESCRIPTION meta-information ... OK
* checking top-level files ... OK
* checking index information ... OK
* checking package subdirectories ... OK
* checking whether the package can be loaded ... OK
* checking whether the package can be loaded with stated dependencies ... OK
* checking Rd files ... OK
* checking Rd cross-references ... OK
* checking for missing documentation entries ... OK
* checking for code/documentation mismatches ... OK
* checking Rd \usage sections ... OK
* checking data for non-ASCII characters ... OK
* creating yeastGSData-Ex.R ... OK
* checking examples ... OK
* creating yeastGSData-manual.tex ... OK
* checking yeastGSData-manual.tex ... OK
* Installing *source* package 'yeastGSData' ...
** data
** inst
** help
>>> Building/Updating help pages for package 'yeastGSData'
Formats: text html latex example
MIPSGS text html latex example
Mpact text html latex example
MpactEvidenceCodes text html latex example
NEGGS text html latex example
POSPS text html latex example
** building package indices ...
* DONE (yeastGSData)