Back to the "Multiple platform build/check report"[A] B  C  D  E  F  G  H  I  J  K  L  M  N  O  P  Q  R  S  T  U  V  W  X  Y  Z 

Package 9/554HostnameOS / ArchBUILDCHECKBUILD BIN
ACME 2.12.0
Sean Davis
Snapshot Date: 2012-03-31 17:01:49 -0700 (Sat, 31 Mar 2012)
URL: https://hedgehog.fhcrc.org/bioconductor/branches/RELEASE_2_10/madman/Rpacks/ACME
Last Changed Rev: 64678 / Revision: 64719
Last Changed Date: 2012-03-30 15:05:02 -0700 (Fri, 30 Mar 2012)
lamb2 Linux (openSUSE 11.4) / x86_64  OK  OK 
puck5 Linux (Ubuntu 12.04) / x86_64  OK [ OK ]
moscato2 Windows Server 2008 R2 Enterprise SP1 (64-bit) / x64  OK  OK  OK 
petty Mac OS X Leopard (10.5.8) / i386  OK  OK  OK 

Summary

Package: ACME
Version: 2.12.0
Command: /home/hpages/test-puck5/bbs-2.10-bioc/R/bin/R CMD check --no-vignettes --timings ACME_2.12.0.tar.gz
StartedAt: 2012-03-31 23:18:12 -0700 (Sat, 31 Mar 2012)
EndedAt: 2012-03-31 23:19:20 -0700 (Sat, 31 Mar 2012)
EllapsedTime: 67.6 seconds
RetCode: 0
Status:  OK 
CheckDir: ACME.Rcheck
Warnings: 0

Command output

* using log directory '/loc/home/hpages/test-puck5/bbs-2.10-bioc/meat/ACME.Rcheck'
* using R version 2.15.0 RC (2012-03-22 r58802)
* using platform: x86_64-unknown-linux-gnu (64-bit)
* using session charset: ISO8859-1
* using option '--no-vignettes'
* checking for file 'ACME/DESCRIPTION' ... OK
* this is package 'ACME' version '2.12.0'
* checking package namespace information ... OK
* checking package dependencies ... OK
* checking if this is a source package ... OK
* checking if there is a namespace ... OK
* checking whether package 'ACME' can be installed ... OK
* checking installed package size ... NOTE
  installed size is 30.9Mb
  sub-directories of 1Mb or more:
    data      3.1Mb
    extdata  27.3Mb
* checking package directory ... OK
* checking for portable file names ... OK
* checking for sufficient/correct file permissions ... OK
* checking DESCRIPTION meta-information ... OK
* checking top-level files ... OK
* checking index information ... OK
* checking package subdirectories ... OK
* checking R files for non-ASCII characters ... OK
* checking R files for syntax errors ... OK
* checking whether the package can be loaded ... OK
* checking whether the package can be loaded with stated dependencies ... OK
* checking whether the package can be unloaded cleanly ... OK
* checking whether the namespace can be loaded with stated dependencies ... OK
* checking whether the namespace can be unloaded cleanly ... OK
* checking for unstated dependencies in R code ... OK
* checking S3 generic/method consistency ... OK
* checking replacement functions ... OK
* checking foreign function calls ... OK
* checking R code for possible problems ... NOTE
findClosestGene: no visible binding for global variable 'refflat'
findClosestGene: no visible binding for '<<-' assignment to 'refflat'
* checking Rd files ... OK
* checking Rd metadata ... OK
* checking Rd cross-references ... OK
* checking for missing documentation entries ... OK
* checking for code/documentation mismatches ... OK
* checking Rd \usage sections ... OK
* checking Rd contents ... OK
* checking for unstated dependencies in examples ... OK
* checking contents of 'data' directory ... OK
* checking data for non-ASCII characters ... OK
* checking data for ASCII and uncompressed saves ... OK
* checking line endings in C/C++/Fortran sources/headers ... OK
* checking line endings in Makefiles ... OK
* checking for portable use of $(BLAS_LIBS) and $(LAPACK_LIBS) ... OK
* checking compiled code ... OK
* checking installed files from 'inst/doc' ... OK
* checking examples ... OK
* checking for unstated dependencies in vignettes ... OK
* checking package vignettes in 'inst/doc' ... OK
* checking running R code from vignettes ... SKIPPED
* checking re-building of vignettes ... SKIPPED
* checking PDF version of manual ... OK

NOTE: There were 2 notes.
See
  '/loc/home/hpages/test-puck5/bbs-2.10-bioc/meat/ACME.Rcheck/00check.log'
for details.

ACME.Rcheck/00install.out:

* installing *source* package 'ACME' ...
** libs
gcc -std=gnu99 -I/home/hpages/test-puck5/bbs-2.10-bioc/R/include -DNDEBUG  -I/usr/local/include    -fpic  -g -O2  -c windowChisq.c -o windowChisq.o
windowChisq.c:86:5: warning: initialization from incompatible pointer type [enabled by default]
windowChisq.c:86:5: warning: (near initialization for 'callMethods[0].fun') [enabled by default]
gcc -std=gnu99 -shared -L/usr/local/lib -o ACME.so windowChisq.o -L/home/hpages/test-puck5/bbs-2.10-bioc/R/lib -lR
installing to /loc/home/hpages/test-puck5/bbs-2.10-bioc/meat/ACME.Rcheck/ACME/libs
** R
** data
** inst
** preparing package for lazy loading
Creating a generic function for 'print' from package 'base' in package 'ACME'
** help
*** installing help indices
** building package indices
** installing vignettes
   'ACME.Rnw' 
** testing if installed package can be loaded

* DONE (ACME)

ACME.Rcheck/ACME-Ex.timings:

nameusersystemelapsed
ACMECalcSet-class4.5400.1164.668
ACMESet-class0.5040.0040.516
aGFF-class0.4920.0160.512
aGFFCalc-class3.1520.0283.187
do.aGFF.calc2.9480.0242.979
example.agff0.4880.0080.503
findClosestGene1.6840.0244.038
findRegions4.4650.0324.505
generics0.5080.0040.518
getRefflat1.6960.0364.209
read.resultsGFF4.3040.0204.327
write.bedGraph1.9120.0201.939
write.sgr1.9080.0121.933