AnnotationDbi 1.18.3 Bioconductor Package Maintainer
Snapshot Date: 2012-09-23 17:01:39 -0700 (Sun, 23 Sep 2012) | URL: https://hedgehog.fhcrc.org/bioconductor/branches/RELEASE_2_10/madman/Rpacks/AnnotationDbi | Last Changed Rev: 69081 / Revision: 69725 | Last Changed Date: 2012-09-05 13:34:10 -0700 (Wed, 05 Sep 2012) |
| lamb2 | Linux (openSUSE 11.4) / x86_64 | OK | OK | |
moscato2 | Windows Server 2008 R2 Enterprise SP1 (64-bit) / x64 | [ OK ] | OK | OK |
petty | Mac OS X Leopard (10.5.8) / i386 | OK | OK | OK |
* checking for file 'AnnotationDbi/DESCRIPTION' ... OK
* preparing 'AnnotationDbi':
* checking DESCRIPTION meta-information ... OK
* installing the package to re-build vignettes
* creating vignettes ... OK
* checking for LF line-endings in source and make files
* checking for empty or unneeded directories
WARNING: directory 'AnnotationDbi/inst/AnnDbPkg-templates/AFFYHUEX.DB/inst/extdata' is empty
WARNING: directory 'AnnotationDbi/inst/AnnDbPkg-templates/ANOPHELES.DB/inst/extdata' is empty
WARNING: directory 'AnnotationDbi/inst/AnnDbPkg-templates/ARABIDOPSIS.DB/inst/extdata' is empty
WARNING: directory 'AnnotationDbi/inst/AnnDbPkg-templates/ARABIDOPSISCHIP.DB/inst/extdata' is empty
WARNING: directory 'AnnotationDbi/inst/AnnDbPkg-templates/BASEPKG.DB/inst/extdata' is empty
WARNING: directory 'AnnotationDbi/inst/AnnDbPkg-templates/BOVINE.DB/inst/extdata' is empty
WARNING: directory 'AnnotationDbi/inst/AnnDbPkg-templates/BOVINECHIP.DB/inst/extdata' is empty
WARNING: directory 'AnnotationDbi/inst/AnnDbPkg-templates/CANINE.DB/inst/extdata' is empty
WARNING: directory 'AnnotationDbi/inst/AnnDbPkg-templates/CANINECHIP.DB/inst/extdata' is empty
WARNING: directory 'AnnotationDbi/inst/AnnDbPkg-templates/CHICKEN.DB/inst/extdata' is empty
WARNING: directory 'AnnotationDbi/inst/AnnDbPkg-templates/CHICKENCHIP.DB/inst/extdata' is empty
WARNING: directory 'AnnotationDbi/inst/AnnDbPkg-templates/CHIMP.DB/inst/extdata' is empty
WARNING: directory 'AnnotationDbi/inst/AnnDbPkg-templates/COELICOLOR.DB/inst/extdata' is empty
WARNING: directory 'AnnotationDbi/inst/AnnDbPkg-templates/ECOLI.DB/inst/extdata' is empty
WARNING: directory 'AnnotationDbi/inst/AnnDbPkg-templates/ECOLICHIP.DB/inst/extdata' is empty
WARNING: directory 'AnnotationDbi/inst/AnnDbPkg-templates/FLY.DB/inst/extdata' is empty
WARNING: directory 'AnnotationDbi/inst/AnnDbPkg-templates/FLYCHIP.DB/inst/extdata' is empty
WARNING: directory 'AnnotationDbi/inst/AnnDbPkg-templates/GO.DB/inst/extdata' is empty
WARNING: directory 'AnnotationDbi/inst/AnnDbPkg-templates/HUMAN.DB/inst/extdata' is empty
WARNING: directory 'AnnotationDbi/inst/AnnDbPkg-templates/HUMANCHIP.DB/inst/extdata' is empty
WARNING: directory 'AnnotationDbi/inst/AnnDbPkg-templates/INPARANOID.DB/inst/extdata' is empty
WARNING: directory 'AnnotationDbi/inst/AnnDbPkg-templates/KEGG.DB/inst/extdata' is empty
WARNING: directory 'AnnotationDbi/inst/AnnDbPkg-templates/MALARIA.DB/inst/extdata' is empty
WARNING: directory 'AnnotationDbi/inst/AnnDbPkg-templates/MOUSE.DB/inst/extdata' is empty
WARNING: directory 'AnnotationDbi/inst/AnnDbPkg-templates/MOUSECHIP.DB/inst/extdata' is empty
WARNING: directory 'AnnotationDbi/inst/AnnDbPkg-templates/ORGANISM.DB/inst/extdata' is empty
WARNING: directory 'AnnotationDbi/inst/AnnDbPkg-templates/PFAM.DB/inst/extdata' is empty
WARNING: directory 'AnnotationDbi/inst/AnnDbPkg-templates/PIG.DB/inst/extdata' is empty
WARNING: directory 'AnnotationDbi/inst/AnnDbPkg-templates/PIGCHIP.DB/inst/extdata' is empty
WARNING: directory 'AnnotationDbi/inst/AnnDbPkg-templates/RAT.DB/inst/extdata' is empty
WARNING: directory 'AnnotationDbi/inst/AnnDbPkg-templates/RATCHIP.DB/inst/extdata' is empty
WARNING: directory 'AnnotationDbi/inst/AnnDbPkg-templates/RHESUS.DB/inst/extdata' is empty
WARNING: directory 'AnnotationDbi/inst/AnnDbPkg-templates/WORM.DB/inst/extdata' is empty
WARNING: directory 'AnnotationDbi/inst/AnnDbPkg-templates/WORMCHIP.DB/inst/extdata' is empty
WARNING: directory 'AnnotationDbi/inst/AnnDbPkg-templates/XENOPUS.DB/inst/extdata' is empty
WARNING: directory 'AnnotationDbi/inst/AnnDbPkg-templates/XENOPUSCHIP.DB/inst/extdata' is empty
WARNING: directory 'AnnotationDbi/inst/AnnDbPkg-templates/YEAST.DB/inst/extdata' is empty
WARNING: directory 'AnnotationDbi/inst/AnnDbPkg-templates/YEASTCHIP.DB/inst/extdata' is empty
WARNING: directory 'AnnotationDbi/inst/AnnDbPkg-templates/YEASTNCBI.DB/inst/extdata' is empty
WARNING: directory 'AnnotationDbi/inst/AnnDbPkg-templates/ZEBRAFISH.DB/inst/extdata' is empty
WARNING: directory 'AnnotationDbi/inst/AnnDbPkg-templates/ZEBRAFISHCHIP.DB/inst/extdata' is empty
* building 'AnnotationDbi_1.18.3.tar.gz'