Back to the "Multiple platform build/check report" A [B] C  D  E  F  G  H  I  J  K  L  M  N  O  P  Q  R  S  T  U  V  W  X  Y  Z 

Package 70/554HostnameOS / ArchBUILDCHECKBUILD BIN
BioNet 1.14.0
Marcus Dittrich
Snapshot Date: 2012-03-31 17:01:49 -0700 (Sat, 31 Mar 2012)
URL: https://hedgehog.fhcrc.org/bioconductor/branches/RELEASE_2_10/madman/Rpacks/BioNet
Last Changed Rev: 64678 / Revision: 64719
Last Changed Date: 2012-03-30 15:05:02 -0700 (Fri, 30 Mar 2012)
lamb2 Linux (openSUSE 11.4) / x86_64  OK  OK 
puck5 Linux (Ubuntu 12.04) / x86_64  OK [ OK ]
moscato2 Windows Server 2008 R2 Enterprise SP1 (64-bit) / x64  OK  OK  OK 
petty Mac OS X Leopard (10.5.8) / i386  OK  OK  OK 

Summary

Package: BioNet
Version: 1.14.0
Command: /home/hpages/test-puck5/bbs-2.10-bioc/R/bin/R CMD check --no-vignettes --timings BioNet_1.14.0.tar.gz
StartedAt: 2012-03-31 23:55:43 -0700 (Sat, 31 Mar 2012)
EndedAt: 2012-03-31 23:58:21 -0700 (Sat, 31 Mar 2012)
EllapsedTime: 158.2 seconds
RetCode: 0
Status:  OK 
CheckDir: BioNet.Rcheck
Warnings: 0

Command output

* using log directory '/loc/home/hpages/test-puck5/bbs-2.10-bioc/meat/BioNet.Rcheck'
* using R version 2.15.0 RC (2012-03-22 r58802)
* using platform: x86_64-unknown-linux-gnu (64-bit)
* using session charset: ISO8859-1
* using option '--no-vignettes'
* checking for file 'BioNet/DESCRIPTION' ... OK
* checking extension type ... Package
* this is package 'BioNet' version '1.14.0'
* checking package namespace information ... OK
* checking package dependencies ... OK
* checking if this is a source package ... OK
* checking if there is a namespace ... OK
* checking whether package 'BioNet' can be installed ... OK
* checking installed package size ... NOTE
  installed size is  5.5Mb
  sub-directories of 1Mb or more:
    doc       1.4Mb
    extdata   3.7Mb
* checking package directory ... OK
* checking for portable file names ... OK
* checking for sufficient/correct file permissions ... OK
* checking DESCRIPTION meta-information ... OK
* checking top-level files ... OK
* checking index information ... OK
* checking package subdirectories ... OK
* checking R files for non-ASCII characters ... OK
* checking R files for syntax errors ... OK
* checking whether the package can be loaded ... OK
* checking whether the package can be loaded with stated dependencies ... OK
* checking whether the package can be unloaded cleanly ... OK
* checking whether the namespace can be loaded with stated dependencies ... OK
* checking whether the namespace can be unloaded cleanly ... OK
* checking for unstated dependencies in R code ... OK
* checking S3 generic/method consistency ... OK
* checking replacement functions ... OK
* checking foreign function calls ... OK
* checking R code for possible problems ... OK
* checking Rd files ... OK
* checking Rd metadata ... OK
* checking Rd cross-references ... OK
* checking for missing documentation entries ... OK
* checking for code/documentation mismatches ... OK
* checking Rd \usage sections ... OK
* checking Rd contents ... OK
* checking for unstated dependencies in examples ... OK
* checking contents of 'data' directory ... OK
* checking data for non-ASCII characters ... OK
* checking data for ASCII and uncompressed saves ... OK
* checking installed files from 'inst/doc' ... OK
* checking examples ... OK
* checking for unstated dependencies in vignettes ... OK
* checking package vignettes in 'inst/doc' ... OK
* checking running R code from vignettes ... SKIPPED
* checking re-building of vignettes ... SKIPPED
* checking PDF version of manual ... OK

NOTE: There was 1 note.
See
  '/loc/home/hpages/test-puck5/bbs-2.10-bioc/meat/BioNet.Rcheck/00check.log'
for details.

BioNet.Rcheck/00install.out:

* installing *source* package 'BioNet' ...
** R
** data
** inst
** preparing package for lazy loading
** help
*** installing help indices
** building package indices
** installing vignettes
   'Tutorial.Rnw' 
** testing if installed package can be loaded

* DONE (BioNet)

BioNet.Rcheck/BioNet-Ex.timings:

nameusersystemelapsed
aggrPvals0.6520.0200.686
bumOptim0.7760.0040.792
compareNetworks1.3360.0161.377
consensusScores0.2840.0040.304
fbum000
fbumLL0.8240.0000.829
fdrThreshold0.6080.0000.615
fitBumModel0.9680.0120.989
getCompScores1.8760.0201.923
getEdgeList0.8480.0080.877
hist.bum0.9800.0000.989
largestComp5.9530.0045.976
largestScoreComp6.5560.0286.613
loadNetwork.sif000
makeNetwork0.0120.0000.010
mapByVar000
permutateNodes7.7730.0407.832
piUpper0.6640.0040.673
plot.bum1.0800.0001.089
plot3dModule3.0280.0043.065
plotLLSurface0.6000.0040.624
plotModule2.2200.0002.245
print.bum0.6520.0000.658
pvaluesExample0.0080.0000.017
readHeinzGraph0.2400.0000.255
readHeinzTree0.2320.0040.259
resamplingPvalues4.6160.0364.674
rmSelfLoops0.0080.0000.006
runFastHeinz8.2090.0048.243
save3dModule1.5480.0041.584
saveNetwork0.9240.0080.955
scanFDR0.7200.0000.731
scoreFunction0.6200.0200.652
scoreNodes2.2720.0162.311
scoreOffset0.6320.0000.647
sortedEdgeList4.3010.0124.337
subNetwork0.0320.0000.040
summary.bum0.6560.0120.678
writeHeinz1.5280.0041.555
writeHeinzEdges3.1600.0003.219
writeHeinzNodes1.9720.0042.019