Back to the "Multiple platform build/check report" A  B [C] D  E  F  G  H  I  J  K  L  M  N  O  P  Q  R  S  T  U  V  W  X  Y  Z 

Package 112/554HostnameOS / ArchBUILDCHECKBUILD BIN
CMA 1.14.0
Christoph Bernau
Snapshot Date: 2012-03-31 17:01:49 -0700 (Sat, 31 Mar 2012)
URL: https://hedgehog.fhcrc.org/bioconductor/branches/RELEASE_2_10/madman/Rpacks/CMA
Last Changed Rev: 64678 / Revision: 64719
Last Changed Date: 2012-03-30 15:05:02 -0700 (Fri, 30 Mar 2012)
lamb2 Linux (openSUSE 11.4) / x86_64  OK  OK 
puck5 Linux (Ubuntu 12.04) / x86_64  OK [ OK ]
moscato2 Windows Server 2008 R2 Enterprise SP1 (64-bit) / x64  OK  OK  OK 
petty Mac OS X Leopard (10.5.8) / i386  OK  OK  OK 

Summary

Package: CMA
Version: 1.14.0
Command: /home/hpages/test-puck5/bbs-2.10-bioc/R/bin/R CMD check --no-vignettes --timings CMA_1.14.0.tar.gz
StartedAt: 2012-04-01 00:22:53 -0700 (Sun, 01 Apr 2012)
EndedAt: 2012-04-01 00:23:52 -0700 (Sun, 01 Apr 2012)
EllapsedTime: 58.5 seconds
RetCode: 0
Status:  OK 
CheckDir: CMA.Rcheck
Warnings: 0

Command output

* using log directory '/loc/home/hpages/test-puck5/bbs-2.10-bioc/meat/CMA.Rcheck'
* using R version 2.15.0 RC (2012-03-22 r58802)
* using platform: x86_64-unknown-linux-gnu (64-bit)
* using session charset: ISO8859-1
* using option '--no-vignettes'
* checking for file 'CMA/DESCRIPTION' ... OK
* checking extension type ... Package
* this is package 'CMA' version '1.14.0'
* checking package namespace information ... OK
* checking package dependencies ... OK
* checking if this is a source package ... OK
* checking if there is a namespace ... OK
* checking whether package 'CMA' can be installed ... OK
* checking installed package size ... OK
* checking package directory ... OK
* checking for portable file names ... OK
* checking for sufficient/correct file permissions ... OK
* checking DESCRIPTION meta-information ... OK
* checking top-level files ... OK
* checking index information ... OK
* checking package subdirectories ... OK
* checking R files for non-ASCII characters ... OK
* checking R files for syntax errors ... OK
* checking whether the package can be loaded ... OK
* checking whether the package can be loaded with stated dependencies ... OK
* checking whether the package can be unloaded cleanly ... OK
* checking whether the namespace can be loaded with stated dependencies ... OK
* checking whether the namespace can be unloaded cleanly ... OK
* checking for unstated dependencies in R code ... OK
* checking S3 generic/method consistency ... OK
* checking replacement functions ... OK
* checking foreign function calls ... OK
* checking R code for possible problems ... NOTE
ROCinternal: no visible binding for global variable 'xlab'
ROCinternal: no visible binding for global variable 'ylab'
ROCinternal: no visible binding for global variable 'main'
ROCinternal: no visible binding for global variable 'lwd'
rfe: no visible binding for global variable 'cost'
* checking Rd files ... OK
* checking Rd metadata ... OK
* checking Rd cross-references ... OK
* checking for missing documentation entries ... OK
* checking for code/documentation mismatches ... OK
* checking Rd \usage sections ... OK
* checking Rd contents ... OK
* checking for unstated dependencies in examples ... OK
* checking contents of 'data' directory ... OK
* checking data for non-ASCII characters ... OK
* checking data for ASCII and uncompressed saves ... OK
* checking installed files from 'inst/doc' ... NOTE
The following files should probably not be installed:
  'preamble.tex'

Consider the use of a .Rinstignore file: see 'Writing R Extensions',
or move the vignette sources from 'inst/doc' to 'vignettes'.
* checking examples ... OK
* checking for unstated dependencies in vignettes ... OK
* checking package vignettes in 'inst/doc' ... OK
* checking running R code from vignettes ... SKIPPED
* checking re-building of vignettes ... SKIPPED
* checking PDF version of manual ... OK

NOTE: There were 2 notes.
See
  '/loc/home/hpages/test-puck5/bbs-2.10-bioc/meat/CMA.Rcheck/00check.log'
for details.

CMA.Rcheck/00install.out:

* installing *source* package 'CMA' ...
** R
** data
** inst
** preparing package for lazy loading
** help
*** installing help indices
** building package indices
** installing vignettes
   'CMA_vignette.rnw' 
** testing if installed package can be loaded

* DONE (CMA)

CMA.Rcheck/CMA-Ex.timings:

nameusersystemelapsed
ElasticNetCMA2.9040.0443.004
GeneSelection0.1160.0040.126
GenerateLearningsets0.0040.0080.012
LassoCMA0.5040.0080.537
Planarplot0.2960.0040.316
classification000
compBoostCMA1.1240.0001.141
compare0.0000.0000.001
dldaCMA0.1720.0000.185
evaluation0.1360.0080.164
fdaCMA0.1040.0000.115
flexdaCMA0.2080.0040.239
gbmCMA3.0720.0643.181
golub0.0320.0040.040
khan0.0480.0000.055
knnCMA0.2320.0040.254
ldaCMA0.1400.0040.165
nnetCMA0.0960.0000.116
pknnCMA0.1320.0000.143
plrCMA0.4600.0080.482
pls_ldaCMA0.1600.0080.188
pls_lrCMA0.1320.0040.157
pls_rfCMA0.0720.0000.075
pnnCMA0.0360.0040.047
prediction0.0000.0000.001
qdaCMA0.1160.0040.142
rfCMA0.0760.0040.084
scdaCMA0.1040.0000.108
shrinkldaCMA0.1160.0080.136
svmCMA0.6880.0040.724
tune0.0000.0000.001