Back to the "Multiple platform build/check report" A  B [C] D  E  F  G  H  I  J  K  L  M  N  O  P  Q  R  S  T  U  V  W  X  Y  Z 

Package 86/554HostnameOS / ArchBUILDCHECKBUILD BIN
Category 2.22.0
Bioconductor Package Maintainer
Snapshot Date: 2012-03-31 17:01:49 -0700 (Sat, 31 Mar 2012)
URL: https://hedgehog.fhcrc.org/bioconductor/branches/RELEASE_2_10/madman/Rpacks/Category
Last Changed Rev: 64678 / Revision: 64719
Last Changed Date: 2012-03-30 15:05:02 -0700 (Fri, 30 Mar 2012)
lamb2 Linux (openSUSE 11.4) / x86_64  OK  OK 
puck5 Linux (Ubuntu 12.04) / x86_64  OK [ OK ]
moscato2 Windows Server 2008 R2 Enterprise SP1 (64-bit) / x64  OK  OK  OK 
petty Mac OS X Leopard (10.5.8) / i386  OK  OK  OK 

Summary

Package: Category
Version: 2.22.0
Command: /home/hpages/test-puck5/bbs-2.10-bioc/R/bin/R CMD check --no-vignettes --timings Category_2.22.0.tar.gz
StartedAt: 2012-04-01 00:05:22 -0700 (Sun, 01 Apr 2012)
EndedAt: 2012-04-01 00:08:00 -0700 (Sun, 01 Apr 2012)
EllapsedTime: 157.7 seconds
RetCode: 0
Status:  OK 
CheckDir: Category.Rcheck
Warnings: 0

Command output

* using log directory '/loc/home/hpages/test-puck5/bbs-2.10-bioc/meat/Category.Rcheck'
* using R version 2.15.0 RC (2012-03-22 r58802)
* using platform: x86_64-unknown-linux-gnu (64-bit)
* using session charset: ISO8859-1
* using option '--no-vignettes'
* checking for file 'Category/DESCRIPTION' ... OK
* this is package 'Category' version '2.22.0'
* checking package namespace information ... OK
* checking package dependencies ... OK
* checking if this is a source package ... OK
* checking if there is a namespace ... OK
* checking whether package 'Category' can be installed ... OK
* checking installed package size ... OK
* checking package directory ... OK
* checking for portable file names ... OK
* checking for sufficient/correct file permissions ... OK
* checking DESCRIPTION meta-information ... OK
* checking top-level files ... OK
* checking index information ... OK
* checking package subdirectories ... OK
* checking R files for non-ASCII characters ... OK
* checking R files for syntax errors ... OK
* checking whether the package can be loaded ... OK
* checking whether the package can be loaded with stated dependencies ... OK
* checking whether the package can be unloaded cleanly ... OK
* checking whether the namespace can be loaded with stated dependencies ... OK
* checking whether the namespace can be unloaded cleanly ... OK
* checking for unstated dependencies in R code ... OK
* checking S3 generic/method consistency ... OK
* checking replacement functions ... OK
* checking foreign function calls ... OK
* checking R code for possible problems ... OK
* checking Rd files ... OK
* checking Rd metadata ... OK
* checking Rd cross-references ... OK
* checking for missing documentation entries ... OK
* checking for code/documentation mismatches ... OK
* checking Rd \usage sections ... OK
* checking Rd contents ... OK
* checking for unstated dependencies in examples ... OK
* checking installed files from 'inst/doc' ... OK
* checking examples ... OK
* checking for unstated dependencies in vignettes ... OK
* checking package vignettes in 'inst/doc' ... OK
* checking running R code from vignettes ... SKIPPED
* checking re-building of vignettes ... SKIPPED
* checking PDF version of manual ... OK

Category.Rcheck/00install.out:

* installing *source* package 'Category' ...
** R
** inst
** preparing package for lazy loading
** help
*** installing help indices
** building package indices
** installing vignettes
   'Category.Rnw' 
   'ChromBand.Rnw' 
** testing if installed package can be loaded

* DONE (Category)

Category.Rcheck/Category-Ex.timings:

nameusersystemelapsed
ChrBandTree-class12.669 0.07612.805
ChrMapHyperGParams-class0.0000.0000.001
ChrMapHyperGResult-class0.0000.0000.001
ChrMapLinearMParams-class0.0000.0000.001
ChrMapLinearMResult-class0.0000.0000.001
DatPkg-class0.0560.0080.082
HyperGResult-accessors0.7640.0080.804
LinearMResult-class0.0000.0000.001
MAPAmat8.4600.0248.511
applyByCategory0.0040.0000.003
cateGOryMatrix0.2640.0120.309
cb_parse_band_Hs0.0000.0000.001
cb_parse_band_Mm0.0000.0000.001
findAMstats0.0000.0000.001
getPathNames0.1160.0120.168
gseattperm3.0320.0283.098
makeChrBandGraph7.7530.0247.801
makeEBcontr0.2320.0042.592
probes2MAP0.2000.0000.223
probes2Path0.0600.0000.089
ttperm0.0200.0000.024