ChemmineR 2.8.1 ChemmineR Team
Snapshot Date: 2012-09-23 17:01:39 -0700 (Sun, 23 Sep 2012) | URL: https://hedgehog.fhcrc.org/bioconductor/branches/RELEASE_2_10/madman/Rpacks/ChemmineR | Last Changed Rev: 68184 / Revision: 69725 | Last Changed Date: 2012-08-02 21:29:49 -0700 (Thu, 02 Aug 2012) |
| lamb2 | Linux (openSUSE 11.4) / x86_64 | OK | OK | |
moscato2 | Windows Server 2008 R2 Enterprise SP1 (64-bit) / x64 | OK | OK | [ OK ] |
petty | Mac OS X Leopard (10.5.8) / i386 | OK | OK | OK |
install for i386
* installing *source* package 'ChemmineR' ...
** R
** data
** inst
** preparing package for lazy loading
Creating a generic function for 'plot' from package 'graphics' in package 'ChemmineR'
** help
*** installing help indices
** building package indices
** installing vignettes
'ChemmineR.Rnw'
** testing if installed package can be loaded
install for x64
* installing *source* package 'ChemmineR' ...
** testing if installed package can be loaded
* MD5 sums
packaged installation of 'ChemmineR' as ChemmineR_2.8.1.zip
* DONE (ChemmineR)