Back to the "Multiple platform build/check report" A  B  C [D] E  F  G  H  I  J  K  L  M  N  O  P  Q  R  S  T  U  V  W  X  Y  Z 

Package 147/554HostnameOS / ArchBUILDCHECKBUILD BIN
DESeq 1.8.0
Simon Anders
Snapshot Date: 2012-03-31 17:01:49 -0700 (Sat, 31 Mar 2012)
URL: https://hedgehog.fhcrc.org/bioconductor/branches/RELEASE_2_10/madman/Rpacks/DESeq
Last Changed Rev: 64678 / Revision: 64719
Last Changed Date: 2012-03-30 15:05:02 -0700 (Fri, 30 Mar 2012)
lamb2 Linux (openSUSE 11.4) / x86_64  OK  OK 
puck5 Linux (Ubuntu 12.04) / x86_64  OK [ OK ]
moscato2 Windows Server 2008 R2 Enterprise SP1 (64-bit) / x64  OK  OK  OK 
petty Mac OS X Leopard (10.5.8) / i386  OK  OK  OK 

Summary

Package: DESeq
Version: 1.8.0
Command: /home/hpages/test-puck5/bbs-2.10-bioc/R/bin/R CMD check --no-vignettes --timings DESeq_1.8.0.tar.gz
StartedAt: 2012-04-01 00:35:40 -0700 (Sun, 01 Apr 2012)
EndedAt: 2012-04-01 00:38:18 -0700 (Sun, 01 Apr 2012)
EllapsedTime: 158.0 seconds
RetCode: 0
Status:  OK 
CheckDir: DESeq.Rcheck
Warnings: 0

Command output

* using log directory '/loc/home/hpages/test-puck5/bbs-2.10-bioc/meat/DESeq.Rcheck'
* using R version 2.15.0 RC (2012-03-22 r58802)
* using platform: x86_64-unknown-linux-gnu (64-bit)
* using session charset: ISO8859-1
* using option '--no-vignettes'
* checking for file 'DESeq/DESCRIPTION' ... OK
* this is package 'DESeq' version '1.8.0'
* checking package namespace information ... OK
* checking package dependencies ... OK
* checking if this is a source package ... OK
* checking if there is a namespace ... OK
* checking whether package 'DESeq' can be installed ... OK
* checking installed package size ... OK
* checking package directory ... OK
* checking for portable file names ... OK
* checking for sufficient/correct file permissions ... OK
* checking DESCRIPTION meta-information ... OK
* checking top-level files ... OK
* checking index information ... OK
* checking package subdirectories ... OK
* checking R files for non-ASCII characters ... OK
* checking R files for syntax errors ... OK
* checking whether the package can be loaded ... OK
* checking whether the package can be loaded with stated dependencies ... OK
* checking whether the package can be unloaded cleanly ... OK
* checking whether the namespace can be loaded with stated dependencies ... OK
* checking whether the namespace can be unloaded cleanly ... OK
* checking for unstated dependencies in R code ... OK
* checking S3 generic/method consistency ... OK
* checking replacement functions ... OK
* checking foreign function calls ... OK
* checking R code for possible problems ... OK
* checking Rd files ... OK
* checking Rd metadata ... OK
* checking Rd cross-references ... OK
* checking for missing documentation entries ... OK
* checking for code/documentation mismatches ... OK
* checking Rd \usage sections ... OK
* checking Rd contents ... OK
* checking for unstated dependencies in examples ... OK
* checking line endings in C/C++/Fortran sources/headers ... OK
* checking line endings in Makefiles ... OK
* checking for portable use of $(BLAS_LIBS) and $(LAPACK_LIBS) ... OK
* checking compiled code ... OK
* checking installed files from 'inst/doc' ... OK
* checking examples ... OK
* checking for unstated dependencies in vignettes ... OK
* checking package vignettes in 'inst/doc' ... OK
* checking running R code from vignettes ... SKIPPED
* checking re-building of vignettes ... SKIPPED
* checking PDF version of manual ... OK

DESeq.Rcheck/00install.out:

* installing *source* package 'DESeq' ...
** libs
gcc -std=gnu99 -I/home/hpages/test-puck5/bbs-2.10-bioc/R/include -DNDEBUG  -I/usr/local/include    -fpic  -g -O2  -c pval.c -o pval.o
gcc -std=gnu99 -shared -L/usr/local/lib -o DESeq.so pval.o -L/home/hpages/test-puck5/bbs-2.10-bioc/R/lib -lR
installing to /loc/home/hpages/test-puck5/bbs-2.10-bioc/meat/DESeq.Rcheck/DESeq/libs
** R
** inst
** preparing package for lazy loading
** help
*** installing help indices
** building package indices
** installing vignettes
   'DESeq.Rnw' 
** testing if installed package can be loaded

* DONE (DESeq)

DESeq.Rcheck/DESeq-Ex.timings:

nameusersystemelapsed
CountDataSet-class000
adjustScvForBias0.5640.0040.568
conditions1.7000.0081.709
counts1.6000.0001.602
dispTable2.4640.0002.468
estimateDispersions2.5040.0002.503
estimateSizeFactors1.9160.0001.918
estimateSizeFactorsForMatrix1.7120.0001.714
fitInfo2.4930.0002.497
fitNbinomGLMs000
fitNbinomGLMsForMatrix000
getBaseMeansAndVariances1.9000.0081.909
getVarianceStabilizedData2.9040.0002.906
makeExampleCountDataSet1.5640.0001.564
nbinomGLMTest1.8880.0001.889
nbinomTest16.057 0.00016.062
nbinomTestForMatrices30.274 0.00830.295
newCountDataSet1.6040.0001.606
sizeFactors1.5920.0001.593