Back to the "Multiple platform build/check report" A  B  C [D] E  F  G  H  I  J  K  L  M  N  O  P  Q  R  S  T  U  V  W  X  Y  Z 

Package 148/554HostnameOS / ArchBUILDCHECKBUILD BIN
DEXSeq 1.2.0
Alejandro Reyes
Snapshot Date: 2012-03-31 17:01:49 -0700 (Sat, 31 Mar 2012)
URL: https://hedgehog.fhcrc.org/bioconductor/branches/RELEASE_2_10/madman/Rpacks/DEXSeq
Last Changed Rev: 64678 / Revision: 64719
Last Changed Date: 2012-03-30 15:05:02 -0700 (Fri, 30 Mar 2012)
lamb2 Linux (openSUSE 11.4) / x86_64  OK  OK 
puck5 Linux (Ubuntu 12.04) / x86_64  OK [ OK ]
moscato2 Windows Server 2008 R2 Enterprise SP1 (64-bit) / x64  OK  OK  OK 
petty Mac OS X Leopard (10.5.8) / i386  OK  OK  OK 

Summary

Package: DEXSeq
Version: 1.2.0
Command: /home/hpages/test-puck5/bbs-2.10-bioc/R/bin/R CMD check --no-vignettes --timings DEXSeq_1.2.0.tar.gz
StartedAt: 2012-04-01 00:36:10 -0700 (Sun, 01 Apr 2012)
EndedAt: 2012-04-01 00:37:23 -0700 (Sun, 01 Apr 2012)
EllapsedTime: 72.5 seconds
RetCode: 0
Status:  OK 
CheckDir: DEXSeq.Rcheck
Warnings: 0

Command output

* using log directory '/loc/home/hpages/test-puck5/bbs-2.10-bioc/meat/DEXSeq.Rcheck'
* using R version 2.15.0 RC (2012-03-22 r58802)
* using platform: x86_64-unknown-linux-gnu (64-bit)
* using session charset: ISO8859-1
* using option '--no-vignettes'
* checking for file 'DEXSeq/DESCRIPTION' ... OK
* this is package 'DEXSeq' version '1.2.0'
* checking package namespace information ... OK
* checking package dependencies ... OK
* checking if this is a source package ... OK
* checking if there is a namespace ... OK
* checking whether package 'DEXSeq' can be installed ... OK
* checking installed package size ... OK
* checking package directory ... OK
* checking for portable file names ... OK
* checking for sufficient/correct file permissions ... OK
* checking DESCRIPTION meta-information ... OK
* checking top-level files ... OK
* checking index information ... OK
* checking package subdirectories ... OK
* checking R files for non-ASCII characters ... OK
* checking R files for syntax errors ... OK
* checking whether the package can be loaded ... OK
* checking whether the package can be loaded with stated dependencies ... OK
* checking whether the package can be unloaded cleanly ... OK
* checking whether the namespace can be loaded with stated dependencies ... OK
* checking whether the namespace can be unloaded cleanly ... OK
* checking for unstated dependencies in R code ... OK
* checking S3 generic/method consistency ... OK
* checking replacement functions ... OK
* checking foreign function calls ... OK
* checking R code for possible problems ... OK
* checking Rd files ... OK
* checking Rd metadata ... OK
* checking Rd cross-references ... OK
* checking for missing documentation entries ... OK
* checking for code/documentation mismatches ... OK
* checking Rd \usage sections ... OK
* checking Rd contents ... OK
* checking for unstated dependencies in examples ... OK
* checking installed files from 'inst/doc' ... OK
* checking examples ... OK
* checking for unstated dependencies in vignettes ... OK
* checking package vignettes in 'inst/doc' ... OK
* checking running R code from vignettes ... SKIPPED
* checking re-building of vignettes ... SKIPPED
* checking PDF version of manual ... OK

DEXSeq.Rcheck/00install.out:

* installing *source* package 'DEXSeq' ...
** R
** inst
** preparing package for lazy loading
** help
*** installing help indices
** building package indices
** installing vignettes
   'DEXSeq.Rnw' 
** testing if installed package can be loaded

* DONE (DEXSeq)

DEXSeq.Rcheck/DEXSeq-Ex.timings:

nameusersystemelapsed
DEUresultTable000
DEXSeqHTML000
ExonCountSet-class000
countTableForGene0.1400.0040.146
counts0.0120.0040.021
design0.0200.0040.033
estimateDispersions0.0000.0000.001
estimateExonDispersionsForModelFrame0.2480.0000.252
estimateSizeFactors0.0280.0080.041
estimatelog2FoldChanges0.0000.0000.001
exonIDs0.0240.0000.035
fitDispersionFunction7.1200.0127.140
geneCountTable0.0280.0040.037
geneIDs0.0240.0000.028
makeCompleteDEUAnalysis12.441 0.01212.463
modelFrameForGene0.0200.0040.028
newExonCountSet0.2400.0000.244
plotDEXSeq000
read.HTSeqCounts0.0040.0000.013
sizeFactors0.0320.0040.039
subsetByGenes0.0360.0040.041
testForDEU000
testGeneForDEU6.9200.0086.936