Back to the "Multiple platform build/check report" | A B C [D] E F G H I J K L M N O P Q R S T U V W X Y Z |
Package 159/553 | Hostname | OS / Arch | BUILD | CHECK | BUILD BIN | ||||
DynDoc 1.34.0 Bioconductor Package Maintainer
| lamb2 | Linux (openSUSE 11.4) / x86_64 | OK | OK | |||||
moscato2 | Windows Server 2008 R2 Enterprise SP1 (64-bit) / x64 | [ OK ] | OK | OK | |||||
petty | Mac OS X Leopard (10.5.8) / i386 | OK | OK | OK |
Package: DynDoc |
Version: 1.34.0 |
Command: chmod a+r DynDoc -R && E:\biocbld\bbs-2.10-bioc\R\bin\R.exe CMD build --keep-empty-dirs --no-resave-data DynDoc |
StartedAt: 2012-09-23 21:56:41 -0700 (Sun, 23 Sep 2012) |
EndedAt: 2012-09-23 21:56:46 -0700 (Sun, 23 Sep 2012) |
EllapsedTime: 4.7 seconds |
RetCode: 0 |
Status: OK |
PackageFile: DynDoc_1.34.0.tar.gz |
PackageFileSize: 11.08 KiB |
* checking for file 'DynDoc/DESCRIPTION' ... OK * preparing 'DynDoc': * checking DESCRIPTION meta-information ... OK * checking for LF line-endings in source and make files * checking for empty or unneeded directories * building 'DynDoc_1.34.0.tar.gz'