EBImage 3.12.0 Gregoire Pau
Snapshot Date: 2012-09-23 17:01:39 -0700 (Sun, 23 Sep 2012) | URL: https://hedgehog.fhcrc.org/bioconductor/branches/RELEASE_2_10/madman/Rpacks/EBImage | Last Changed Rev: 64678 / Revision: 69725 | Last Changed Date: 2012-03-30 15:05:02 -0700 (Fri, 30 Mar 2012) |
| lamb2 | Linux (openSUSE 11.4) / x86_64 | OK | OK | |
moscato2 | Windows Server 2008 R2 Enterprise SP1 (64-bit) / x64 | OK | OK | [ OK ] |
petty | Mac OS X Leopard (10.5.8) / i386 | N O T S U P P O R T E D |
install for i386
* installing *source* package 'EBImage' ...
** libs
gcc -I"E:/biocbld/BBS-2~1.10-/R/include" -DNDEBUG -g -O2 -DWIN32 -DUSE_GTK -DGLIB_GETTEXT -mms-bitfields -Ic:/ImageMagick/i386/include -Ic:/gtk/i386/include/gtk-2.0 -Ic:/gtk/i386/lib/gtk-2.0/include -Ic:/gtk/i386/include/atk-1.0 -Ic:/gtk/i386/include/cairo -Ic:/gtk/i386/include/pango-1.0 -Ic:/gtk/i386/include/glib-2.0 -Ic:/gtk/i386/lib/glib-2.0/include -Ic:/gtk/i386/include/libglade-2.0 -Ic:/gtk/i386/include/libxml2 -Ic:/gtk/i386/include -O3 -Wall -std=gnu99 -mtune=core2 -c EBImage.c -o EBImage.o
gcc -I"E:/biocbld/BBS-2~1.10-/R/include" -DNDEBUG -g -O2 -DWIN32 -DUSE_GTK -DGLIB_GETTEXT -mms-bitfields -Ic:/ImageMagick/i386/include -Ic:/gtk/i386/include/gtk-2.0 -Ic:/gtk/i386/lib/gtk-2.0/include -Ic:/gtk/i386/include/atk-1.0 -Ic:/gtk/i386/include/cairo -Ic:/gtk/i386/include/pango-1.0 -Ic:/gtk/i386/include/glib-2.0 -Ic:/gtk/i386/lib/glib-2.0/include -Ic:/gtk/i386/include/libglade-2.0 -Ic:/gtk/i386/include/libxml2 -Ic:/gtk/i386/include -O3 -Wall -std=gnu99 -mtune=core2 -c conversions.c -o conversions.o
conversions.c: In function 'sexp2Magick':
conversions.c:16:17: warning: variable 'nc' set but not used [-Wunused-but-set-variable]
conversions.c: In function 'magick2SEXP':
conversions.c:135:17: warning: 'DispatchImage' is deprecated (declared at c:/ImageMagick/i386/include/magick/deprecate.h:278) [-Wdeprecated-declarations]
conversions.c:137:17: warning: 'DispatchImage' is deprecated (declared at c:/ImageMagick/i386/include/magick/deprecate.h:278) [-Wdeprecated-declarations]
conversions.c:139:17: warning: 'DispatchImage' is deprecated (declared at c:/ImageMagick/i386/include/magick/deprecate.h:278) [-Wdeprecated-declarations]
conversions.c:144:17: warning: 'DispatchImage' is deprecated (declared at c:/ImageMagick/i386/include/magick/deprecate.h:278) [-Wdeprecated-declarations]
gcc -I"E:/biocbld/BBS-2~1.10-/R/include" -DNDEBUG -g -O2 -DWIN32 -DUSE_GTK -DGLIB_GETTEXT -mms-bitfields -Ic:/ImageMagick/i386/include -Ic:/gtk/i386/include/gtk-2.0 -Ic:/gtk/i386/lib/gtk-2.0/include -Ic:/gtk/i386/include/atk-1.0 -Ic:/gtk/i386/include/cairo -Ic:/gtk/i386/include/pango-1.0 -Ic:/gtk/i386/include/glib-2.0 -Ic:/gtk/i386/lib/glib-2.0/include -Ic:/gtk/i386/include/libglade-2.0 -Ic:/gtk/i386/include/libxml2 -Ic:/gtk/i386/include -O3 -Wall -std=gnu99 -mtune=core2 -c display.c -o display.o
display.c: In function 'newPixbufFromSEXP':
display.c:414:7: warning: variable 'colorMode' set but not used [-Wunused-but-set-variable]
gcc -I"E:/biocbld/BBS-2~1.10-/R/include" -DNDEBUG -g -O2 -DWIN32 -DUSE_GTK -DGLIB_GETTEXT -mms-bitfields -Ic:/ImageMagick/i386/include -Ic:/gtk/i386/include/gtk-2.0 -Ic:/gtk/i386/lib/gtk-2.0/include -Ic:/gtk/i386/include/atk-1.0 -Ic:/gtk/i386/include/cairo -Ic:/gtk/i386/include/pango-1.0 -Ic:/gtk/i386/include/glib-2.0 -Ic:/gtk/i386/lib/glib-2.0/include -Ic:/gtk/i386/include/libglade-2.0 -Ic:/gtk/i386/include/libxml2 -Ic:/gtk/i386/include -O3 -Wall -std=gnu99 -mtune=core2 -c distmap.c -o distmap.o
gcc -I"E:/biocbld/BBS-2~1.10-/R/include" -DNDEBUG -g -O2 -DWIN32 -DUSE_GTK -DGLIB_GETTEXT -mms-bitfields -Ic:/ImageMagick/i386/include -Ic:/gtk/i386/include/gtk-2.0 -Ic:/gtk/i386/lib/gtk-2.0/include -Ic:/gtk/i386/include/atk-1.0 -Ic:/gtk/i386/include/cairo -Ic:/gtk/i386/include/pango-1.0 -Ic:/gtk/i386/include/glib-2.0 -Ic:/gtk/i386/lib/glib-2.0/include -Ic:/gtk/i386/include/libglade-2.0 -Ic:/gtk/i386/include/libxml2 -Ic:/gtk/i386/include -O3 -Wall -std=gnu99 -mtune=core2 -c drawable.c -o drawable.o
gcc -I"E:/biocbld/BBS-2~1.10-/R/include" -DNDEBUG -g -O2 -DWIN32 -DUSE_GTK -DGLIB_GETTEXT -mms-bitfields -Ic:/ImageMagick/i386/include -Ic:/gtk/i386/include/gtk-2.0 -Ic:/gtk/i386/lib/gtk-2.0/include -Ic:/gtk/i386/include/atk-1.0 -Ic:/gtk/i386/include/cairo -Ic:/gtk/i386/include/pango-1.0 -Ic:/gtk/i386/include/glib-2.0 -Ic:/gtk/i386/lib/glib-2.0/include -Ic:/gtk/i386/include/libglade-2.0 -Ic:/gtk/i386/include/libxml2 -Ic:/gtk/i386/include -O3 -Wall -std=gnu99 -mtune=core2 -c features_haralick.c -o features_haralick.o
gcc -I"E:/biocbld/BBS-2~1.10-/R/include" -DNDEBUG -g -O2 -DWIN32 -DUSE_GTK -DGLIB_GETTEXT -mms-bitfields -Ic:/ImageMagick/i386/include -Ic:/gtk/i386/include/gtk-2.0 -Ic:/gtk/i386/lib/gtk-2.0/include -Ic:/gtk/i386/include/atk-1.0 -Ic:/gtk/i386/include/cairo -Ic:/gtk/i386/include/pango-1.0 -Ic:/gtk/i386/include/glib-2.0 -Ic:/gtk/i386/lib/glib-2.0/include -Ic:/gtk/i386/include/libglade-2.0 -Ic:/gtk/i386/include/libxml2 -Ic:/gtk/i386/include -O3 -Wall -std=gnu99 -mtune=core2 -c features_hull.c -o features_hull.o
gcc -I"E:/biocbld/BBS-2~1.10-/R/include" -DNDEBUG -g -O2 -DWIN32 -DUSE_GTK -DGLIB_GETTEXT -mms-bitfields -Ic:/ImageMagick/i386/include -Ic:/gtk/i386/include/gtk-2.0 -Ic:/gtk/i386/lib/gtk-2.0/include -Ic:/gtk/i386/include/atk-1.0 -Ic:/gtk/i386/include/cairo -Ic:/gtk/i386/include/pango-1.0 -Ic:/gtk/i386/include/glib-2.0 -Ic:/gtk/i386/lib/glib-2.0/include -Ic:/gtk/i386/include/libglade-2.0 -Ic:/gtk/i386/include/libxml2 -Ic:/gtk/i386/include -O3 -Wall -std=gnu99 -mtune=core2 -c features_moments.c -o features_moments.o
gcc -I"E:/biocbld/BBS-2~1.10-/R/include" -DNDEBUG -g -O2 -DWIN32 -DUSE_GTK -DGLIB_GETTEXT -mms-bitfields -Ic:/ImageMagick/i386/include -Ic:/gtk/i386/include/gtk-2.0 -Ic:/gtk/i386/lib/gtk-2.0/include -Ic:/gtk/i386/include/atk-1.0 -Ic:/gtk/i386/include/cairo -Ic:/gtk/i386/include/pango-1.0 -Ic:/gtk/i386/include/glib-2.0 -Ic:/gtk/i386/lib/glib-2.0/include -Ic:/gtk/i386/include/libglade-2.0 -Ic:/gtk/i386/include/libxml2 -Ic:/gtk/i386/include -O3 -Wall -std=gnu99 -mtune=core2 -c features_zernike.c -o features_zernike.o
features_zernike.c: In function 'zernike':
features_zernike.c:45:10: warning: variable 'r2To2sigma2' set but not used [-Wunused-but-set-variable]
gcc -I"E:/biocbld/BBS-2~1.10-/R/include" -DNDEBUG -g -O2 -DWIN32 -DUSE_GTK -DGLIB_GETTEXT -mms-bitfields -Ic:/ImageMagick/i386/include -Ic:/gtk/i386/include/gtk-2.0 -Ic:/gtk/i386/lib/gtk-2.0/include -Ic:/gtk/i386/include/atk-1.0 -Ic:/gtk/i386/include/cairo -Ic:/gtk/i386/include/pango-1.0 -Ic:/gtk/i386/include/glib-2.0 -Ic:/gtk/i386/lib/glib-2.0/include -Ic:/gtk/i386/include/libglade-2.0 -Ic:/gtk/i386/include/libxml2 -Ic:/gtk/i386/include -O3 -Wall -std=gnu99 -mtune=core2 -c filters_magick.c -o filters_magick.o
filters_magick.c: In function 'lib_filterMagick':
filters_magick.c:35:9: warning: variable 'npar' set but not used [-Wunused-but-set-variable]
g++ -I"E:/biocbld/BBS-2~1.10-/R/include" -DNDEBUG -g -O2 -DWIN32 -DUSE_GTK -DGLIB_GETTEXT -mms-bitfields -Ic:/ImageMagick/i386/include -Ic:/gtk/i386/include/gtk-2.0 -Ic:/gtk/i386/lib/gtk-2.0/include -Ic:/gtk/i386/include/atk-1.0 -Ic:/gtk/i386/include/cairo -Ic:/gtk/i386/include/pango-1.0 -Ic:/gtk/i386/include/glib-2.0 -Ic:/gtk/i386/lib/glib-2.0/include -Ic:/gtk/i386/include/libglade-2.0 -Ic:/gtk/i386/include/libxml2 -Ic:/gtk/i386/include -O2 -Wall -mtune=core2 -c floodFill.cpp -o floodFill.o
gcc -I"E:/biocbld/BBS-2~1.10-/R/include" -DNDEBUG -g -O2 -DWIN32 -DUSE_GTK -DGLIB_GETTEXT -mms-bitfields -Ic:/ImageMagick/i386/include -Ic:/gtk/i386/include/gtk-2.0 -Ic:/gtk/i386/lib/gtk-2.0/include -Ic:/gtk/i386/include/atk-1.0 -Ic:/gtk/i386/include/cairo -Ic:/gtk/i386/include/pango-1.0 -Ic:/gtk/i386/include/glib-2.0 -Ic:/gtk/i386/lib/glib-2.0/include -Ic:/gtk/i386/include/libglade-2.0 -Ic:/gtk/i386/include/libxml2 -Ic:/gtk/i386/include -O3 -Wall -std=gnu99 -mtune=core2 -c io.c -o io.o
io.c: In function 'readCellomics':
io.c:249:41: warning: variable 'compression' set but not used [-Wunused-but-set-variable]
gcc -I"E:/biocbld/BBS-2~1.10-/R/include" -DNDEBUG -g -O2 -DWIN32 -DUSE_GTK -DGLIB_GETTEXT -mms-bitfields -Ic:/ImageMagick/i386/include -Ic:/gtk/i386/include/gtk-2.0 -Ic:/gtk/i386/lib/gtk-2.0/include -Ic:/gtk/i386/include/atk-1.0 -Ic:/gtk/i386/include/cairo -Ic:/gtk/i386/include/pango-1.0 -Ic:/gtk/i386/include/glib-2.0 -Ic:/gtk/i386/lib/glib-2.0/include -Ic:/gtk/i386/include/libglade-2.0 -Ic:/gtk/i386/include/libxml2 -Ic:/gtk/i386/include -O3 -Wall -std=gnu99 -mtune=core2 -c morphology.c -o morphology.o
gcc -I"E:/biocbld/BBS-2~1.10-/R/include" -DNDEBUG -g -O2 -DWIN32 -DUSE_GTK -DGLIB_GETTEXT -mms-bitfields -Ic:/ImageMagick/i386/include -Ic:/gtk/i386/include/gtk-2.0 -Ic:/gtk/i386/lib/gtk-2.0/include -Ic:/gtk/i386/include/atk-1.0 -Ic:/gtk/i386/include/cairo -Ic:/gtk/i386/include/pango-1.0 -Ic:/gtk/i386/include/glib-2.0 -Ic:/gtk/i386/lib/glib-2.0/include -Ic:/gtk/i386/include/libglade-2.0 -Ic:/gtk/i386/include/libxml2 -Ic:/gtk/i386/include -O3 -Wall -std=gnu99 -mtune=core2 -c normalize.c -o normalize.o
gcc -I"E:/biocbld/BBS-2~1.10-/R/include" -DNDEBUG -g -O2 -DWIN32 -DUSE_GTK -DGLIB_GETTEXT -mms-bitfields -Ic:/ImageMagick/i386/include -Ic:/gtk/i386/include/gtk-2.0 -Ic:/gtk/i386/lib/gtk-2.0/include -Ic:/gtk/i386/include/atk-1.0 -Ic:/gtk/i386/include/cairo -Ic:/gtk/i386/include/pango-1.0 -Ic:/gtk/i386/include/glib-2.0 -Ic:/gtk/i386/lib/glib-2.0/include -Ic:/gtk/i386/include/libglade-2.0 -Ic:/gtk/i386/include/libxml2 -Ic:/gtk/i386/include -O3 -Wall -std=gnu99 -mtune=core2 -c objects.c -o objects.o
gcc -I"E:/biocbld/BBS-2~1.10-/R/include" -DNDEBUG -g -O2 -DWIN32 -DUSE_GTK -DGLIB_GETTEXT -mms-bitfields -Ic:/ImageMagick/i386/include -Ic:/gtk/i386/include/gtk-2.0 -Ic:/gtk/i386/lib/gtk-2.0/include -Ic:/gtk/i386/include/atk-1.0 -Ic:/gtk/i386/include/cairo -Ic:/gtk/i386/include/pango-1.0 -Ic:/gtk/i386/include/glib-2.0 -Ic:/gtk/i386/lib/glib-2.0/include -Ic:/gtk/i386/include/libglade-2.0 -Ic:/gtk/i386/include/libxml2 -Ic:/gtk/i386/include -O3 -Wall -std=gnu99 -mtune=core2 -c ocontour.c -o ocontour.o
g++ -I"E:/biocbld/BBS-2~1.10-/R/include" -DNDEBUG -g -O2 -DWIN32 -DUSE_GTK -DGLIB_GETTEXT -mms-bitfields -Ic:/ImageMagick/i386/include -Ic:/gtk/i386/include/gtk-2.0 -Ic:/gtk/i386/lib/gtk-2.0/include -Ic:/gtk/i386/include/atk-1.0 -Ic:/gtk/i386/include/cairo -Ic:/gtk/i386/include/pango-1.0 -Ic:/gtk/i386/include/glib-2.0 -Ic:/gtk/i386/lib/glib-2.0/include -Ic:/gtk/i386/include/libglade-2.0 -Ic:/gtk/i386/include/libxml2 -Ic:/gtk/i386/include -O2 -Wall -mtune=core2 -c propagate.cpp -o propagate.o
gcc -I"E:/biocbld/BBS-2~1.10-/R/include" -DNDEBUG -g -O2 -DWIN32 -DUSE_GTK -DGLIB_GETTEXT -mms-bitfields -Ic:/ImageMagick/i386/include -Ic:/gtk/i386/include/gtk-2.0 -Ic:/gtk/i386/lib/gtk-2.0/include -Ic:/gtk/i386/include/atk-1.0 -Ic:/gtk/i386/include/cairo -Ic:/gtk/i386/include/pango-1.0 -Ic:/gtk/i386/include/glib-2.0 -Ic:/gtk/i386/lib/glib-2.0/include -Ic:/gtk/i386/include/libglade-2.0 -Ic:/gtk/i386/include/libxml2 -Ic:/gtk/i386/include -O3 -Wall -std=gnu99 -mtune=core2 -c thresh.c -o thresh.o
gcc -I"E:/biocbld/BBS-2~1.10-/R/include" -DNDEBUG -g -O2 -DWIN32 -DUSE_GTK -DGLIB_GETTEXT -mms-bitfields -Ic:/ImageMagick/i386/include -Ic:/gtk/i386/include/gtk-2.0 -Ic:/gtk/i386/lib/gtk-2.0/include -Ic:/gtk/i386/include/atk-1.0 -Ic:/gtk/i386/include/cairo -Ic:/gtk/i386/include/pango-1.0 -Ic:/gtk/i386/include/glib-2.0 -Ic:/gtk/i386/lib/glib-2.0/include -Ic:/gtk/i386/include/libglade-2.0 -Ic:/gtk/i386/include/libxml2 -Ic:/gtk/i386/include -O3 -Wall -std=gnu99 -mtune=core2 -c tile.c -o tile.o
tile.c: In function 'tile':
tile.c:22:51: warning: variable 'iim' set but not used [-Wunused-but-set-variable]
tile.c:22:34: warning: variable 'ibg' set but not used [-Wunused-but-set-variable]
tile.c: In function 'untile':
tile.c:130:37: warning: unused variable 'id' [-Wunused-variable]
gcc -I"E:/biocbld/BBS-2~1.10-/R/include" -DNDEBUG -g -O2 -DWIN32 -DUSE_GTK -DGLIB_GETTEXT -mms-bitfields -Ic:/ImageMagick/i386/include -Ic:/gtk/i386/include/gtk-2.0 -Ic:/gtk/i386/lib/gtk-2.0/include -Ic:/gtk/i386/include/atk-1.0 -Ic:/gtk/i386/include/cairo -Ic:/gtk/i386/include/pango-1.0 -Ic:/gtk/i386/include/glib-2.0 -Ic:/gtk/i386/lib/glib-2.0/include -Ic:/gtk/i386/include/libglade-2.0 -Ic:/gtk/i386/include/libxml2 -Ic:/gtk/i386/include -O3 -Wall -std=gnu99 -mtune=core2 -c tools.c -o tools.o
tools.c: In function 'validImage':
tools.c:52:11: warning: variable 'dp' set but not used [-Wunused-but-set-variable]
gcc -I"E:/biocbld/BBS-2~1.10-/R/include" -DNDEBUG -g -O2 -DWIN32 -DUSE_GTK -DGLIB_GETTEXT -mms-bitfields -Ic:/ImageMagick/i386/include -Ic:/gtk/i386/include/gtk-2.0 -Ic:/gtk/i386/lib/gtk-2.0/include -Ic:/gtk/i386/include/atk-1.0 -Ic:/gtk/i386/include/cairo -Ic:/gtk/i386/include/pango-1.0 -Ic:/gtk/i386/include/glib-2.0 -Ic:/gtk/i386/lib/glib-2.0/include -Ic:/gtk/i386/include/libglade-2.0 -Ic:/gtk/i386/include/libxml2 -Ic:/gtk/i386/include -O3 -Wall -std=gnu99 -mtune=core2 -c translate.c -o translate.o
g++ -I"E:/biocbld/BBS-2~1.10-/R/include" -DNDEBUG -g -O2 -DWIN32 -DUSE_GTK -DGLIB_GETTEXT -mms-bitfields -Ic:/ImageMagick/i386/include -Ic:/gtk/i386/include/gtk-2.0 -Ic:/gtk/i386/lib/gtk-2.0/include -Ic:/gtk/i386/include/atk-1.0 -Ic:/gtk/i386/include/cairo -Ic:/gtk/i386/include/pango-1.0 -Ic:/gtk/i386/include/glib-2.0 -Ic:/gtk/i386/lib/glib-2.0/include -Ic:/gtk/i386/include/libglade-2.0 -Ic:/gtk/i386/include/libxml2 -Ic:/gtk/i386/include -O2 -Wall -mtune=core2 -c watershed.cpp -o watershed.o
g++ -shared -s -static-libgcc -o EBImage.dll tmp.def EBImage.o conversions.o display.o distmap.o drawable.o features_haralick.o features_hull.o features_moments.o features_zernike.o filters_magick.o floodFill.o io.o morphology.o normalize.o objects.o ocontour.o propagate.o thresh.o tile.o tools.o translate.o watershed.o -shared -Lc:/ImageMagick/i386 -lCORE_RL_magick_ -lCORE_RL_wand_ -Lc:/gtk/i386/lib -lgtk-win32-2.0 -lzdll -lgdk-win32-2.0 -latk-1.0 -lgdk_pixbuf-2.0 -lpangowin32-1.0 -lpangocairo-1.0 -lpango-1.0 -lcairo -lgobject-2.0 -lgmodule-2.0 -lglib-2.0 -lintl -lgdi32 -LE:/biocbld/BBS-2~1.10-/R/bin/i386 -lR
installing to E:/biocbld/bbs-2.10-bioc/meat/EBImage.buildbin-libdir/EBImage/libs/i386
** R
** inst
** preparing package for lazy loading
** help
*** installing help indices
** building package indices
** installing vignettes
'EBImage-installation.Rnw'
'EBImage-introduction.Rnw'
** testing if installed package can be loaded
install for x64
* installing *source* package 'EBImage' ...
** libs
gcc -m64 -I"E:/biocbld/BBS-2~1.10-/R/include" -DNDEBUG -I"d:/RCompile/CRANpkg/extralibs64/local/include" -g -O2 -DWIN32 -DUSE_GTK -DGLIB_GETTEXT -mms-bitfields -Ic:/ImageMagick/x64/include -Ic:/gtk/x64/include/gtk-2.0 -Ic:/gtk/x64/lib/gtk-2.0/include -Ic:/gtk/x64/include/atk-1.0 -Ic:/gtk/x64/include/cairo -Ic:/gtk/x64/include/pango-1.0 -Ic:/gtk/x64/include/glib-2.0 -Ic:/gtk/x64/lib/glib-2.0/include -Ic:/gtk/x64/include/libglade-2.0 -Ic:/gtk/x64/include/libxml2 -Ic:/gtk/x64/include -O2 -Wall -std=gnu99 -mtune=core2 -c EBImage.c -o EBImage.o
gcc -m64 -I"E:/biocbld/BBS-2~1.10-/R/include" -DNDEBUG -I"d:/RCompile/CRANpkg/extralibs64/local/include" -g -O2 -DWIN32 -DUSE_GTK -DGLIB_GETTEXT -mms-bitfields -Ic:/ImageMagick/x64/include -Ic:/gtk/x64/include/gtk-2.0 -Ic:/gtk/x64/lib/gtk-2.0/include -Ic:/gtk/x64/include/atk-1.0 -Ic:/gtk/x64/include/cairo -Ic:/gtk/x64/include/pango-1.0 -Ic:/gtk/x64/include/glib-2.0 -Ic:/gtk/x64/lib/glib-2.0/include -Ic:/gtk/x64/include/libglade-2.0 -Ic:/gtk/x64/include/libxml2 -Ic:/gtk/x64/include -O2 -Wall -std=gnu99 -mtune=core2 -c conversions.c -o conversions.o
conversions.c: In function 'sexp2Magick':
conversions.c:16:17: warning: variable 'nc' set but not used [-Wunused-but-set-variable]
conversions.c: In function 'magick2SEXP':
conversions.c:135:17: warning: 'DispatchImage' is deprecated (declared at c:/ImageMagick/x64/include/magick/deprecate.h:278) [-Wdeprecated-declarations]
conversions.c:137:17: warning: 'DispatchImage' is deprecated (declared at c:/ImageMagick/x64/include/magick/deprecate.h:278) [-Wdeprecated-declarations]
conversions.c:139:17: warning: 'DispatchImage' is deprecated (declared at c:/ImageMagick/x64/include/magick/deprecate.h:278) [-Wdeprecated-declarations]
conversions.c:144:17: warning: 'DispatchImage' is deprecated (declared at c:/ImageMagick/x64/include/magick/deprecate.h:278) [-Wdeprecated-declarations]
gcc -m64 -I"E:/biocbld/BBS-2~1.10-/R/include" -DNDEBUG -I"d:/RCompile/CRANpkg/extralibs64/local/include" -g -O2 -DWIN32 -DUSE_GTK -DGLIB_GETTEXT -mms-bitfields -Ic:/ImageMagick/x64/include -Ic:/gtk/x64/include/gtk-2.0 -Ic:/gtk/x64/lib/gtk-2.0/include -Ic:/gtk/x64/include/atk-1.0 -Ic:/gtk/x64/include/cairo -Ic:/gtk/x64/include/pango-1.0 -Ic:/gtk/x64/include/glib-2.0 -Ic:/gtk/x64/lib/glib-2.0/include -Ic:/gtk/x64/include/libglade-2.0 -Ic:/gtk/x64/include/libxml2 -Ic:/gtk/x64/include -O2 -Wall -std=gnu99 -mtune=core2 -c display.c -o display.o
display.c: In function 'newPixbufFromSEXP':
display.c:414:7: warning: variable 'colorMode' set but not used [-Wunused-but-set-variable]
gcc -m64 -I"E:/biocbld/BBS-2~1.10-/R/include" -DNDEBUG -I"d:/RCompile/CRANpkg/extralibs64/local/include" -g -O2 -DWIN32 -DUSE_GTK -DGLIB_GETTEXT -mms-bitfields -Ic:/ImageMagick/x64/include -Ic:/gtk/x64/include/gtk-2.0 -Ic:/gtk/x64/lib/gtk-2.0/include -Ic:/gtk/x64/include/atk-1.0 -Ic:/gtk/x64/include/cairo -Ic:/gtk/x64/include/pango-1.0 -Ic:/gtk/x64/include/glib-2.0 -Ic:/gtk/x64/lib/glib-2.0/include -Ic:/gtk/x64/include/libglade-2.0 -Ic:/gtk/x64/include/libxml2 -Ic:/gtk/x64/include -O2 -Wall -std=gnu99 -mtune=core2 -c distmap.c -o distmap.o
gcc -m64 -I"E:/biocbld/BBS-2~1.10-/R/include" -DNDEBUG -I"d:/RCompile/CRANpkg/extralibs64/local/include" -g -O2 -DWIN32 -DUSE_GTK -DGLIB_GETTEXT -mms-bitfields -Ic:/ImageMagick/x64/include -Ic:/gtk/x64/include/gtk-2.0 -Ic:/gtk/x64/lib/gtk-2.0/include -Ic:/gtk/x64/include/atk-1.0 -Ic:/gtk/x64/include/cairo -Ic:/gtk/x64/include/pango-1.0 -Ic:/gtk/x64/include/glib-2.0 -Ic:/gtk/x64/lib/glib-2.0/include -Ic:/gtk/x64/include/libglade-2.0 -Ic:/gtk/x64/include/libxml2 -Ic:/gtk/x64/include -O2 -Wall -std=gnu99 -mtune=core2 -c drawable.c -o drawable.o
gcc -m64 -I"E:/biocbld/BBS-2~1.10-/R/include" -DNDEBUG -I"d:/RCompile/CRANpkg/extralibs64/local/include" -g -O2 -DWIN32 -DUSE_GTK -DGLIB_GETTEXT -mms-bitfields -Ic:/ImageMagick/x64/include -Ic:/gtk/x64/include/gtk-2.0 -Ic:/gtk/x64/lib/gtk-2.0/include -Ic:/gtk/x64/include/atk-1.0 -Ic:/gtk/x64/include/cairo -Ic:/gtk/x64/include/pango-1.0 -Ic:/gtk/x64/include/glib-2.0 -Ic:/gtk/x64/lib/glib-2.0/include -Ic:/gtk/x64/include/libglade-2.0 -Ic:/gtk/x64/include/libxml2 -Ic:/gtk/x64/include -O2 -Wall -std=gnu99 -mtune=core2 -c features_haralick.c -o features_haralick.o
gcc -m64 -I"E:/biocbld/BBS-2~1.10-/R/include" -DNDEBUG -I"d:/RCompile/CRANpkg/extralibs64/local/include" -g -O2 -DWIN32 -DUSE_GTK -DGLIB_GETTEXT -mms-bitfields -Ic:/ImageMagick/x64/include -Ic:/gtk/x64/include/gtk-2.0 -Ic:/gtk/x64/lib/gtk-2.0/include -Ic:/gtk/x64/include/atk-1.0 -Ic:/gtk/x64/include/cairo -Ic:/gtk/x64/include/pango-1.0 -Ic:/gtk/x64/include/glib-2.0 -Ic:/gtk/x64/lib/glib-2.0/include -Ic:/gtk/x64/include/libglade-2.0 -Ic:/gtk/x64/include/libxml2 -Ic:/gtk/x64/include -O2 -Wall -std=gnu99 -mtune=core2 -c features_hull.c -o features_hull.o
gcc -m64 -I"E:/biocbld/BBS-2~1.10-/R/include" -DNDEBUG -I"d:/RCompile/CRANpkg/extralibs64/local/include" -g -O2 -DWIN32 -DUSE_GTK -DGLIB_GETTEXT -mms-bitfields -Ic:/ImageMagick/x64/include -Ic:/gtk/x64/include/gtk-2.0 -Ic:/gtk/x64/lib/gtk-2.0/include -Ic:/gtk/x64/include/atk-1.0 -Ic:/gtk/x64/include/cairo -Ic:/gtk/x64/include/pango-1.0 -Ic:/gtk/x64/include/glib-2.0 -Ic:/gtk/x64/lib/glib-2.0/include -Ic:/gtk/x64/include/libglade-2.0 -Ic:/gtk/x64/include/libxml2 -Ic:/gtk/x64/include -O2 -Wall -std=gnu99 -mtune=core2 -c features_moments.c -o features_moments.o
gcc -m64 -I"E:/biocbld/BBS-2~1.10-/R/include" -DNDEBUG -I"d:/RCompile/CRANpkg/extralibs64/local/include" -g -O2 -DWIN32 -DUSE_GTK -DGLIB_GETTEXT -mms-bitfields -Ic:/ImageMagick/x64/include -Ic:/gtk/x64/include/gtk-2.0 -Ic:/gtk/x64/lib/gtk-2.0/include -Ic:/gtk/x64/include/atk-1.0 -Ic:/gtk/x64/include/cairo -Ic:/gtk/x64/include/pango-1.0 -Ic:/gtk/x64/include/glib-2.0 -Ic:/gtk/x64/lib/glib-2.0/include -Ic:/gtk/x64/include/libglade-2.0 -Ic:/gtk/x64/include/libxml2 -Ic:/gtk/x64/include -O2 -Wall -std=gnu99 -mtune=core2 -c features_zernike.c -o features_zernike.o
features_zernike.c: In function 'zernike':
features_zernike.c:45:10: warning: variable 'r2To2sigma2' set but not used [-Wunused-but-set-variable]
gcc -m64 -I"E:/biocbld/BBS-2~1.10-/R/include" -DNDEBUG -I"d:/RCompile/CRANpkg/extralibs64/local/include" -g -O2 -DWIN32 -DUSE_GTK -DGLIB_GETTEXT -mms-bitfields -Ic:/ImageMagick/x64/include -Ic:/gtk/x64/include/gtk-2.0 -Ic:/gtk/x64/lib/gtk-2.0/include -Ic:/gtk/x64/include/atk-1.0 -Ic:/gtk/x64/include/cairo -Ic:/gtk/x64/include/pango-1.0 -Ic:/gtk/x64/include/glib-2.0 -Ic:/gtk/x64/lib/glib-2.0/include -Ic:/gtk/x64/include/libglade-2.0 -Ic:/gtk/x64/include/libxml2 -Ic:/gtk/x64/include -O2 -Wall -std=gnu99 -mtune=core2 -c filters_magick.c -o filters_magick.o
filters_magick.c: In function 'lib_filterMagick':
filters_magick.c:35:9: warning: variable 'npar' set but not used [-Wunused-but-set-variable]
g++ -m64 -I"E:/biocbld/BBS-2~1.10-/R/include" -DNDEBUG -I"d:/RCompile/CRANpkg/extralibs64/local/include" -g -O2 -DWIN32 -DUSE_GTK -DGLIB_GETTEXT -mms-bitfields -Ic:/ImageMagick/x64/include -Ic:/gtk/x64/include/gtk-2.0 -Ic:/gtk/x64/lib/gtk-2.0/include -Ic:/gtk/x64/include/atk-1.0 -Ic:/gtk/x64/include/cairo -Ic:/gtk/x64/include/pango-1.0 -Ic:/gtk/x64/include/glib-2.0 -Ic:/gtk/x64/lib/glib-2.0/include -Ic:/gtk/x64/include/libglade-2.0 -Ic:/gtk/x64/include/libxml2 -Ic:/gtk/x64/include -O2 -Wall -mtune=core2 -c floodFill.cpp -o floodFill.o
gcc -m64 -I"E:/biocbld/BBS-2~1.10-/R/include" -DNDEBUG -I"d:/RCompile/CRANpkg/extralibs64/local/include" -g -O2 -DWIN32 -DUSE_GTK -DGLIB_GETTEXT -mms-bitfields -Ic:/ImageMagick/x64/include -Ic:/gtk/x64/include/gtk-2.0 -Ic:/gtk/x64/lib/gtk-2.0/include -Ic:/gtk/x64/include/atk-1.0 -Ic:/gtk/x64/include/cairo -Ic:/gtk/x64/include/pango-1.0 -Ic:/gtk/x64/include/glib-2.0 -Ic:/gtk/x64/lib/glib-2.0/include -Ic:/gtk/x64/include/libglade-2.0 -Ic:/gtk/x64/include/libxml2 -Ic:/gtk/x64/include -O2 -Wall -std=gnu99 -mtune=core2 -c io.c -o io.o
io.c: In function 'readCellomics':
io.c:249:41: warning: variable 'compression' set but not used [-Wunused-but-set-variable]
gcc -m64 -I"E:/biocbld/BBS-2~1.10-/R/include" -DNDEBUG -I"d:/RCompile/CRANpkg/extralibs64/local/include" -g -O2 -DWIN32 -DUSE_GTK -DGLIB_GETTEXT -mms-bitfields -Ic:/ImageMagick/x64/include -Ic:/gtk/x64/include/gtk-2.0 -Ic:/gtk/x64/lib/gtk-2.0/include -Ic:/gtk/x64/include/atk-1.0 -Ic:/gtk/x64/include/cairo -Ic:/gtk/x64/include/pango-1.0 -Ic:/gtk/x64/include/glib-2.0 -Ic:/gtk/x64/lib/glib-2.0/include -Ic:/gtk/x64/include/libglade-2.0 -Ic:/gtk/x64/include/libxml2 -Ic:/gtk/x64/include -O2 -Wall -std=gnu99 -mtune=core2 -c morphology.c -o morphology.o
gcc -m64 -I"E:/biocbld/BBS-2~1.10-/R/include" -DNDEBUG -I"d:/RCompile/CRANpkg/extralibs64/local/include" -g -O2 -DWIN32 -DUSE_GTK -DGLIB_GETTEXT -mms-bitfields -Ic:/ImageMagick/x64/include -Ic:/gtk/x64/include/gtk-2.0 -Ic:/gtk/x64/lib/gtk-2.0/include -Ic:/gtk/x64/include/atk-1.0 -Ic:/gtk/x64/include/cairo -Ic:/gtk/x64/include/pango-1.0 -Ic:/gtk/x64/include/glib-2.0 -Ic:/gtk/x64/lib/glib-2.0/include -Ic:/gtk/x64/include/libglade-2.0 -Ic:/gtk/x64/include/libxml2 -Ic:/gtk/x64/include -O2 -Wall -std=gnu99 -mtune=core2 -c normalize.c -o normalize.o
gcc -m64 -I"E:/biocbld/BBS-2~1.10-/R/include" -DNDEBUG -I"d:/RCompile/CRANpkg/extralibs64/local/include" -g -O2 -DWIN32 -DUSE_GTK -DGLIB_GETTEXT -mms-bitfields -Ic:/ImageMagick/x64/include -Ic:/gtk/x64/include/gtk-2.0 -Ic:/gtk/x64/lib/gtk-2.0/include -Ic:/gtk/x64/include/atk-1.0 -Ic:/gtk/x64/include/cairo -Ic:/gtk/x64/include/pango-1.0 -Ic:/gtk/x64/include/glib-2.0 -Ic:/gtk/x64/lib/glib-2.0/include -Ic:/gtk/x64/include/libglade-2.0 -Ic:/gtk/x64/include/libxml2 -Ic:/gtk/x64/include -O2 -Wall -std=gnu99 -mtune=core2 -c objects.c -o objects.o
gcc -m64 -I"E:/biocbld/BBS-2~1.10-/R/include" -DNDEBUG -I"d:/RCompile/CRANpkg/extralibs64/local/include" -g -O2 -DWIN32 -DUSE_GTK -DGLIB_GETTEXT -mms-bitfields -Ic:/ImageMagick/x64/include -Ic:/gtk/x64/include/gtk-2.0 -Ic:/gtk/x64/lib/gtk-2.0/include -Ic:/gtk/x64/include/atk-1.0 -Ic:/gtk/x64/include/cairo -Ic:/gtk/x64/include/pango-1.0 -Ic:/gtk/x64/include/glib-2.0 -Ic:/gtk/x64/lib/glib-2.0/include -Ic:/gtk/x64/include/libglade-2.0 -Ic:/gtk/x64/include/libxml2 -Ic:/gtk/x64/include -O2 -Wall -std=gnu99 -mtune=core2 -c ocontour.c -o ocontour.o
g++ -m64 -I"E:/biocbld/BBS-2~1.10-/R/include" -DNDEBUG -I"d:/RCompile/CRANpkg/extralibs64/local/include" -g -O2 -DWIN32 -DUSE_GTK -DGLIB_GETTEXT -mms-bitfields -Ic:/ImageMagick/x64/include -Ic:/gtk/x64/include/gtk-2.0 -Ic:/gtk/x64/lib/gtk-2.0/include -Ic:/gtk/x64/include/atk-1.0 -Ic:/gtk/x64/include/cairo -Ic:/gtk/x64/include/pango-1.0 -Ic:/gtk/x64/include/glib-2.0 -Ic:/gtk/x64/lib/glib-2.0/include -Ic:/gtk/x64/include/libglade-2.0 -Ic:/gtk/x64/include/libxml2 -Ic:/gtk/x64/include -O2 -Wall -mtune=core2 -c propagate.cpp -o propagate.o
gcc -m64 -I"E:/biocbld/BBS-2~1.10-/R/include" -DNDEBUG -I"d:/RCompile/CRANpkg/extralibs64/local/include" -g -O2 -DWIN32 -DUSE_GTK -DGLIB_GETTEXT -mms-bitfields -Ic:/ImageMagick/x64/include -Ic:/gtk/x64/include/gtk-2.0 -Ic:/gtk/x64/lib/gtk-2.0/include -Ic:/gtk/x64/include/atk-1.0 -Ic:/gtk/x64/include/cairo -Ic:/gtk/x64/include/pango-1.0 -Ic:/gtk/x64/include/glib-2.0 -Ic:/gtk/x64/lib/glib-2.0/include -Ic:/gtk/x64/include/libglade-2.0 -Ic:/gtk/x64/include/libxml2 -Ic:/gtk/x64/include -O2 -Wall -std=gnu99 -mtune=core2 -c thresh.c -o thresh.o
gcc -m64 -I"E:/biocbld/BBS-2~1.10-/R/include" -DNDEBUG -I"d:/RCompile/CRANpkg/extralibs64/local/include" -g -O2 -DWIN32 -DUSE_GTK -DGLIB_GETTEXT -mms-bitfields -Ic:/ImageMagick/x64/include -Ic:/gtk/x64/include/gtk-2.0 -Ic:/gtk/x64/lib/gtk-2.0/include -Ic:/gtk/x64/include/atk-1.0 -Ic:/gtk/x64/include/cairo -Ic:/gtk/x64/include/pango-1.0 -Ic:/gtk/x64/include/glib-2.0 -Ic:/gtk/x64/lib/glib-2.0/include -Ic:/gtk/x64/include/libglade-2.0 -Ic:/gtk/x64/include/libxml2 -Ic:/gtk/x64/include -O2 -Wall -std=gnu99 -mtune=core2 -c tile.c -o tile.o
tile.c: In function 'tile':
tile.c:22:51: warning: variable 'iim' set but not used [-Wunused-but-set-variable]
tile.c:22:34: warning: variable 'ibg' set but not used [-Wunused-but-set-variable]
tile.c: In function 'untile':
tile.c:130:37: warning: unused variable 'id' [-Wunused-variable]
gcc -m64 -I"E:/biocbld/BBS-2~1.10-/R/include" -DNDEBUG -I"d:/RCompile/CRANpkg/extralibs64/local/include" -g -O2 -DWIN32 -DUSE_GTK -DGLIB_GETTEXT -mms-bitfields -Ic:/ImageMagick/x64/include -Ic:/gtk/x64/include/gtk-2.0 -Ic:/gtk/x64/lib/gtk-2.0/include -Ic:/gtk/x64/include/atk-1.0 -Ic:/gtk/x64/include/cairo -Ic:/gtk/x64/include/pango-1.0 -Ic:/gtk/x64/include/glib-2.0 -Ic:/gtk/x64/lib/glib-2.0/include -Ic:/gtk/x64/include/libglade-2.0 -Ic:/gtk/x64/include/libxml2 -Ic:/gtk/x64/include -O2 -Wall -std=gnu99 -mtune=core2 -c tools.c -o tools.o
tools.c: In function 'validImage':
tools.c:52:11: warning: variable 'dp' set but not used [-Wunused-but-set-variable]
gcc -m64 -I"E:/biocbld/BBS-2~1.10-/R/include" -DNDEBUG -I"d:/RCompile/CRANpkg/extralibs64/local/include" -g -O2 -DWIN32 -DUSE_GTK -DGLIB_GETTEXT -mms-bitfields -Ic:/ImageMagick/x64/include -Ic:/gtk/x64/include/gtk-2.0 -Ic:/gtk/x64/lib/gtk-2.0/include -Ic:/gtk/x64/include/atk-1.0 -Ic:/gtk/x64/include/cairo -Ic:/gtk/x64/include/pango-1.0 -Ic:/gtk/x64/include/glib-2.0 -Ic:/gtk/x64/lib/glib-2.0/include -Ic:/gtk/x64/include/libglade-2.0 -Ic:/gtk/x64/include/libxml2 -Ic:/gtk/x64/include -O2 -Wall -std=gnu99 -mtune=core2 -c translate.c -o translate.o
g++ -m64 -I"E:/biocbld/BBS-2~1.10-/R/include" -DNDEBUG -I"d:/RCompile/CRANpkg/extralibs64/local/include" -g -O2 -DWIN32 -DUSE_GTK -DGLIB_GETTEXT -mms-bitfields -Ic:/ImageMagick/x64/include -Ic:/gtk/x64/include/gtk-2.0 -Ic:/gtk/x64/lib/gtk-2.0/include -Ic:/gtk/x64/include/atk-1.0 -Ic:/gtk/x64/include/cairo -Ic:/gtk/x64/include/pango-1.0 -Ic:/gtk/x64/include/glib-2.0 -Ic:/gtk/x64/lib/glib-2.0/include -Ic:/gtk/x64/include/libglade-2.0 -Ic:/gtk/x64/include/libxml2 -Ic:/gtk/x64/include -O2 -Wall -mtune=core2 -c watershed.cpp -o watershed.o
g++ -m64 -shared -s -static-libgcc -o EBImage.dll tmp.def EBImage.o conversions.o display.o distmap.o drawable.o features_haralick.o features_hull.o features_moments.o features_zernike.o filters_magick.o floodFill.o io.o morphology.o normalize.o objects.o ocontour.o propagate.o thresh.o tile.o tools.o translate.o watershed.o -shared -Lc:/ImageMagick/x64 -lCORE_RL_magick_ -lCORE_RL_wand_ -Lc:/gtk/x64/lib -lgtk-win32-2.0 -lzdll -lgdk-win32-2.0 -latk-1.0 -lgdk_pixbuf-2.0 -lpangowin32-1.0 -lpangocairo-1.0 -lpango-1.0 -lcairo -lgobject-2.0 -lgmodule-2.0 -lglib-2.0 -lintl -lgdi32 -Ld:/RCompile/CRANpkg/extralibs64/local/lib/x64 -Ld:/RCompile/CRANpkg/extralibs64/local/lib -LE:/biocbld/BBS-2~1.10-/R/bin/x64 -lR
installing to E:/biocbld/bbs-2.10-bioc/meat/EBImage.buildbin-libdir/EBImage/libs/x64
** testing if installed package can be loaded
* MD5 sums
packaged installation of 'EBImage' as EBImage_3.12.0.zip
* DONE (EBImage)