ENVISIONQuery 1.4.0 Alex Lisovich , Roger Day
Snapshot Date: 2012-09-23 17:01:39 -0700 (Sun, 23 Sep 2012) | URL: https://hedgehog.fhcrc.org/bioconductor/branches/RELEASE_2_10/madman/Rpacks/ENVISIONQuery | Last Changed Rev: 68111 / Revision: 69725 | Last Changed Date: 2012-07-31 10:51:25 -0700 (Tue, 31 Jul 2012) |
| lamb2 | Linux (openSUSE 11.4) / x86_64 | OK | OK | |
moscato2 | Windows Server 2008 R2 Enterprise SP1 (64-bit) / x64 | OK | OK | OK |
petty | Mac OS X Leopard (10.5.8) / i386 | OK | OK | [ OK ] |
* installing to library '/Library/Frameworks/R.framework/Versions/2.15/Resources/library'
* installing *source* package 'ENVISIONQuery' ...
** R
** inst
** preparing package for lazy loading
** help
*** installing help indices
** building package indices
** installing vignettes
'ENVISIONQuery.Rnw' using 'latin-9'
packaged installation of 'ENVISIONQuery' as 'ENVISIONQuery_1.4.0.tgz'
* DONE (ENVISIONQuery)