ExpressionView 1.8.0 Gabor Csardi
Snapshot Date: 2012-09-23 17:01:39 -0700 (Sun, 23 Sep 2012) | URL: https://hedgehog.fhcrc.org/bioconductor/branches/RELEASE_2_10/madman/Rpacks/ExpressionView | Last Changed Rev: 64678 / Revision: 69725 | Last Changed Date: 2012-03-30 15:05:02 -0700 (Fri, 30 Mar 2012) |
| lamb2 | Linux (openSUSE 11.4) / x86_64 | OK | OK | |
moscato2 | Windows Server 2008 R2 Enterprise SP1 (64-bit) / x64 | OK | OK | [ OK ] |
petty | Mac OS X Leopard (10.5.8) / i386 | OK | OK | OK |
install for i386
* installing *source* package 'ExpressionView' ...
** libs
g++ -I"E:/biocbld/BBS-2˜1.10-/R/include" -DNDEBUG -O2 -Wall -mtune=core2 -c order.cpp -o order.o
g++ -I"E:/biocbld/BBS-2˜1.10-/R/include" -DNDEBUG -O2 -Wall -mtune=core2 -c orderclusters.cpp -o orderclusters.o
g++ -shared -s -static-libgcc -o ExpressionView.dll tmp.def order.o orderclusters.o -LE:/biocbld/BBS-2˜1.10-/R/bin/i386 -lR
installing to E:/biocbld/bbs-2.10-bioc/meat/ExpressionView.buildbin-libdir/ExpressionView/libs/i386
** R
** inst
** preparing package for lazy loading
in method for 'ExportEV' with signature 'biclusters="Biclust"': no definition for class "Biclust"
** help
*** installing help indices
** building package indices
** installing vignettes
'ExpressionView.format.Rnw'
'ExpressionView.ordering.Rnw'
'ExpressionView.tutorial.Rnw'
** testing if installed package can be loaded
install for x64
* installing *source* package 'ExpressionView' ...
** libs
g++ -m64 -I"E:/biocbld/BBS-2˜1.10-/R/include" -DNDEBUG -I"d:/RCompile/CRANpkg/extralibs64/local/include" -O2 -Wall -mtune=core2 -c order.cpp -o order.o
g++ -m64 -I"E:/biocbld/BBS-2˜1.10-/R/include" -DNDEBUG -I"d:/RCompile/CRANpkg/extralibs64/local/include" -O2 -Wall -mtune=core2 -c orderclusters.cpp -o orderclusters.o
g++ -m64 -shared -s -static-libgcc -o ExpressionView.dll tmp.def order.o orderclusters.o -Ld:/RCompile/CRANpkg/extralibs64/local/lib/x64 -Ld:/RCompile/CRANpkg/extralibs64/local/lib -LE:/biocbld/BBS-2~1.10-/R/bin/x64 -lR
installing to E:/biocbld/bbs-2.10-bioc/meat/ExpressionView.buildbin-libdir/ExpressionView/libs/x64
** testing if installed package can be loaded
* MD5 sums
packaged installation of 'ExpressionView' as ExpressionView_1.8.0.zip
* DONE (ExpressionView)