GGBase 3.18.0 VJ Carey
Snapshot Date: 2012-09-23 17:01:39 -0700 (Sun, 23 Sep 2012) | URL: https://hedgehog.fhcrc.org/bioconductor/branches/RELEASE_2_10/madman/Rpacks/GGBase | Last Changed Rev: 64678 / Revision: 69725 | Last Changed Date: 2012-03-30 15:05:02 -0700 (Fri, 30 Mar 2012) |
| lamb2 | Linux (openSUSE 11.4) / x86_64 | OK | OK | |
moscato2 | Windows Server 2008 R2 Enterprise SP1 (64-bit) / x64 | OK | [ OK ] | OK |
petty | Mac OS X Leopard (10.5.8) / i386 | OK | OK | OK |
* using log directory 'E:/biocbld/bbs-2.10-bioc/meat/GGBase.Rcheck'
* using R version 2.15.1 (2012-06-22)
* using platform: i386-pc-mingw32 (32-bit)
* using session charset: ISO8859-1
* using option '--no-vignettes'
* checking for file 'GGBase/DESCRIPTION' ... OK
* this is package 'GGBase' version '3.18.0'
* checking package namespace information ... OK
* checking package dependencies ... OK
* checking if this is a source package ... OK
* checking if there is a namespace ... OK
* checking whether package 'GGBase' can be installed ... OK
* checking installed package size ... OK
* checking package directory ... OK
* checking for portable file names ... OK
* checking DESCRIPTION meta-information ... OK
* checking top-level files ... OK
* checking index information ... OK
* checking package subdirectories ... OK
* checking R files for non-ASCII characters ... OK
* checking R files for syntax errors ... OK
* loading checks for arch 'i386'
** checking whether the package can be loaded ... OK
** checking whether the package can be loaded with stated dependencies ... OK
** checking whether the package can be unloaded cleanly ... OK
** checking whether the namespace can be loaded with stated dependencies ... OK
** checking whether the namespace can be unloaded cleanly ... OK
* loading checks for arch 'x64'
** checking whether the package can be loaded ... OK
** checking whether the package can be loaded with stated dependencies ... OK
** checking whether the package can be unloaded cleanly ... OK
** checking whether the namespace can be loaded with stated dependencies ... OK
** checking whether the namespace can be unloaded cleanly ... OK
* checking for unstated dependencies in R code ... OK
* checking S3 generic/method consistency ... OK
* checking replacement functions ... OK
* checking foreign function calls ... OK
* checking R code for possible problems ... NOTE
.oldcode : <anonymous>: warning in axis(3, at = genePosition(x@gene,
annlib = x@annotation), col = "red", lwd = 2, label = " "): partial
argument match of 'label' to 'labels'
.oldcode : pedinf2df: warning in read.table(fn, h = FALSE): partial
argument match of 'h' to 'header'
allsnps: warning in dir(system.file("parts", package = packname), full
= TRUE): partial argument match of 'full' to 'full.names'
.oldcode : genePosition: no visible global function definition for
'revmap'
.oldcode : featureFilter: no visible global function definition for
'keys'
.oldcode : sym2pid: no visible global function definition for 'revmap'
.oldcode : <anonymous>: no visible global function definition for
'revmap'
.oldcode : snpLocs.Hsapiens: no visible global function definition for
'getSNPlocs'
sym2pid: no visible global function definition for 'revmap'
* checking Rd files ... OK
* checking Rd metadata ... OK
* checking Rd cross-references ... OK
* checking for missing documentation entries ... OK
* checking for code/documentation mismatches ... OK
* checking Rd \usage sections ... OK
* checking Rd contents ... OK
* checking for unstated dependencies in examples ... OK
* checking installed files from 'inst/doc' ... OK
* checking examples ...
** running examples for arch 'i386' ... OK
** running examples for arch 'x64' ... OK
* checking for unstated dependencies in tests ... OK
* checking tests ...
** running tests for arch 'i386'
Running 'MAFfilter.R'
Running 'make.R'
Running 'plot_EvG.R'
OK
** running tests for arch 'x64'
Running 'MAFfilter.R'
Running 'make.R'
Running 'plot_EvG.R'
OK
* checking for unstated dependencies in vignettes ... OK
* checking package vignettes in 'inst/doc' ... OK
* checking running R code from vignettes ... SKIPPED
* checking re-building of vignettes ... SKIPPED
* checking PDF version of manual ... OK
NOTE: There was 1 note.
See
'E:/biocbld/bbs-2.10-bioc/meat/GGBase.Rcheck/00check.log'
for details.
install for i386
* installing *source* package 'GGBase' ...
** R
** inst
** preparing package for lazy loading
** help
*** installing help indices
** building package indices
** installing vignettes
'ggbase.Rnw'
** testing if installed package can be loaded
install for x64
* installing *source* package 'GGBase' ...
** testing if installed package can be loaded
* MD5 sums
packaged installation of 'GGBase' as GGBase_3.18.0.zip
* DONE (GGBase)