Back to the "Multiple platform build/check report" A  B  C  D  E  F [G] H  I  J  K  L  M  N  O  P  Q  R  S  T  U  V  W  X  Y  Z 

Package 257/553HostnameOS / ArchBUILDCHECKBUILD BIN
GWASTools 1.2.1
Stephanie M. Gogarten
Snapshot Date: 2012-09-23 17:01:39 -0700 (Sun, 23 Sep 2012)
URL: https://hedgehog.fhcrc.org/bioconductor/branches/RELEASE_2_10/madman/Rpacks/GWASTools
Last Changed Rev: 67010 / Revision: 69725
Last Changed Date: 2012-06-25 14:57:49 -0700 (Mon, 25 Jun 2012)
lamb2 Linux (openSUSE 11.4) / x86_64  OK [ OK ]
moscato2 Windows Server 2008 R2 Enterprise SP1 (64-bit) / x64  OK  OK  OK 
petty Mac OS X Leopard (10.5.8) / i386  OK  OK  OK 

Summary

Package: GWASTools
Version: 1.2.1
Command: /home/biocbuild/bbs-2.10-bioc/R/bin/R CMD check --no-vignettes --timings GWASTools_1.2.1.tar.gz
StartedAt: 2012-09-24 01:31:52 -0700 (Mon, 24 Sep 2012)
EndedAt: 2012-09-24 01:35:16 -0700 (Mon, 24 Sep 2012)
EllapsedTime: 203.8 seconds
RetCode: 0
Status:  OK 
CheckDir: GWASTools.Rcheck
Warnings: 0

Command output

* using log directory ‘/loc/home/biocbuild/bbs-2.10-bioc/meat/GWASTools.Rcheck’
* using R version 2.15.1 (2012-06-22)
* using platform: x86_64-unknown-linux-gnu (64-bit)
* using session charset: UTF-8
* using option ‘--no-vignettes’
* checking for file ‘GWASTools/DESCRIPTION’ ... OK
* checking extension type ... Package
* this is package ‘GWASTools’ version ‘1.2.1’
* checking package namespace information ... OK
* checking package dependencies ... OK
* checking if this is a source package ... OK
* checking if there is a namespace ... OK
* checking whether package ‘GWASTools’ can be installed ... OK
* checking installed package size ... OK
* checking package directory ... OK
* checking for portable file names ... OK
* checking for sufficient/correct file permissions ... OK
* checking DESCRIPTION meta-information ... OK
* checking top-level files ... OK
* checking index information ... OK
* checking package subdirectories ... OK
* checking R files for non-ASCII characters ... OK
* checking R files for syntax errors ... OK
* checking whether the package can be loaded ... OK
* checking whether the package can be loaded with stated dependencies ... OK
* checking whether the package can be unloaded cleanly ... OK
* checking whether the namespace can be loaded with stated dependencies ... OK
* checking whether the namespace can be unloaded cleanly ... OK
* checking for unstated dependencies in R code ... OK
* checking S3 generic/method consistency ... OK
* checking replacement functions ... OK
* checking foreign function calls ... OK
* checking R code for possible problems ... OK
* checking Rd files ... OK
* checking Rd metadata ... OK
* checking Rd cross-references ... OK
* checking for missing documentation entries ... OK
* checking for code/documentation mismatches ... OK
* checking Rd \usage sections ... OK
* checking Rd contents ... OK
* checking for unstated dependencies in examples ... OK
* checking contents of ‘data’ directory ... OK
* checking data for non-ASCII characters ... OK
* checking data for ASCII and uncompressed saves ... OK
* checking installed files from ‘inst/doc’ ... OK
* checking examples ... OK
* checking for unstated dependencies in tests ... OK
* checking tests ...
  Running ‘test.R’
 OK
* checking for unstated dependencies in vignettes ... OK
* checking package vignettes in ‘inst/doc’ ... OK
* checking running R code from vignettes ... SKIPPED
* checking re-building of vignettes ... SKIPPED
* checking PDF version of manual ... OK

GWASTools.Rcheck/00install.out:

* installing *source* package ‘GWASTools’ ...
** R
** data
** inst
** preparing package for lazy loading
Creating a generic function for ‘open’ from package ‘base’ in package ‘GWASTools’
Creating a generic function for ‘close’ from package ‘base’ in package ‘GWASTools’
** help
*** installing help indices
** building package indices
** installing vignettes
   ‘DataCleaning.Rnw’ using ‘UTF-8’ 
** testing if installed package can be loaded

* DONE (GWASTools)

GWASTools.Rcheck/GWASTools-Ex.timings:

nameusersystemelapsed
BAFfromClusterMeans1.6000.0481.814
BAFfromGenotypes000
GenotypeData-class0.0640.0040.074
HLA0.0040.0000.004
IntensityData-class0.0600.0040.084
MatrixGenotypeReader-class0.0040.0000.003
NcdfGenotypeReader-class0.0160.0040.019
NcdfIntensityReader-class0.0280.0000.027
NcdfReader-class0.0120.0000.012
ScanAnnotationDataFrame-class0.1440.0040.153
ScanAnnotationSQLite-class0.1080.0040.174
SnpAnnotationDataFrame-class0.1520.0040.162
SnpAnnotationSQLite-class0.1160.0040.161
alleleFrequency0.1600.0080.170
allequal000
anomDetectBAF1.6160.0161.690
anomDetectLOH1.1080.0041.143
anomIdentifyLowQuality1.2240.0161.287
anomSegStats0.1760.0040.181
apartSnpSelection0.1200.0000.121
assocTestCPH6.320.006.33
assocTestRegression35.699 0.02435.755
batchTest0.7040.0080.713
centromeres0.0000.0000.004
chromIntensityPlot0.0840.0040.089
convertNcdfGds0.3360.0320.379
duplicateDiscordance0.240.000.24
duplicateDiscordanceAcrossDatasets0.5400.0120.556
duplicateDiscordanceProbability0.0000.0000.001
findBAFvariance0.5520.0080.561
genoClusterPlot0.3360.0560.452
getobj0.0000.0000.001
gwasExactHW0.3840.0000.383
hetByScanChrom0.1520.0000.153
hetBySnpSex0.1520.0000.150
ibdPlot0.0640.0000.060
intensityOutliersPlot0.4240.0160.444
manhattanPlot0.0120.0000.012
meanIntensityByScanChrom0.3800.0040.384
mendelErr0.5040.0040.509
mendelList0.0320.0040.040
missingGenotypeByScanChrom0.1520.0000.151
missingGenotypeBySnpSex0.1120.0040.116
ncdfAddData0.6400.0360.856
ncdfCreate0.0400.0000.096
ncdfSetMissingGenotypes0.0760.0080.088
ncdfSubset0.0760.0040.080
pcaSnpFilters0.0000.0040.004
pedigreeCheck0.0080.0000.009
pedigreeClean0.0000.0040.003
pedigreeFindDuplicates0.0080.0000.008
pedigreePairwiseRelatedness0.0400.0000.038
plinkToNcdf2.4080.0242.581
plinkUtils2.4320.0282.463
pseudoautoIntensityPlot0.0640.0040.067
pseudoautosomal0.0000.0000.003
qqPlot0.0320.0000.033
qualityScoreByScan0.2520.0040.258
qualityScoreBySnp0.1080.0000.108
readWriteFirst0.0040.0000.005
relationsMeanVar0.0000.0040.002
saveas0.0000.0000.002
simulateGenotypeMatrix0.7760.0120.847
simulateIntensityMatrix0.3160.0040.326
snpCorrelationPlot0.0000.0040.002