GeneAnswers 1.12.2 Gang Feng , Pan Du and Tian Xia
Snapshot Date: 2012-09-23 17:01:39 -0700 (Sun, 23 Sep 2012) | URL: https://hedgehog.fhcrc.org/bioconductor/branches/RELEASE_2_10/madman/Rpacks/GeneAnswers | Last Changed Rev: 67085 / Revision: 69725 | Last Changed Date: 2012-06-27 10:12:03 -0700 (Wed, 27 Jun 2012) |
| lamb2 | Linux (openSUSE 11.4) / x86_64 | OK | OK | |
moscato2 | Windows Server 2008 R2 Enterprise SP1 (64-bit) / x64 | OK | OK | OK |
petty | Mac OS X Leopard (10.5.8) / i386 | OK | OK | [ OK ] |
>>>>>>>
>>>>>>> INSTALLATION WITH 'R CMD INSTALL --preclean --no-multiarch --library=GeneAnswers.buildbin-libdir GeneAnswers_1.12.2.tar.gz'
>>>>>>>
* installing *source* package 'GeneAnswers' ...
** R
** data
** inst
** preparing package for lazy loading
Warning in rgl.init(initValue) : RGL: GLX extension missing on server
Warning in fun(libname, pkgname) : error in rgl_init
** help
*** installing help indices
** building package indices
** installing vignettes
'GeneAnswersCWAnnotation.Rnw'
'geneAnswers.Rnw'
'geneFunctionSummarize.Rnw'
** testing if installed package can be loaded
Warning in rgl.init(initValue) : RGL: GLX extension missing on server
Warning in fun(libname, pkgname) : error in rgl_init
* DONE (GeneAnswers)