GeneGroupAnalysis 1.2.0 Alejandro Quiroz-Zarate
Snapshot Date: 2012-09-23 17:01:39 -0700 (Sun, 23 Sep 2012) | URL: https://hedgehog.fhcrc.org/bioconductor/branches/RELEASE_2_10/madman/Rpacks/GeneGroupAnalysis | Last Changed Rev: 64678 / Revision: 69725 | Last Changed Date: 2012-03-30 15:05:02 -0700 (Fri, 30 Mar 2012) |
| lamb2 | Linux (openSUSE 11.4) / x86_64 | OK | OK | |
moscato2 | Windows Server 2008 R2 Enterprise SP1 (64-bit) / x64 | OK | OK | [ OK ] |
petty | Mac OS X Leopard (10.5.8) / i386 | OK | OK | OK |
install for i386
* installing *source* package 'GeneGroupAnalysis' ...
** libs
gcc -I"E:/biocbld/BBS-2˜1.10-/R/include" -DNDEBUG -O3 -Wall -std=gnu99 -mtune=core2 -c ConditionalsAll.c -o ConditionalsAll.o
In file included from Densidades.h:8:0,
from InvWishart.h:8,
from ConditionalsAll.c:8:
OpMat.h:20:2: warning: "/*" within comment [-Wcomment]
OpMat.h:40:2: warning: "/*" within comment [-Wcomment]
OpMat.h:58:2: warning: "/*" within comment [-Wcomment]
OpMat.h:76:2: warning: "/*" within comment [-Wcomment]
OpMat.h:95:2: warning: "/*" within comment [-Wcomment]
OpMat.h:119:2: warning: "/*" within comment [-Wcomment]
OpMat.h:153:2: warning: "/*" within comment [-Wcomment]
OpMat.h:197:2: warning: "/*" within comment [-Wcomment]
ConditionalsAll.c: In function 'conditionalSg':
ConditionalsAll.c:42:3: warning: "/*" within comment [-Wcomment]
ConditionalsAll.c: In function 'conditionalBeta':
ConditionalsAll.c:193:3: warning: "/*" within comment [-Wcomment]
ConditionalsAll.c: In function 'conditionalNPAlfa0':
ConditionalsAll.c:342:3: warning: "/*" within comment [-Wcomment]
ConditionalsAll.c: In function 'conditionalNPAlfa':
ConditionalsAll.c:460:3: warning: "/*" within comment [-Wcomment]
ConditionalsAll.c: In function 'conditionalALLAlfa':
ConditionalsAll.c:646:3: warning: "/*" within comment [-Wcomment]
In file included from OpMat.h:8:0,
from Densidades.h:8,
from InvWishart.h:8,
from ConditionalsAll.c:8:
libMatInv.h: In function 'LUdcmp':
libMatInv.h:13:15: warning: 'imax' may be used uninitialized in this function [-Wuninitialized]
gcc -shared -s -static-libgcc -o GeneGroupAnalysis.dll tmp.def ConditionalsAll.o -LE:/biocbld/BBS-2˜1.10-/R/bin/i386 -lR
installing to E:/biocbld/bbs-2.10-bioc/meat/GeneGroupAnalysis.buildbin-libdir/GeneGroupAnalysis/libs/i386
** R
** data
** inst
** preparing package for lazy loading
** help
*** installing help indices
** building package indices
** installing vignettes
'GeneGroupAnalysis.Rnw' using 'UTF-8'
** testing if installed package can be loaded
install for x64
* installing *source* package 'GeneGroupAnalysis' ...
** libs
gcc -m64 -I"E:/biocbld/BBS-2˜1.10-/R/include" -DNDEBUG -I"d:/RCompile/CRANpkg/extralibs64/local/include" -O2 -Wall -std=gnu99 -mtune=core2 -c ConditionalsAll.c -o ConditionalsAll.o
In file included from Densidades.h:8:0,
from InvWishart.h:8,
from ConditionalsAll.c:8:
OpMat.h:20:2: warning: "/*" within comment [-Wcomment]
OpMat.h:40:2: warning: "/*" within comment [-Wcomment]
OpMat.h:58:2: warning: "/*" within comment [-Wcomment]
OpMat.h:76:2: warning: "/*" within comment [-Wcomment]
OpMat.h:95:2: warning: "/*" within comment [-Wcomment]
OpMat.h:119:2: warning: "/*" within comment [-Wcomment]
OpMat.h:153:2: warning: "/*" within comment [-Wcomment]
OpMat.h:197:2: warning: "/*" within comment [-Wcomment]
ConditionalsAll.c: In function 'conditionalSg':
ConditionalsAll.c:42:3: warning: "/*" within comment [-Wcomment]
ConditionalsAll.c: In function 'conditionalBeta':
ConditionalsAll.c:193:3: warning: "/*" within comment [-Wcomment]
ConditionalsAll.c: In function 'conditionalNPAlfa0':
ConditionalsAll.c:342:3: warning: "/*" within comment [-Wcomment]
ConditionalsAll.c: In function 'conditionalNPAlfa':
ConditionalsAll.c:460:3: warning: "/*" within comment [-Wcomment]
ConditionalsAll.c: In function 'conditionalALLAlfa':
ConditionalsAll.c:646:3: warning: "/*" within comment [-Wcomment]
In file included from OpMat.h:8:0,
from Densidades.h:8,
from InvWishart.h:8,
from ConditionalsAll.c:8:
libMatInv.h: In function 'LUdcmp':
libMatInv.h:13:15: warning: 'imax' may be used uninitialized in this function [-Wuninitialized]
gcc -m64 -shared -s -static-libgcc -o GeneGroupAnalysis.dll tmp.def ConditionalsAll.o -Ld:/RCompile/CRANpkg/extralibs64/local/lib/x64 -Ld:/RCompile/CRANpkg/extralibs64/local/lib -LE:/biocbld/BBS-2~1.10-/R/bin/x64 -lR
installing to E:/biocbld/bbs-2.10-bioc/meat/GeneGroupAnalysis.buildbin-libdir/GeneGroupAnalysis/libs/x64
** testing if installed package can be loaded
* MD5 sums
packaged installation of 'GeneGroupAnalysis' as GeneGroupAnalysis_1.2.0.zip
* DONE (GeneGroupAnalysis)