Back to the "Multiple platform build/check report" A  B  C  D  E  F [G] H  I  J  K  L  M  N  O  P  Q  R  S  T  U  V  W  X  Y  Z 

Package 217/554HostnameOS / ArchBUILDCHECKBUILD BIN
GeneSelector 2.6.0
Martin Slawski
Snapshot Date: 2012-03-31 17:01:49 -0700 (Sat, 31 Mar 2012)
URL: https://hedgehog.fhcrc.org/bioconductor/branches/RELEASE_2_10/madman/Rpacks/GeneSelector
Last Changed Rev: 64678 / Revision: 64719
Last Changed Date: 2012-03-30 15:05:02 -0700 (Fri, 30 Mar 2012)
lamb2 Linux (openSUSE 11.4) / x86_64  OK  OK 
puck5 Linux (Ubuntu 12.04) / x86_64  OK [ OK ]
moscato2 Windows Server 2008 R2 Enterprise SP1 (64-bit) / x64  OK  OK  OK 
petty Mac OS X Leopard (10.5.8) / i386  OK  OK  OK 

Summary

Package: GeneSelector
Version: 2.6.0
Command: /home/hpages/test-puck5/bbs-2.10-bioc/R/bin/R CMD check --no-vignettes --timings GeneSelector_2.6.0.tar.gz
StartedAt: 2012-04-01 01:10:01 -0700 (Sun, 01 Apr 2012)
EndedAt: 2012-04-01 01:10:53 -0700 (Sun, 01 Apr 2012)
EllapsedTime: 51.9 seconds
RetCode: 0
Status:  OK 
CheckDir: GeneSelector.Rcheck
Warnings: 0

Command output

* using log directory '/loc/home/hpages/test-puck5/bbs-2.10-bioc/meat/GeneSelector.Rcheck'
* using R version 2.15.0 RC (2012-03-22 r58802)
* using platform: x86_64-unknown-linux-gnu (64-bit)
* using session charset: ISO8859-1
* using option '--no-vignettes'
* checking for file 'GeneSelector/DESCRIPTION' ... OK
* this is package 'GeneSelector' version '2.6.0'
* checking package namespace information ... OK
* checking package dependencies ... OK
* checking if this is a source package ... OK
* checking if there is a namespace ... OK
* checking whether package 'GeneSelector' can be installed ... OK
* checking installed package size ... OK
* checking package directory ... OK
* checking for portable file names ... OK
* checking for sufficient/correct file permissions ... OK
* checking DESCRIPTION meta-information ... OK
* checking top-level files ... OK
* checking index information ... OK
* checking package subdirectories ... OK
* checking R files for non-ASCII characters ... OK
* checking R files for syntax errors ... OK
* checking whether the package can be loaded ... OK
* checking whether the package can be loaded with stated dependencies ... OK
* checking whether the package can be unloaded cleanly ... OK
* checking whether the namespace can be loaded with stated dependencies ... OK
* checking whether the namespace can be unloaded cleanly ... OK
* checking for unstated dependencies in R code ... OK
* checking S3 generic/method consistency ... OK
* checking replacement functions ... OK
* checking foreign function calls ... OK
* checking R code for possible problems ... OK
* checking Rd files ... OK
* checking Rd metadata ... OK
* checking Rd cross-references ... OK
* checking for missing documentation entries ... OK
* checking for code/documentation mismatches ... OK
* checking Rd \usage sections ... OK
* checking Rd contents ... OK
* checking for unstated dependencies in examples ... OK
* checking contents of 'data' directory ... OK
* checking data for non-ASCII characters ... OK
* checking data for ASCII and uncompressed saves ... OK
* checking line endings in C/C++/Fortran sources/headers ... OK
* checking line endings in Makefiles ... OK
* checking for portable use of $(BLAS_LIBS) and $(LAPACK_LIBS) ... OK
* checking compiled code ... OK
* checking installed files from 'inst/doc' ... NOTE
The following files should probably not be installed:
  'preamble.tex'

Consider the use of a .Rinstignore file: see 'Writing R Extensions',
or move the vignette sources from 'inst/doc' to 'vignettes'.
* checking examples ... OK
* checking for unstated dependencies in vignettes ... OK
* checking package vignettes in 'inst/doc' ... OK
* checking running R code from vignettes ... SKIPPED
* checking re-building of vignettes ... SKIPPED
* checking PDF version of manual ... OK

NOTE: There was 1 note.
See
  '/loc/home/hpages/test-puck5/bbs-2.10-bioc/meat/GeneSelector.Rcheck/00check.log'
for details.

GeneSelector.Rcheck/00install.out:

* installing *source* package 'GeneSelector' ...
** libs
gcc -std=gnu99 -I/home/hpages/test-puck5/bbs-2.10-bioc/R/include -DNDEBUG  -I/usr/local/include    -fpic  -g -O2  -c kendall.c -o kendall.o
gcc -std=gnu99 -I/home/hpages/test-puck5/bbs-2.10-bioc/R/include -DNDEBUG  -I/usr/local/include    -fpic  -g -O2  -c mcfour.c -o mcfour.o
gcc -std=gnu99 -I/home/hpages/test-puck5/bbs-2.10-bioc/R/include -DNDEBUG  -I/usr/local/include    -fpic  -g -O2  -c mct.c -o mct.o
gcc -std=gnu99 -shared -L/usr/local/lib -o GeneSelector.so kendall.o mcfour.o mct.o -L/home/hpages/test-puck5/bbs-2.10-bioc/R/lib -lR
installing to /loc/home/hpages/test-puck5/bbs-2.10-bioc/meat/GeneSelector.Rcheck/GeneSelector/libs
** R
** data
** inst
** preparing package for lazy loading
** help
*** installing help indices
** building package indices
** installing vignettes
   'GeneSelector.rnw' 
** testing if installed package can be loaded

* DONE (GeneSelector)

GeneSelector.Rcheck/GeneSelector-Ex.timings:

nameusersystemelapsed
AggregateMC0.6000.0160.622
AggregatePenalty0.6400.0000.645
AggregateSVD0.2760.0040.285
AggregateSimple0.3000.0000.307
GeneSelector2.3960.0602.587
GenerateBootMatrix0.0680.0000.077
GenerateFoldMatrix0.0480.0000.057
GetStabilityDistance0.1400.0000.146
GetStabilityOverlap0.2440.0120.261
GetStabilityUnion0.2280.0000.235
HeatmapRankings1.9760.0322.075
MergeMethods1.8200.0281.916
RankingBaldiLong0.0560.0000.063
RankingEbam0.4520.0040.485
RankingFC0.0080.0000.019
RankingFoxDimmic0.0400.0040.046
RankingLimma0.5360.0080.562
RankingPermutation0.7960.0000.811
RankingSam1.2800.0201.338
RankingShrinkageT0.1040.0000.111
RankingSoftthresholdT0.1960.0080.213
RankingTstat0.0120.0000.016
RankingWelchT0.0160.0000.022
RankingWilcEbam0.2480.0080.281
RankingWilcoxon0.1560.0000.160
RepeatRanking1.1360.0001.143
toydata0.0080.0000.015