Back to the "Multiple platform build/check report" A  B  C  D  E  F [G] H  I  J  K  L  M  N  O  P  Q  R  S  T  U  V  W  X  Y  Z 

Package 221/554HostnameOS / ArchBUILDCHECKBUILD BIN
GenomeGraphs 1.16.0
Steffen Durinck
Snapshot Date: 2012-03-31 17:01:49 -0700 (Sat, 31 Mar 2012)
URL: https://hedgehog.fhcrc.org/bioconductor/branches/RELEASE_2_10/madman/Rpacks/GenomeGraphs
Last Changed Rev: 64678 / Revision: 64719
Last Changed Date: 2012-03-30 15:05:02 -0700 (Fri, 30 Mar 2012)
lamb2 Linux (openSUSE 11.4) / x86_64  OK  OK 
puck5 Linux (Ubuntu 12.04) / x86_64  OK [ OK ]
moscato2 Windows Server 2008 R2 Enterprise SP1 (64-bit) / x64  OK  OK  OK 
petty Mac OS X Leopard (10.5.8) / i386  OK  OK  OK 

Summary

Package: GenomeGraphs
Version: 1.16.0
Command: /home/hpages/test-puck5/bbs-2.10-bioc/R/bin/R CMD check --no-vignettes --timings GenomeGraphs_1.16.0.tar.gz
StartedAt: 2012-04-01 01:11:16 -0700 (Sun, 01 Apr 2012)
EndedAt: 2012-04-01 01:12:54 -0700 (Sun, 01 Apr 2012)
EllapsedTime: 97.7 seconds
RetCode: 0
Status:  OK 
CheckDir: GenomeGraphs.Rcheck
Warnings: 0

Command output

* using log directory '/loc/home/hpages/test-puck5/bbs-2.10-bioc/meat/GenomeGraphs.Rcheck'
* using R version 2.15.0 RC (2012-03-22 r58802)
* using platform: x86_64-unknown-linux-gnu (64-bit)
* using session charset: ISO8859-1
* using option '--no-vignettes'
* checking for file 'GenomeGraphs/DESCRIPTION' ... OK
* this is package 'GenomeGraphs' version '1.16.0'
* checking package namespace information ... OK
* checking package dependencies ... OK
* checking if this is a source package ... OK
* checking if there is a namespace ... OK
* checking whether package 'GenomeGraphs' can be installed ... OK
* checking installed package size ... OK
* checking package directory ... OK
* checking for portable file names ... OK
* checking for sufficient/correct file permissions ... OK
* checking DESCRIPTION meta-information ... OK
* checking top-level files ... OK
* checking index information ... OK
* checking package subdirectories ... OK
* checking R files for non-ASCII characters ... OK
* checking R files for syntax errors ... OK
* checking whether the package can be loaded ... OK
* checking whether the package can be loaded with stated dependencies ... OK
* checking whether the package can be unloaded cleanly ... OK
* checking whether the namespace can be loaded with stated dependencies ... OK
* checking whether the namespace can be unloaded cleanly ... OK
* checking for unstated dependencies in R code ... OK
* checking S3 generic/method consistency ... OK
* checking replacement functions ... OK
* checking foreign function calls ... OK
* checking R code for possible problems ... NOTE
gdPlot: warning in grid.layout(1, 2, width = c(0.1, 0.9)): partial
  argument match of 'width' to 'widths'
gdPlot: warning in grid.layout(length(vplayout), 1, height = vplayout):
  partial argument match of 'height' to 'heights'
transcriptModule: warning in grid.layout(1, length(vplayout), width =
  vplayout): partial argument match of 'width' to 'widths'
* checking Rd files ... OK
* checking Rd metadata ... OK
* checking Rd cross-references ... OK
* checking for missing documentation entries ... OK
* checking for code/documentation mismatches ... OK
* checking Rd \usage sections ... OK
* checking Rd contents ... OK
* checking for unstated dependencies in examples ... OK
* checking contents of 'data' directory ... OK
* checking data for non-ASCII characters ... OK
* checking data for ASCII and uncompressed saves ... OK
* checking installed files from 'inst/doc' ... OK
* checking examples ... OK
* checking for unstated dependencies in vignettes ... OK
* checking package vignettes in 'inst/doc' ... OK
* checking running R code from vignettes ... SKIPPED
* checking re-building of vignettes ... SKIPPED
* checking PDF version of manual ... OK

NOTE: There was 1 note.
See
  '/loc/home/hpages/test-puck5/bbs-2.10-bioc/meat/GenomeGraphs.Rcheck/00check.log'
for details.

GenomeGraphs.Rcheck/00install.out:

* installing *source* package 'GenomeGraphs' ...
** R
** data
** inst
** preparing package for lazy loading
** help
*** installing help indices
** building package indices
** installing vignettes
   'GenomeGraphs.Rnw' 
** testing if installed package can be loaded

* DONE (GenomeGraphs)

GenomeGraphs.Rcheck/GenomeGraphs-Ex.timings:

nameusersystemelapsed
AnnotationTrack-class0.0000.0000.002
BaseTrack-class000
DisplayPars-class0.0040.0000.001
DisplayPars0.3480.0043.062
ExonArray-class0.0040.0000.001
Gene-class000
GeneModel-class0.0920.0000.098
GeneRegion-class000
GenericArray-class000
GenomeAxis-class0.0000.0000.001
HighlightRegion-class0.0000.0000.001
Ideogram-class000
ImplementsTrackOverlay-class0.0000.0000.001
Legend-class0.0000.0000.001
MappedRead-class000
Overlay-class000
RectangleOverlay-class000
Segmentation-class000
Smoothing-class0.0000.0040.000
TextOverlay-class0.0000.0000.001
Title-class0.0000.0000.001
TrackOverlay-class0.0000.0000.001
Transcript-class000
TranscriptRegion-class0.0000.0000.001
cn000
exonProbePos0.0040.0000.000
gdObject-class0.0000.0000.001
gdPlot 1.428 0.00859.059
getPar0.0000.0000.002
getSize000
ideogramTab0.0040.0000.010
intensity0.0000.0000.001
makeAnnotationTrack0.0200.0000.023
makeBaseTrack0.0000.0000.001
makeExonArray000
makeGene000
makeGeneModel000
makeGeneRegion000
makeGenericArray0.0000.0000.001
makeGenomeAxis000
makeIdeogram0.0000.0000.001
makeLegend000
makeRectangleOverlay0.0560.0000.062
makeSegmentation0.0440.0000.052
makeSmoothing0.0560.0040.071
makeTextOverlay0.0520.0040.064
makeTitle0.0000.0000.001
makeTranscript000
probestart000
segEnd000
segStart000
segments000
seqDataEx0.0200.0000.023
setPar0.0080.0000.010
showDisplayOptions0.0000.0000.001
unrData0.0000.0000.001
unrNProbes000
unrPositions000
yeastCons1000