GlobalAncova 3.24.0 Manuela Hummel
Snapshot Date: 2012-09-23 17:01:39 -0700 (Sun, 23 Sep 2012) | URL: https://hedgehog.fhcrc.org/bioconductor/branches/RELEASE_2_10/madman/Rpacks/GlobalAncova | Last Changed Rev: 64678 / Revision: 69725 | Last Changed Date: 2012-03-30 15:05:02 -0700 (Fri, 30 Mar 2012) |
| lamb2 | Linux (openSUSE 11.4) / x86_64 | OK | OK | |
moscato2 | Windows Server 2008 R2 Enterprise SP1 (64-bit) / x64 | OK | OK | [ OK ] |
petty | Mac OS X Leopard (10.5.8) / i386 | OK | OK | OK |
install for i386
* installing *source* package 'GlobalAncova' ...
** libs
gcc -I"E:/biocbld/BBS-2˜1.10-/R/include" -DNDEBUG -O3 -Wall -std=gnu99 -mtune=core2 -c GlobalAncova.c -o GlobalAncova.o
GlobalAncova.c: In function 'permut_withFperm':
GlobalAncova.c:186:16: warning: 'ord_perm' may be used uninitialized in this function [-Wuninitialized]
GlobalAncova.c: In function 'permut':
GlobalAncova.c:289:16: warning: 'ord_perm' may be used uninitialized in this function [-Wuninitialized]
gcc -I"E:/biocbld/BBS-2˜1.10-/R/include" -DNDEBUG -O3 -Wall -std=gnu99 -mtune=core2 -c ludcmp.c -o ludcmp.o
gcc -I"E:/biocbld/BBS-2˜1.10-/R/include" -DNDEBUG -O3 -Wall -std=gnu99 -mtune=core2 -c matrix.c -o matrix.o
gcc -shared -s -static-libgcc -o GlobalAncova.dll tmp.def GlobalAncova.o ludcmp.o matrix.o -LE:/biocbld/BBS-2˜1.10-/R/bin/i386 -lR
installing to E:/biocbld/bbs-2.10-bioc/meat/GlobalAncova.buildbin-libdir/GlobalAncova/libs/i386
** R
** data
** inst
** preparing package for lazy loading
Warning in .simpleDuplicateClass(def, prev) :
A specification for class "data.frameOrNULL" in package 'globaltest' seems equivalent to one from package 'Biobase' and is not turning on duplicate class definitions for this class
** help
*** installing help indices
** building package indices
** installing vignettes
'GlobalAncova.rnw'
'GlobalAncovaDecomp.rnw'
** testing if installed package can be loaded
Warning in .simpleDuplicateClass(def, prev) :
A specification for class "data.frameOrNULL" in package 'globaltest' seems equivalent to one from package 'Biobase' and is not turning on duplicate class definitions for this class
install for x64
* installing *source* package 'GlobalAncova' ...
** libs
gcc -m64 -I"E:/biocbld/BBS-2˜1.10-/R/include" -DNDEBUG -I"d:/RCompile/CRANpkg/extralibs64/local/include" -O2 -Wall -std=gnu99 -mtune=core2 -c GlobalAncova.c -o GlobalAncova.o
GlobalAncova.c: In function 'permut_withFperm':
GlobalAncova.c:186:16: warning: 'ord_perm' may be used uninitialized in this function [-Wuninitialized]
GlobalAncova.c: In function 'permut':
GlobalAncova.c:289:16: warning: 'ord_perm' may be used uninitialized in this function [-Wuninitialized]
gcc -m64 -I"E:/biocbld/BBS-2˜1.10-/R/include" -DNDEBUG -I"d:/RCompile/CRANpkg/extralibs64/local/include" -O2 -Wall -std=gnu99 -mtune=core2 -c ludcmp.c -o ludcmp.o
gcc -m64 -I"E:/biocbld/BBS-2˜1.10-/R/include" -DNDEBUG -I"d:/RCompile/CRANpkg/extralibs64/local/include" -O2 -Wall -std=gnu99 -mtune=core2 -c matrix.c -o matrix.o
gcc -m64 -shared -s -static-libgcc -o GlobalAncova.dll tmp.def GlobalAncova.o ludcmp.o matrix.o -Ld:/RCompile/CRANpkg/extralibs64/local/lib/x64 -Ld:/RCompile/CRANpkg/extralibs64/local/lib -LE:/biocbld/BBS-2~1.10-/R/bin/x64 -lR
installing to E:/biocbld/bbs-2.10-bioc/meat/GlobalAncova.buildbin-libdir/GlobalAncova/libs/x64
** testing if installed package can be loaded
Warning in .simpleDuplicateClass(def, prev) :
A specification for class "data.frameOrNULL" in package 'globaltest' seems equivalent to one from package 'Biobase' and is not turning on duplicate class definitions for this class
* MD5 sums
packaged installation of 'GlobalAncova' as GlobalAncova_3.24.0.zip
* DONE (GlobalAncova)