HEM 1.28.0 HyungJun Cho
Snapshot Date: 2012-09-23 17:01:39 -0700 (Sun, 23 Sep 2012) | URL: https://hedgehog.fhcrc.org/bioconductor/branches/RELEASE_2_10/madman/Rpacks/HEM | Last Changed Rev: 64678 / Revision: 69725 | Last Changed Date: 2012-03-30 15:05:02 -0700 (Fri, 30 Mar 2012) |
| lamb2 | Linux (openSUSE 11.4) / x86_64 | OK | OK | |
moscato2 | Windows Server 2008 R2 Enterprise SP1 (64-bit) / x64 | OK | OK | [ OK ] |
petty | Mac OS X Leopard (10.5.8) / i386 | OK | OK | OK |
install for i386
* installing *source* package 'HEM' ...
** libs
gcc -I"E:/biocbld/BBS-2˜1.10-/R/include" -DNDEBUG -O3 -Wall -std=gnu99 -mtune=core2 -c hem.c -o hem.o
hem.c: In function 'onelayerhem':
hem.c:1390:12: warning: variable 'k' set but not used [-Wunused-but-set-variable]
hem.c: In function 'chk_prt':
hem.c:1593:16: warning: variable 'l' set but not used [-Wunused-but-set-variable]
gcc -shared -s -static-libgcc -o HEM.dll tmp.def hem.o -LE:/biocbld/BBS-2˜1.10-/R/bin/i386 -lR
installing to E:/biocbld/bbs-2.10-bioc/meat/HEM.buildbin-libdir/HEM/libs/i386
** R
** data
** inst
** preparing package for lazy loading
** help
*** installing help indices
** building package indices
** installing vignettes
'HEM.Rnw'
** testing if installed package can be loaded
install for x64
* installing *source* package 'HEM' ...
** libs
gcc -m64 -I"E:/biocbld/BBS-2˜1.10-/R/include" -DNDEBUG -I"d:/RCompile/CRANpkg/extralibs64/local/include" -O2 -Wall -std=gnu99 -mtune=core2 -c hem.c -o hem.o
hem.c: In function 'onelayerhem':
hem.c:1390:12: warning: variable 'k' set but not used [-Wunused-but-set-variable]
hem.c: In function 'chk_prt':
hem.c:1593:16: warning: variable 'l' set but not used [-Wunused-but-set-variable]
gcc -m64 -shared -s -static-libgcc -o HEM.dll tmp.def hem.o -Ld:/RCompile/CRANpkg/extralibs64/local/lib/x64 -Ld:/RCompile/CRANpkg/extralibs64/local/lib -LE:/biocbld/BBS-2˜1.10-/R/bin/x64 -lR
installing to E:/biocbld/bbs-2.10-bioc/meat/HEM.buildbin-libdir/HEM/libs/x64
** testing if installed package can be loaded
* MD5 sums
packaged installation of 'HEM' as HEM_1.28.0.zip
* DONE (HEM)