Harshlight 1.28.0 Maurizio Pellegrino
Snapshot Date: 2012-09-23 17:01:39 -0700 (Sun, 23 Sep 2012) | URL: https://hedgehog.fhcrc.org/bioconductor/branches/RELEASE_2_10/madman/Rpacks/Harshlight | Last Changed Rev: 64678 / Revision: 69725 | Last Changed Date: 2012-03-30 15:05:02 -0700 (Fri, 30 Mar 2012) |
| lamb2 | Linux (openSUSE 11.4) / x86_64 | OK | OK | |
moscato2 | Windows Server 2008 R2 Enterprise SP1 (64-bit) / x64 | OK | OK | [ OK ] |
petty | Mac OS X Leopard (10.5.8) / i386 | OK | OK | OK |
install for i386
* installing *source* package 'Harshlight' ...
** libs
gcc -I"E:/biocbld/BBS-2˜1.10-/R/include" -DNDEBUG -O3 -Wall -std=gnu99 -mtune=core2 -c Harshlight.c -o Harshlight.o
Harshlight.c: In function 'extended_defects':
Harshlight.c:564:20: warning: variable 'p_num_points' set but not used [-Wunused-but-set-variable]
Harshlight.c: In function 'image_dilation':
Harshlight.c:948:10: warning: variable 'cell_value' set but not used [-Wunused-but-set-variable]
Harshlight.c: In function 'norm':
Harshlight.c:1316:27: warning: unused variable 'sorted2' [-Wunused-variable]
Harshlight.c: In function 'report_overall_header':
Harshlight.c:1467:3: warning: unknown conversion type character ')' in format [-Wformat]
Harshlight.c:1471:3: warning: unknown conversion type character ')' in format [-Wformat]
Harshlight.c:1474:3: warning: unknown conversion type character ')' in format [-Wformat]
Harshlight.c: In function 'chip_summary':
Harshlight.c:1532:3: warning: unknown conversion type character ')' in format [-Wformat]
Harshlight.c:1542:3: warning: unknown conversion type character ')' in format [-Wformat]
Harshlight.c:1543:3: warning: unknown conversion type character ')' in format [-Wformat]
Harshlight.c: In function 'extended_stop':
Harshlight.c:1555:3: warning: unknown conversion type character ')' in format [-Wformat]
gcc -shared -s -static-libgcc -o Harshlight.dll tmp.def Harshlight.o -LE:/biocbld/BBS-2˜1.10-/R/bin/i386 -lR
installing to E:/biocbld/bbs-2.10-bioc/meat/Harshlight.buildbin-libdir/Harshlight/libs/i386
** R
** data
** inst
** preparing package for lazy loading
** help
*** installing help indices
** building package indices
** installing vignettes
'Harshlight.Rnw'
** testing if installed package can be loaded
install for x64
* installing *source* package 'Harshlight' ...
** libs
gcc -m64 -I"E:/biocbld/BBS-2˜1.10-/R/include" -DNDEBUG -I"d:/RCompile/CRANpkg/extralibs64/local/include" -O2 -Wall -std=gnu99 -mtune=core2 -c Harshlight.c -o Harshlight.o
Harshlight.c: In function 'extended_defects':
Harshlight.c:564:20: warning: variable 'p_num_points' set but not used [-Wunused-but-set-variable]
Harshlight.c: In function 'image_dilation':
Harshlight.c:948:10: warning: variable 'cell_value' set but not used [-Wunused-but-set-variable]
Harshlight.c: In function 'norm':
Harshlight.c:1316:27: warning: unused variable 'sorted2' [-Wunused-variable]
Harshlight.c: In function 'report_overall_header':
Harshlight.c:1467:3: warning: unknown conversion type character ')' in format [-Wformat]
Harshlight.c:1471:3: warning: unknown conversion type character ')' in format [-Wformat]
Harshlight.c:1474:3: warning: unknown conversion type character ')' in format [-Wformat]
Harshlight.c: In function 'chip_summary':
Harshlight.c:1532:3: warning: unknown conversion type character ')' in format [-Wformat]
Harshlight.c:1542:3: warning: unknown conversion type character ')' in format [-Wformat]
Harshlight.c:1543:3: warning: unknown conversion type character ')' in format [-Wformat]
Harshlight.c: In function 'extended_stop':
Harshlight.c:1555:3: warning: unknown conversion type character ')' in format [-Wformat]
gcc -m64 -shared -s -static-libgcc -o Harshlight.dll tmp.def Harshlight.o -Ld:/RCompile/CRANpkg/extralibs64/local/lib/x64 -Ld:/RCompile/CRANpkg/extralibs64/local/lib -LE:/biocbld/BBS-2~1.10-/R/bin/x64 -lR
installing to E:/biocbld/bbs-2.10-bioc/meat/Harshlight.buildbin-libdir/Harshlight/libs/x64
** testing if installed package can be loaded
* MD5 sums
packaged installation of 'Harshlight' as Harshlight_1.28.0.zip
* DONE (Harshlight)