Back to the "Multiple platform build/check report" A  B  C  D  E  F  G  H [I] J  K  L  M  N  O  P  Q  R  S  T  U  V  W  X  Y  Z 

Package 293/554HostnameOS / ArchBUILDCHECKBUILD BIN
ITALICS 2.16.0
Guillem Rigaill
Snapshot Date: 2012-03-31 17:01:49 -0700 (Sat, 31 Mar 2012)
URL: https://hedgehog.fhcrc.org/bioconductor/branches/RELEASE_2_10/madman/Rpacks/ITALICS
Last Changed Rev: 64678 / Revision: 64719
Last Changed Date: 2012-03-30 15:05:02 -0700 (Fri, 30 Mar 2012)
lamb2 Linux (openSUSE 11.4) / x86_64  OK  OK 
puck5 Linux (Ubuntu 12.04) / x86_64  OK [ OK ]
moscato2 Windows Server 2008 R2 Enterprise SP1 (64-bit) / x64  OK  OK  OK 
petty Mac OS X Leopard (10.5.8) / i386  OK  OK  OK 

Summary

Package: ITALICS
Version: 2.16.0
Command: /home/hpages/test-puck5/bbs-2.10-bioc/R/bin/R CMD check --no-vignettes --timings ITALICS_2.16.0.tar.gz
StartedAt: 2012-04-01 01:48:13 -0700 (Sun, 01 Apr 2012)
EndedAt: 2012-04-01 01:49:50 -0700 (Sun, 01 Apr 2012)
EllapsedTime: 97.6 seconds
RetCode: 0
Status:  OK 
CheckDir: ITALICS.Rcheck
Warnings: 0

Command output

* using log directory '/loc/home/hpages/test-puck5/bbs-2.10-bioc/meat/ITALICS.Rcheck'
* using R version 2.15.0 RC (2012-03-22 r58802)
* using platform: x86_64-unknown-linux-gnu (64-bit)
* using session charset: ISO8859-1
* using option '--no-vignettes'
* checking for file 'ITALICS/DESCRIPTION' ... OK
* this is package 'ITALICS' version '2.16.0'
* checking package namespace information ... OK
* checking package dependencies ... OK
* checking if this is a source package ... OK
* checking if there is a namespace ... OK
* checking whether package 'ITALICS' can be installed ... OK
* checking installed package size ... OK
* checking package directory ... OK
* checking for portable file names ... OK
* checking for sufficient/correct file permissions ... OK
* checking DESCRIPTION meta-information ... OK
* checking top-level files ... OK
* checking index information ... OK
* checking package subdirectories ... OK
* checking R files for non-ASCII characters ... OK
* checking R files for syntax errors ... OK
* checking whether the package can be loaded ... OK
* checking whether the package can be loaded with stated dependencies ... OK
* checking whether the package can be unloaded cleanly ... OK
* checking whether the namespace can be loaded with stated dependencies ... OK
* checking whether the namespace can be unloaded cleanly ... OK
* checking for unstated dependencies in R code ... OK
* checking S3 generic/method consistency ... OK
* checking replacement functions ... OK
* checking foreign function calls ... OK
* checking R code for possible problems ... NOTE
trainITALICS: warning in list.files(dir, full.name = TRUE): partial
  argument match of 'full.name' to 'full.names'
* checking Rd files ... NOTE
prepare_Rd: GLAD.GLAD.Rd:33: Dropping empty section \keyword
prepare_Rd: ITALICSNew.Rd:82: Dropping empty section \keyword
prepare_Rd: ITALICSTrain.Rd:43: Dropping empty section \keyword
prepare_Rd: Model.GetConfDat.Rd:23: Dropping empty section \keyword
prepare_Rd: Model.GetCorrection.Rd:20: Dropping empty section \keyword
prepare_Rd: Model.GetEffet.Rd:20: Dropping empty section \keyword
prepare_Rd: Model.GetModel.Rd:21: Dropping empty section \keyword
prepare_Rd: Model.GetResidu.Rd:18: Dropping empty section \keyword
prepare_Rd: New.AddInfo.Rd:24: Dropping empty section \keyword
prepare_Rd: New.fromQuartetToSnp.Rd:31: Dropping empty section \keyword
prepare_Rd: New.fromQuartetToSnp.Rd:25: Dropping empty section \examples
prepare_Rd: New.fromSnpToQuartet.Rd:25: Dropping empty section \keyword
prepare_Rd: New.getQuartet.Rd:27: Dropping empty section \keyword
prepare_Rd: New.getSnpInfo.Rd:25: Dropping empty section \keyword
prepare_Rd: New.readQuartetCopyNb.Rd:23: Dropping empty section \keyword
* checking Rd metadata ... OK
* checking Rd cross-references ... OK
* checking for missing documentation entries ... OK
* checking for code/documentation mismatches ... OK
* checking Rd \usage sections ... OK
* checking Rd contents ... OK
* checking for unstated dependencies in examples ... OK
* checking installed files from 'inst/doc' ... NOTE
The following files should probably not be installed:
  'ITALICS-006.pdf'

Consider the use of a .Rinstignore file: see 'Writing R Extensions',
or move the vignette sources from 'inst/doc' to 'vignettes'.
* checking examples ... OK
* checking for unstated dependencies in vignettes ... OK
* checking package vignettes in 'inst/doc' ... OK
* checking running R code from vignettes ... SKIPPED
* checking re-building of vignettes ... SKIPPED
* checking PDF version of manual ... OK

NOTE: There were 3 notes.
See
  '/loc/home/hpages/test-puck5/bbs-2.10-bioc/meat/ITALICS.Rcheck/00check.log'
for details.

ITALICS.Rcheck/00install.out:

* installing *source* package 'ITALICS' ...
** R
** inst
** preparing package for lazy loading
** help
*** installing help indices
** building package indices
** installing vignettes
   'ITALICS.Rnw' using 'latin1' 
** testing if installed package can be loaded

* DONE (ITALICS)

ITALICS.Rcheck/ITALICS-Ex.timings:

nameusersystemelapsed
ITALICSNew000