Back to the "Multiple platform build/check report" A  B  C  D  E  F  G  H [I] J  K  L  M  N  O  P  Q  R  S  T  U  V  W  X  Y  Z 

Package 276/554HostnameOS / ArchBUILDCHECKBUILD BIN
Icens 1.28.0
Bioconductor Package Maintainer
Snapshot Date: 2012-03-31 17:01:49 -0700 (Sat, 31 Mar 2012)
URL: https://hedgehog.fhcrc.org/bioconductor/branches/RELEASE_2_10/madman/Rpacks/Icens
Last Changed Rev: 64678 / Revision: 64719
Last Changed Date: 2012-03-30 15:05:02 -0700 (Fri, 30 Mar 2012)
lamb2 Linux (openSUSE 11.4) / x86_64  OK  OK 
puck5 Linux (Ubuntu 12.04) / x86_64  OK [ OK ]
moscato2 Windows Server 2008 R2 Enterprise SP1 (64-bit) / x64  OK  OK  OK 
petty Mac OS X Leopard (10.5.8) / i386  OK  OK  OK 

Summary

Package: Icens
Version: 1.28.0
Command: /home/hpages/test-puck5/bbs-2.10-bioc/R/bin/R CMD check --no-vignettes --timings Icens_1.28.0.tar.gz
StartedAt: 2012-04-01 01:42:11 -0700 (Sun, 01 Apr 2012)
EndedAt: 2012-04-01 01:42:41 -0700 (Sun, 01 Apr 2012)
EllapsedTime: 29.7 seconds
RetCode: 0
Status:  OK 
CheckDir: Icens.Rcheck
Warnings: 0

Command output

* using log directory '/loc/home/hpages/test-puck5/bbs-2.10-bioc/meat/Icens.Rcheck'
* using R version 2.15.0 RC (2012-03-22 r58802)
* using platform: x86_64-unknown-linux-gnu (64-bit)
* using session charset: ISO8859-1
* using option '--no-vignettes'
* checking for file 'Icens/DESCRIPTION' ... OK
* this is package 'Icens' version '1.28.0'
* checking package namespace information ... OK
* checking package dependencies ... OK
* checking if this is a source package ... OK
* checking if there is a namespace ... OK
* checking whether package 'Icens' can be installed ... OK
* checking installed package size ... OK
* checking package directory ... OK
* checking for portable file names ... OK
* checking for sufficient/correct file permissions ... OK
* checking DESCRIPTION meta-information ... OK
* checking top-level files ... OK
* checking index information ... OK
* checking package subdirectories ... OK
* checking R files for non-ASCII characters ... OK
* checking R files for syntax errors ... OK
* checking whether the package can be loaded ... OK
* checking whether the package can be loaded with stated dependencies ... OK
* checking whether the package can be unloaded cleanly ... OK
* checking whether the namespace can be loaded with stated dependencies ... OK
* checking whether the namespace can be unloaded cleanly ... OK
* checking for unstated dependencies in R code ... OK
* checking S3 generic/method consistency ... OK
* checking replacement functions ... OK
* checking foreign function calls ... OK
* checking R code for possible problems ... NOTE
VEMICMmac: no visible binding for global variable 'EMstep'
* checking Rd files ... OK
* checking Rd metadata ... OK
* checking Rd cross-references ... OK
* checking for missing documentation entries ... OK
* checking for code/documentation mismatches ... OK
* checking Rd \usage sections ... OK
* checking Rd contents ... OK
* checking for unstated dependencies in examples ... OK
* checking contents of 'data' directory ... OK
* checking data for non-ASCII characters ... OK
* checking data for ASCII and uncompressed saves ... OK
* checking examples ... OK
* checking for unstated dependencies in tests ... OK
* checking tests ...
  Running 'testbv.R'
  Comparing 'testbv.Rout' to 'testbv.Rout.save' ...117c117
<  [6]  1.461001e+00  1.207129e+00  1.000000e+00  4.748624e-01 -2.640501e-16
---
>  [6]  1.461001e+00  1.207129e+00  1.000000e+00  4.748624e-01 -2.480201e-16
 OK
* checking PDF version of manual ... OK

NOTE: There was 1 note.
See
  '/loc/home/hpages/test-puck5/bbs-2.10-bioc/meat/Icens.Rcheck/00check.log'
for details.

Icens.Rcheck/00install.out:

* installing *source* package 'Icens' ...
** R
** data
** inst
** preparing package for lazy loading
** help
*** installing help indices
** building package indices
** testing if installed package can be loaded

* DONE (Icens)

Icens.Rcheck/Icens-Ex.timings:

nameusersystemelapsed
BVcliques0.3280.0000.339
BVclmat1.9760.0001.990
BVsupport2.0280.0162.062
EM0.0920.0000.111
EMICM0.1040.0000.116
ISDM7.0720.0127.095
MLEintvl0.0320.0000.038
Maclist0.0160.0000.021
Macmat0.0120.0040.023
PGM0.1440.0000.170
Plotboxes0.0520.0000.065
VEM0.1320.0040.149
cmv0.0040.0000.017
cosmesis0.0040.0000.014
hiv0.0000.0080.025
plot.icsurv0.3040.0080.328
pruitt0.0000.0000.011