KEGGSOAP 1.30.4 Bioconductor Package Maintainer
Snapshot Date: 2012-09-23 17:01:39 -0700 (Sun, 23 Sep 2012) | URL: https://hedgehog.fhcrc.org/bioconductor/branches/RELEASE_2_10/madman/Rpacks/KEGGSOAP | Last Changed Rev: 68792 / Revision: 69725 | Last Changed Date: 2012-08-24 16:17:07 -0700 (Fri, 24 Aug 2012) |
| lamb2 | Linux (openSUSE 11.4) / x86_64 | OK | WARNINGS | |
moscato2 | Windows Server 2008 R2 Enterprise SP1 (64-bit) / x64 | OK | WARNINGS | [ OK ] |
petty | Mac OS X Leopard (10.5.8) / i386 | OK | WARNINGS | OK |
install for i386
* installing *source* package 'KEGGSOAP' ...
** R
** inst
** preparing package for lazy loading
** help
*** installing help indices
** building package indices
** testing if installed package can be loaded
Note: Method with signature "PrimitiveSOAPType#list" chosen for function "resolve",
target signature "PrimitiveSOAPType#SchemaCollection".
"SOAPType#SchemaCollection" would also be valid
Warning: Class "VirtualSOAPClass" is defined (with package slot 'SSOAP') but no metadata object found to revise subclass information---not exported? Making a copy in package '.GlobalEnv'
Warning: Class "VirtualXMLSchemaClass" is defined (with package slot 'XMLSchema') but no metadata object found to revise subclass information---not exported? Making a copy in package '.GlobalEnv'
Note: Method with signature "ArrayType#list" chosen for function "resolve",
target signature "ArrayType#SchemaCollection".
"SimpleSequenceType#SchemaCollection" would also be valid
install for x64
* installing *source* package 'KEGGSOAP' ...
** testing if installed package can be loaded
Note: Method with signature "PrimitiveSOAPType#list" chosen for function "resolve",
target signature "PrimitiveSOAPType#SchemaCollection".
"SOAPType#SchemaCollection" would also be valid
Warning: Class "VirtualSOAPClass" is defined (with package slot 'SSOAP') but no metadata object found to revise subclass information---not exported? Making a copy in package '.GlobalEnv'
Warning: Class "VirtualXMLSchemaClass" is defined (with package slot 'XMLSchema') but no metadata object found to revise subclass information---not exported? Making a copy in package '.GlobalEnv'
Note: Method with signature "ArrayType#list" chosen for function "resolve",
target signature "ArrayType#SchemaCollection".
"SimpleSequenceType#SchemaCollection" would also be valid
* MD5 sums
packaged installation of 'KEGGSOAP' as KEGGSOAP_1.30.4.zip
* DONE (KEGGSOAP)