LVSmiRNA 1.6.0 Stefano Calza
Snapshot Date: 2012-09-23 17:01:39 -0700 (Sun, 23 Sep 2012) | URL: https://hedgehog.fhcrc.org/bioconductor/branches/RELEASE_2_10/madman/Rpacks/LVSmiRNA | Last Changed Rev: 64678 / Revision: 69725 | Last Changed Date: 2012-03-30 15:05:02 -0700 (Fri, 30 Mar 2012) |
| lamb2 | Linux (openSUSE 11.4) / x86_64 | OK | OK | |
moscato2 | Windows Server 2008 R2 Enterprise SP1 (64-bit) / x64 | OK | OK | [ OK ] |
petty | Mac OS X Leopard (10.5.8) / i386 | OK | OK | OK |
install for i386
* installing *source* package 'LVSmiRNA' ...
** libs
gcc -I"E:/biocbld/BBS-2˜1.10-/R/include" -DNDEBUG -DHAVE_ZLIB -O3 -Wall -std=gnu99 -mtune=core2 -c basic_fns.c -o basic_fns.o
basic_fns.c: In function 'lvs_median':
basic_fns.c:146:7: warning: unused variable 'i' [-Wunused-variable]
gcc -I"E:/biocbld/BBS-2˜1.10-/R/include" -DNDEBUG -DHAVE_ZLIB -O3 -Wall -std=gnu99 -mtune=core2 -c init.c -o init.o
gcc -I"E:/biocbld/BBS-2˜1.10-/R/include" -DNDEBUG -DHAVE_ZLIB -O3 -Wall -std=gnu99 -mtune=core2 -c lvs_rlm.c -o lvs_rlm.o
lvs_rlm.c: In function 'gamma_fit':
lvs_rlm.c:175:30: warning: variable 'converged' set but not used [-Wunused-but-set-variable]
lvs_rlm.c: In function 'test_gamma_fit':
lvs_rlm.c:286:30: warning: variable 'converged' set but not used [-Wunused-but-set-variable]
gcc -shared -s -static-libgcc -o LVSmiRNA.dll tmp.def basic_fns.o init.o lvs_rlm.o -lRzlib -lgfortran -LE:/biocbld/BBS-2~1.10-/R/bin/i386 -lRlapack -LE:/biocbld/BBS-2~1.10-/R/bin/i386 -lRblas -LE:/biocbld/BBS-2~1.10-/R/bin/i386 -lR
installing to E:/biocbld/bbs-2.10-bioc/meat/LVSmiRNA.buildbin-libdir/LVSmiRNA/libs/i386
** R
** data
** inst
** preparing package for lazy loading
Warning: replacing previous import 'boxplot' when loading 'graphics'
** help
*** installing help indices
** building package indices
** installing vignettes
'LVSmiRNA.Rnw'
** testing if installed package can be loaded
Warning: replacing previous import 'boxplot' when loading 'graphics'
install for x64
* installing *source* package 'LVSmiRNA' ...
** libs
gcc -m64 -I"E:/biocbld/BBS-2˜1.10-/R/include" -DNDEBUG -DHAVE_ZLIB -I"d:/RCompile/CRANpkg/extralibs64/local/include" -O2 -Wall -std=gnu99 -mtune=core2 -c basic_fns.c -o basic_fns.o
basic_fns.c: In function 'lvs_median':
basic_fns.c:146:7: warning: unused variable 'i' [-Wunused-variable]
gcc -m64 -I"E:/biocbld/BBS-2˜1.10-/R/include" -DNDEBUG -DHAVE_ZLIB -I"d:/RCompile/CRANpkg/extralibs64/local/include" -O2 -Wall -std=gnu99 -mtune=core2 -c init.c -o init.o
gcc -m64 -I"E:/biocbld/BBS-2˜1.10-/R/include" -DNDEBUG -DHAVE_ZLIB -I"d:/RCompile/CRANpkg/extralibs64/local/include" -O2 -Wall -std=gnu99 -mtune=core2 -c lvs_rlm.c -o lvs_rlm.o
lvs_rlm.c: In function 'gamma_fit':
lvs_rlm.c:175:30: warning: variable 'converged' set but not used [-Wunused-but-set-variable]
lvs_rlm.c: In function 'test_gamma_fit':
lvs_rlm.c:286:30: warning: variable 'converged' set but not used [-Wunused-but-set-variable]
gcc -m64 -shared -s -static-libgcc -o LVSmiRNA.dll tmp.def basic_fns.o init.o lvs_rlm.o -lRzlib -lgfortran -LE:/biocbld/BBS-2~1.10-/R/bin/x64 -lRlapack -LE:/biocbld/BBS-2~1.10-/R/bin/x64 -lRblas -Ld:/RCompile/CRANpkg/extralibs64/local/lib/x64 -Ld:/RCompile/CRANpkg/extralibs64/local/lib -LE:/biocbld/BBS-2~1.10-/R/bin/x64 -lR
installing to E:/biocbld/bbs-2.10-bioc/meat/LVSmiRNA.buildbin-libdir/LVSmiRNA/libs/x64
** testing if installed package can be loaded
Warning: replacing previous import 'boxplot' when loading 'graphics'
* MD5 sums
packaged installation of 'LVSmiRNA' as LVSmiRNA_1.6.0.zip
* DONE (LVSmiRNA)