MCRestimate 2.12.0 Marc Johannes
Snapshot Date: 2012-03-31 17:01:49 -0700 (Sat, 31 Mar 2012) | URL: https://hedgehog.fhcrc.org/bioconductor/branches/RELEASE_2_10/madman/Rpacks/MCRestimate | Last Changed Rev: 64678 / Revision: 64719 | Last Changed Date: 2012-03-30 15:05:02 -0700 (Fri, 30 Mar 2012) |
| lamb2 | Linux (openSUSE 11.4) / x86_64 | OK | OK | |
puck5 | Linux (Ubuntu 12.04) / x86_64 | OK | [ OK ] | |
moscato2 | Windows Server 2008 R2 Enterprise SP1 (64-bit) / x64 | OK | OK | OK |
petty | Mac OS X Leopard (10.5.8) / i386 | OK | OK | OK |
* using log directory '/loc/home/hpages/test-puck5/bbs-2.10-bioc/meat/MCRestimate.Rcheck'
* using R version 2.15.0 RC (2012-03-22 r58802)
* using platform: x86_64-unknown-linux-gnu (64-bit)
* using session charset: ISO8859-1
* using option '--no-vignettes'
* checking for file 'MCRestimate/DESCRIPTION' ... OK
* this is package 'MCRestimate' version '2.12.0'
* checking package namespace information ... OK
* checking package dependencies ... OK
* checking if this is a source package ... OK
* checking if there is a namespace ... OK
* checking whether package 'MCRestimate' can be installed ... OK
* checking installed package size ... OK
* checking package directory ... OK
* checking for portable file names ... OK
* checking for sufficient/correct file permissions ... OK
* checking DESCRIPTION meta-information ... OK
* checking top-level files ... OK
* checking index information ... OK
* checking package subdirectories ... OK
* checking R files for non-ASCII characters ... OK
* checking R files for syntax errors ... OK
* checking whether the package can be loaded ... OK
* checking whether the package can be loaded with stated dependencies ... OK
* checking whether the package can be unloaded cleanly ... OK
* checking whether the namespace can be loaded with stated dependencies ... OK
* checking whether the namespace can be unloaded cleanly ... OK
* checking for unstated dependencies in R code ... OK
* checking S3 generic/method consistency ... OK
* checking replacement functions ... OK
* checking foreign function calls ... OK
* checking R code for possible problems ... NOTE
MCRestimate.default : my.balanced.folds: warning in
get("balanced.folds", en = asNamespace("pamr")): partial argument
match of 'en' to 'envir'
important.variable.names : <anonymous>: warning in median(x, na =
TRUE): partial argument match of 'na' to 'na.rm'
important.variable.names : <anonymous>: warning in var(x, na = TRUE):
partial argument match of 'na' to 'na.rm'
plot.MCRestimate: warning in layout(c(1, 2), height = c(5, 1)): partial
argument match of 'height' to 'heights'
* checking Rd files ... NOTE
prepare_Rd: PLR.Rd:19: Dropping empty section \details
* checking Rd metadata ... OK
* checking Rd cross-references ... OK
* checking for missing documentation entries ... OK
* checking for code/documentation mismatches ... OK
* checking Rd \usage sections ... OK
* checking Rd contents ... OK
* checking for unstated dependencies in examples ... OK
* checking installed files from 'inst/doc' ... OK
* checking examples ... OK
* checking for unstated dependencies in vignettes ... OK
* checking package vignettes in 'inst/doc' ... OK
* checking running R code from vignettes ... SKIPPED
* checking re-building of vignettes ... SKIPPED
* checking PDF version of manual ... OK
NOTE: There were 2 notes.
See
'/loc/home/hpages/test-puck5/bbs-2.10-bioc/meat/MCRestimate.Rcheck/00check.log'
for details.