Back to the "Multiple platform build/check report" A  B  C  D  E  F  G  H  I  J  K  L [M] N  O  P  Q  R  S  T  U  V  W  X  Y  Z 

Package 336/554HostnameOS / ArchBUILDCHECKBUILD BIN
MEDIPS 1.6.0
Lukas Chavez
Snapshot Date: 2012-03-31 17:01:49 -0700 (Sat, 31 Mar 2012)
URL: https://hedgehog.fhcrc.org/bioconductor/branches/RELEASE_2_10/madman/Rpacks/MEDIPS
Last Changed Rev: 64678 / Revision: 64719
Last Changed Date: 2012-03-30 15:05:02 -0700 (Fri, 30 Mar 2012)
lamb2 Linux (openSUSE 11.4) / x86_64  OK  OK 
puck5 Linux (Ubuntu 12.04) / x86_64  OK [ OK ]
moscato2 Windows Server 2008 R2 Enterprise SP1 (64-bit) / x64  OK  OK  OK 
petty Mac OS X Leopard (10.5.8) / i386  OK  OK  OK 

Summary

Package: MEDIPS
Version: 1.6.0
Command: /home/hpages/test-puck5/bbs-2.10-bioc/R/bin/R CMD check --no-vignettes --timings MEDIPS_1.6.0.tar.gz
StartedAt: 2012-04-01 02:04:38 -0700 (Sun, 01 Apr 2012)
EndedAt: 2012-04-01 02:11:01 -0700 (Sun, 01 Apr 2012)
EllapsedTime: 382.3 seconds
RetCode: 0
Status:  OK 
CheckDir: MEDIPS.Rcheck
Warnings: 0

Command output

* using log directory '/loc/home/hpages/test-puck5/bbs-2.10-bioc/meat/MEDIPS.Rcheck'
* using R version 2.15.0 RC (2012-03-22 r58802)
* using platform: x86_64-unknown-linux-gnu (64-bit)
* using session charset: ISO8859-1
* using option '--no-vignettes'
* checking for file 'MEDIPS/DESCRIPTION' ... OK
* checking extension type ... Package
* this is package 'MEDIPS' version '1.6.0'
* checking package namespace information ... OK
* checking package dependencies ... OK
* checking if this is a source package ... OK
* checking if there is a namespace ... OK
* checking whether package 'MEDIPS' can be installed ... OK
* checking installed package size ... NOTE
  installed size is 47.8Mb
  sub-directories of 1Mb or more:
    extdata  47.0Mb
* checking package directory ... OK
* checking for portable file names ... OK
* checking for sufficient/correct file permissions ... OK
* checking DESCRIPTION meta-information ... OK
* checking top-level files ... OK
* checking index information ... OK
* checking package subdirectories ... OK
* checking R files for non-ASCII characters ... OK
* checking R files for syntax errors ... OK
* checking whether the package can be loaded ... OK
* checking whether the package can be loaded with stated dependencies ... OK
* checking whether the package can be unloaded cleanly ... OK
* checking whether the namespace can be loaded with stated dependencies ... OK
* checking whether the namespace can be unloaded cleanly ... OK
* checking for unstated dependencies in R code ... OK
* checking S3 generic/method consistency ... OK
* checking replacement functions ... OK
* checking foreign function calls ... OK
* checking R code for possible problems ... OK
* checking Rd files ... OK
* checking Rd metadata ... OK
* checking Rd cross-references ... OK
* checking for missing documentation entries ... OK
* checking for code/documentation mismatches ... OK
* checking Rd \usage sections ... OK
* checking Rd contents ... OK
* checking for unstated dependencies in examples ... OK
* checking line endings in C/C++/Fortran sources/headers ... OK
* checking line endings in Makefiles ... OK
* checking for portable use of $(BLAS_LIBS) and $(LAPACK_LIBS) ... OK
* checking compiled code ... OK
* checking installed files from 'inst/doc' ... OK
* checking examples ... OK
* checking for unstated dependencies in vignettes ... OK
* checking package vignettes in 'inst/doc' ... OK
* checking running R code from vignettes ... SKIPPED
* checking re-building of vignettes ... SKIPPED
* checking PDF version of manual ... OK

NOTE: There was 1 note.
See
  '/loc/home/hpages/test-puck5/bbs-2.10-bioc/meat/MEDIPS.Rcheck/00check.log'
for details.

MEDIPS.Rcheck/00install.out:

* installing *source* package 'MEDIPS' ...
** libs
gcc -std=gnu99 -I/home/hpages/test-puck5/bbs-2.10-bioc/R/include -DNDEBUG  -I/usr/local/include    -fpic  -g -O2  -c annotate.c -o annotate.o
gcc -std=gnu99 -I/home/hpages/test-puck5/bbs-2.10-bioc/R/include -DNDEBUG  -I/usr/local/include    -fpic  -g -O2  -c calibration.c -o calibration.o
gcc -std=gnu99 -I/home/hpages/test-puck5/bbs-2.10-bioc/R/include -DNDEBUG  -I/usr/local/include    -fpic  -g -O2  -c coupling.c -o coupling.o
gcc -std=gnu99 -I/home/hpages/test-puck5/bbs-2.10-bioc/R/include -DNDEBUG  -I/usr/local/include    -fpic  -g -O2  -c profile.c -o profile.o
gcc -std=gnu99 -I/home/hpages/test-puck5/bbs-2.10-bioc/R/include -DNDEBUG  -I/usr/local/include    -fpic  -g -O2  -c roiprofile.c -o roiprofile.o
gcc -std=gnu99 -shared -L/usr/local/lib -o MEDIPS.so annotate.o calibration.o coupling.o profile.o roiprofile.o -L/home/hpages/test-puck5/bbs-2.10-bioc/R/lib -lR
installing to /loc/home/hpages/test-puck5/bbs-2.10-bioc/meat/MEDIPS.Rcheck/MEDIPS/libs
** R
** inst
** preparing package for lazy loading
** help
*** installing help indices
** building package indices
** installing vignettes
   'MEDIPS.Rnw' 
** testing if installed package can be loaded

* DONE (MEDIPS)

MEDIPS.Rcheck/MEDIPS-Ex.timings:

nameusersystemelapsed
MEDIPS.CpGenrich83.833 2.65686.692
MEDIPS.annotate0.0320.0000.035
MEDIPS.calibrationCurve4.0560.1684.247
MEDIPS.couplingVector3.2920.1243.436
MEDIPS.coverageAnalysis6.1890.0686.275
MEDIPS.exportWIG3.5360.0203.572
MEDIPS.genomeVector2.1040.0082.137
MEDIPS.getPositions1.7560.0041.775
MEDIPS.mergeFrames0.0040.0000.005
MEDIPS.methylProfiling5.7330.0405.793
MEDIPS.normalize3.6200.0323.667
MEDIPS.plotCalibrationPlot6.2880.0446.350
MEDIPS.plotCoverage7.4210.0207.459
MEDIPS.plotSaturation34.614 0.03634.680
MEDIPS.readAlignedSequences1.7640.0281.806
MEDIPS.saturationAnalysis31.790 0.04831.874
MEDIPS.selectSignificants79.225 0.62079.978
MEDIPSset-class0.0000.0000.001