Back to the "Multiple platform build/check report" A  B  C  D  E  F  G  H  I  J  K  L [M] N  O  P  Q  R  S  T  U  V  W  X  Y  Z 

Package 358/554HostnameOS / ArchBUILDCHECKBUILD BIN
MSnbase 1.4.0
Laurent Gatto
Snapshot Date: 2012-03-31 17:01:49 -0700 (Sat, 31 Mar 2012)
URL: https://hedgehog.fhcrc.org/bioconductor/branches/RELEASE_2_10/madman/Rpacks/MSnbase
Last Changed Rev: 64678 / Revision: 64719
Last Changed Date: 2012-03-30 15:05:02 -0700 (Fri, 30 Mar 2012)
lamb2 Linux (openSUSE 11.4) / x86_64  OK  OK 
puck5 Linux (Ubuntu 12.04) / x86_64  OK [ OK ]
moscato2 Windows Server 2008 R2 Enterprise SP1 (64-bit) / x64  OK  OK  OK 
petty Mac OS X Leopard (10.5.8) / i386  OK  OK  OK 

Summary

Package: MSnbase
Version: 1.4.0
Command: /home/hpages/test-puck5/bbs-2.10-bioc/R/bin/R CMD check --no-vignettes --timings MSnbase_1.4.0.tar.gz
StartedAt: 2012-04-01 02:17:37 -0700 (Sun, 01 Apr 2012)
EndedAt: 2012-04-01 02:20:27 -0700 (Sun, 01 Apr 2012)
EllapsedTime: 170.4 seconds
RetCode: 0
Status:  OK 
CheckDir: MSnbase.Rcheck
Warnings: 0

Command output

* using log directory '/loc/home/hpages/test-puck5/bbs-2.10-bioc/meat/MSnbase.Rcheck'
* using R version 2.15.0 RC (2012-03-22 r58802)
* using platform: x86_64-unknown-linux-gnu (64-bit)
* using session charset: ISO8859-1
* using option '--no-vignettes'
* checking for file 'MSnbase/DESCRIPTION' ... OK
* this is package 'MSnbase' version '1.4.0'
* checking package namespace information ... OK
* checking package dependencies ... OK
* checking if this is a source package ... OK
* checking if there is a namespace ... OK
* checking whether package 'MSnbase' can be installed ... OK
* checking installed package size ... OK
* checking package directory ... OK
* checking for portable file names ... OK
* checking for sufficient/correct file permissions ... OK
* checking DESCRIPTION meta-information ... OK
* checking top-level files ... OK
* checking index information ... OK
* checking package subdirectories ... OK
* checking R files for non-ASCII characters ... OK
* checking R files for syntax errors ... OK
* checking whether the package can be loaded ... OK
* checking whether the package can be loaded with stated dependencies ... OK
* checking whether the package can be unloaded cleanly ... OK
* checking whether the namespace can be loaded with stated dependencies ... OK
* checking whether the namespace can be unloaded cleanly ... OK
* checking for unstated dependencies in R code ... OK
* checking S3 generic/method consistency ... OK
* checking replacement functions ... OK
* checking foreign function calls ... OK
* checking R code for possible problems ... NOTE
quantify.MSnExp: no visible global function definition for
  'registerDoMC'
readMSnSet: no visible binding for global variable 'stringAsFactors'
* checking Rd files ... OK
* checking Rd metadata ... OK
* checking Rd cross-references ... OK
* checking for missing documentation entries ... OK
* checking for code/documentation mismatches ... OK
* checking Rd \usage sections ... OK
* checking Rd contents ... OK
* checking for unstated dependencies in examples ... OK
* checking contents of 'data' directory ... OK
* checking data for non-ASCII characters ... OK
* checking data for ASCII and uncompressed saves ... OK
* checking installed files from 'inst/doc' ... OK
* checking examples ... OK
* checking for unstated dependencies in tests ... OK
* checking tests ...
  Running 'test-all.R'
 OK
* checking for unstated dependencies in vignettes ... OK
* checking package vignettes in 'inst/doc' ... OK
* checking running R code from vignettes ... SKIPPED
* checking re-building of vignettes ... SKIPPED
* checking PDF version of manual ... OK

NOTE: There was 1 note.
See
  '/loc/home/hpages/test-puck5/bbs-2.10-bioc/meat/MSnbase.Rcheck/00check.log'
for details.

MSnbase.Rcheck/00install.out:

* installing *source* package 'MSnbase' ...
** R
** data
**  moving datasets to lazyload DB
** inst
** preparing package for lazy loading
Creating a generic function for 'plot' from package 'graphics' in package 'MSnbase'
** help
*** installing help indices
** building package indices
** installing vignettes
   'MSnbase-demo.Rnw' 
   'MSnbase-development.Rnw' 
   'MSnbase-io.Rnw' 
** testing if installed package can be loaded

* DONE (MSnbase)

MSnbase.Rcheck/MSnbase-Ex.timings:

nameusersystemelapsed
MSnExp-class0.4280.0000.433
MSnProcess-class0.0000.0000.001
MSnSet-class0.6360.0720.800
NAnnotatedDataFrame-class0.0240.0000.024
ReporterIons-class0.0160.0040.019
TMT60.0160.0000.014
clean-methods0.4120.0200.438
combineFeatures0.8080.1640.660
extractPrecSpectra-methods0.2400.0160.262
extractSpectra-methods0.2440.0040.255
fillUp0.0080.0000.007
formatRt0.0000.0000.001
iTRAQ40.0160.0000.014
itraqdata0.0360.0040.041
normalise-methods3.8440.4721.496
pSet-class0.0000.0000.001
plot-methods1.6200.0081.633
plot2d-methods1.0920.0001.089
plotDensity-methods0.8720.0040.875
plotMzDelta-methods12.949 0.30813.267
plotNA-methods4.0760.4361.486
precSelection0.0440.0000.043
purityCorrect-methods1.2720.3120.720
quantify-methods0.6360.1800.744
readIspyData000
readMSData0.2320.0280.265
readMSnSet000
readMgfData000
removePeaks-methods0.3720.0000.377
removeReporters-methods0.7720.0040.777
trimMz-methods0.2680.0000.275
writeMgfData-methods000