Back to the "Multiple platform build/check report" A  B  C  D  E  F  G  H  I  J  K  L  M [N] O  P  Q  R  S  T  U  V  W  X  Y  Z 

Package 370/554HostnameOS / ArchBUILDCHECKBUILD BIN
NormqPCR 1.2.0
James Perkins
Snapshot Date: 2012-03-31 17:01:49 -0700 (Sat, 31 Mar 2012)
URL: https://hedgehog.fhcrc.org/bioconductor/branches/RELEASE_2_10/madman/Rpacks/NormqPCR
Last Changed Rev: 64678 / Revision: 64719
Last Changed Date: 2012-03-30 15:05:02 -0700 (Fri, 30 Mar 2012)
lamb2 Linux (openSUSE 11.4) / x86_64  OK  OK 
puck5 Linux (Ubuntu 12.04) / x86_64  OK [ OK ]
moscato2 Windows Server 2008 R2 Enterprise SP1 (64-bit) / x64  OK  OK  OK 
petty Mac OS X Leopard (10.5.8) / i386  OK  OK  OK 

Summary

Package: NormqPCR
Version: 1.2.0
Command: /home/hpages/test-puck5/bbs-2.10-bioc/R/bin/R CMD check --no-vignettes --timings NormqPCR_1.2.0.tar.gz
StartedAt: 2012-04-01 02:24:38 -0700 (Sun, 01 Apr 2012)
EndedAt: 2012-04-01 02:25:14 -0700 (Sun, 01 Apr 2012)
EllapsedTime: 35.7 seconds
RetCode: 0
Status:  OK 
CheckDir: NormqPCR.Rcheck
Warnings: 0

Command output

* using log directory '/loc/home/hpages/test-puck5/bbs-2.10-bioc/meat/NormqPCR.Rcheck'
* using R version 2.15.0 RC (2012-03-22 r58802)
* using platform: x86_64-unknown-linux-gnu (64-bit)
* using session charset: ISO8859-1
* using option '--no-vignettes'
* checking for file 'NormqPCR/DESCRIPTION' ... OK
* this is package 'NormqPCR' version '1.2.0'
* checking package namespace information ... OK
* checking package dependencies ... OK
* checking if this is a source package ... OK
* checking if there is a namespace ... OK
* checking whether package 'NormqPCR' can be installed ... OK
* checking installed package size ... OK
* checking package directory ... OK
* checking for portable file names ... OK
* checking for sufficient/correct file permissions ... OK
* checking DESCRIPTION meta-information ... OK
* checking top-level files ... OK
* checking index information ... OK
* checking package subdirectories ... OK
* checking R files for non-ASCII characters ... OK
* checking R files for syntax errors ... OK
* checking whether the package can be loaded ... OK
* checking whether the package can be loaded with stated dependencies ... OK
* checking whether the package can be unloaded cleanly ... OK
* checking whether the namespace can be loaded with stated dependencies ... OK
* checking whether the namespace can be unloaded cleanly ... OK
* checking for unstated dependencies in R code ... OK
* checking S3 generic/method consistency ... OK
* checking replacement functions ... OK
* checking foreign function calls ... OK
* checking R code for possible problems ... OK
* checking Rd files ... OK
* checking Rd metadata ... OK
* checking Rd cross-references ... OK
* checking for missing documentation entries ... OK
* checking for code/documentation mismatches ... OK
* checking Rd \usage sections ... OK
* checking Rd contents ... OK
* checking for unstated dependencies in examples ... OK
* checking contents of 'data' directory ... OK
* checking data for non-ASCII characters ... OK
* checking data for ASCII and uncompressed saves ... OK
* checking installed files from 'inst/doc' ... OK
* checking examples ... OK
* checking for unstated dependencies in vignettes ... OK
* checking package vignettes in 'inst/doc' ... OK
* checking running R code from vignettes ... SKIPPED
* checking re-building of vignettes ... SKIPPED
* checking PDF version of manual ... OK

NormqPCR.Rcheck/00install.out:

* installing *source* package 'NormqPCR' ...
** R
** data
**  moving datasets to lazyload DB
** inst
** preparing package for lazy loading
** help
*** installing help indices
** building package indices
** installing vignettes
   'NormqPCR.Rnw' 
** testing if installed package can be loaded

* DONE (NormqPCR)

NormqPCR.Rcheck/NormqPCR-Ex.timings:

nameusersystemelapsed
Bladder0.0200.0040.035
BladderRepro0.0040.0000.014
Colon0.0040.0000.014
NormqPCR-package000
combineTechReps0.1640.0040.172
deltaCt0.1200.0080.135
deltaDeltaCt0.1480.0040.161
geNorm0.0040.0000.016
geomMean000
makeAllNAs0.1720.0000.179
makeAllNewVal0.1240.0000.131
replaceAboveCutOff0.1200.0000.127
replaceNAs0.1200.0000.123
selectHKs0.0400.0000.053
stabMeasureM0.0400.0000.049
stabMeasureRho0.0120.0000.022