NuPoP 1.6.0 Ji-Ping Wang
Snapshot Date: 2012-09-23 17:01:39 -0700 (Sun, 23 Sep 2012) | URL: https://hedgehog.fhcrc.org/bioconductor/branches/RELEASE_2_10/madman/Rpacks/NuPoP | Last Changed Rev: 64678 / Revision: 69725 | Last Changed Date: 2012-03-30 15:05:02 -0700 (Fri, 30 Mar 2012) |
| lamb2 | Linux (openSUSE 11.4) / x86_64 | OK | OK | |
moscato2 | Windows Server 2008 R2 Enterprise SP1 (64-bit) / x64 | OK | OK | [ OK ] |
petty | Mac OS X Leopard (10.5.8) / i386 | OK | OK | OK |
install for i386
* installing *source* package 'NuPoP' ...
** libs
gfortran -O3 -mtune=core2 -c vtbfb.f90 -o vtbfb.o
gfortran -O3 -mtune=core2 -c vtbfbNL4.f90 -o vtbfbNL4.o
gfortran -shared -s -static-libgcc -o NuPoP.dll tmp.def vtbfb.o vtbfbNL4.o -LE:/biocbld/BBS-2˜1.10-/R/bin/i386 -lR
installing to E:/biocbld/bbs-2.10-bioc/meat/NuPoP.buildbin-libdir/NuPoP/libs/i386
** R
** inst
** preparing package for lazy loading
** help
*** installing help indices
** building package indices
** installing vignettes
'NuPoP-intro.Rnw'
** testing if installed package can be loaded
install for x64
* installing *source* package 'NuPoP' ...
** libs
gfortran -m64 -O2 -mtune=core2 -c vtbfb.f90 -o vtbfb.o
gfortran -m64 -O2 -mtune=core2 -c vtbfbNL4.f90 -o vtbfbNL4.o
gfortran -m64 -shared -s -static-libgcc -o NuPoP.dll tmp.def vtbfb.o vtbfbNL4.o -Ld:/RCompile/CRANpkg/extralibs64/local/lib/x64 -Ld:/RCompile/CRANpkg/extralibs64/local/lib -LE:/biocbld/BBS-2~1.10-/R/bin/x64 -lR
installing to E:/biocbld/bbs-2.10-bioc/meat/NuPoP.buildbin-libdir/NuPoP/libs/x64
** testing if installed package can be loaded
* MD5 sums
packaged installation of 'NuPoP' as NuPoP_1.6.0.zip
* DONE (NuPoP)