Back to the "Multiple platform build/check report" A  B  C  D  E  F  G  H  I  J  K  L  M  N  O [P] Q  R  S  T  U  V  W  X  Y  Z 

Package 378/546HostnameOS / ArchBUILDCHECKBUILD BIN
PAN 1.1.1
Xin Wang
Snapshot Date: 2012-03-19 17:01:15 -0700 (Mon, 19 Mar 2012)
URL: https://hedgehog.fhcrc.org/bioconductor/trunk/madman/Rpacks/PAN
Last Changed Rev: 61047 / Revision: 64130
Last Changed Date: 2011-12-01 09:30:33 -0800 (Thu, 01 Dec 2011)
lamb2 Linux (openSUSE 11.4) / x86_64  OK  OK 
moscato2 Windows Server 2008 R2 Enterprise SP1 (64-bit) / x64  OK  OK  OK 
petty Mac OS X Leopard (10.5.8) / i386  OK  OK [ OK ]

Summary

Package: PAN
Version: 1.1.1
Command: rm -rf PAN.buildbin-libdir && mkdir PAN.buildbin-libdir && /Users/biocbuild/BBS/utils/build-universal.sh PAN_1.1.1.tar.gz /Library/Frameworks/R.framework/Versions/2.15/Resources/bin/R PAN.buildbin-libdir
StartedAt: 2012-03-20 04:28:30 -0700 (Tue, 20 Mar 2012)
EndedAt: 2012-03-20 04:28:34 -0700 (Tue, 20 Mar 2012)
EllapsedTime: 4.4 seconds
RetCode: 0
Status:  OK 
PackageFile: PAN_1.1.1.tgz
PackageFileSize: 2.041 MiB

Command output

>>>>>>> 
>>>>>>> INSTALLATION WITH 'R CMD INSTALL --preclean --no-multiarch --library=PAN.buildbin-libdir PAN_1.1.1.tar.gz'
>>>>>>> 

* installing *source* package 'PAN' ...
** R
** data
** inst
** preparing package for lazy loading
** help
*** installing help indices
** building package indices
** installing vignettes
   'PAN-Vignette.Rnw' 
** testing if installed package can be loaded

* DONE (PAN)