PCpheno 1.18.0 Nolwenn Le Meur
Snapshot Date: 2012-09-23 17:01:39 -0700 (Sun, 23 Sep 2012) | URL: https://hedgehog.fhcrc.org/bioconductor/branches/RELEASE_2_10/madman/Rpacks/PCpheno | Last Changed Rev: 64678 / Revision: 69725 | Last Changed Date: 2012-03-30 15:05:02 -0700 (Fri, 30 Mar 2012) |
| lamb2 | Linux (openSUSE 11.4) / x86_64 | OK | [ OK ] | |
moscato2 | Windows Server 2008 R2 Enterprise SP1 (64-bit) / x64 | OK | OK | OK |
petty | Mac OS X Leopard (10.5.8) / i386 | OK | OK | OK |
* using log directory ‘/loc/home/biocbuild/bbs-2.10-bioc/meat/PCpheno.Rcheck’
* using R version 2.15.1 (2012-06-22)
* using platform: x86_64-unknown-linux-gnu (64-bit)
* using session charset: UTF-8
* using option ‘--no-vignettes’
* checking for file ‘PCpheno/DESCRIPTION’ ... OK
* checking extension type ... Package
* this is package ‘PCpheno’ version ‘1.18.0’
* checking package namespace information ... OK
* checking package dependencies ... OK
* checking if this is a source package ... OK
* checking if there is a namespace ... OK
* checking whether package ‘PCpheno’ can be installed ... OK
* checking installed package size ... OK
* checking package directory ... OK
* checking for portable file names ... OK
* checking for sufficient/correct file permissions ... OK
* checking DESCRIPTION meta-information ... OK
* checking top-level files ... OK
* checking index information ... OK
* checking package subdirectories ... OK
* checking R files for non-ASCII characters ... OK
* checking R files for syntax errors ... OK
* checking whether the package can be loaded ... OK
* checking whether the package can be loaded with stated dependencies ... OK
* checking whether the package can be unloaded cleanly ... OK
* checking whether the namespace can be loaded with stated dependencies ... OK
* checking whether the namespace can be unloaded cleanly ... OK
* checking for unstated dependencies in R code ... OK
* checking S3 generic/method consistency ... OK
* checking replacement functions ... OK
* checking foreign function calls ... OK
* checking R code for possible problems ... OK
* checking Rd files ... OK
* checking Rd metadata ... OK
* checking Rd cross-references ... OK
* checking for missing documentation entries ... OK
* checking for code/documentation mismatches ... OK
* checking Rd \usage sections ... OK
* checking Rd contents ... OK
* checking for unstated dependencies in examples ... OK
* checking contents of ‘data’ directory ... OK
* checking data for non-ASCII characters ... OK
* checking data for ASCII and uncompressed saves ... OK
* checking installed files from ‘inst/doc’ ... OK
* checking examples ... OK
* checking for unstated dependencies in vignettes ... OK
* checking package vignettes in ‘inst/doc’ ... OK
* checking running R code from vignettes ... SKIPPED
* checking re-building of vignettes ... SKIPPED
* checking PDF version of manual ... OK
* installing *source* package ‘PCpheno’ ...
** R
** data
** inst
** preparing package for lazy loading
No methods found in "BiocGenerics" for requests: plot
*** Deprecation warning ***:
The package 'ppiData' is deprecated and will not be supported after Bioconductor release 2.11
** help
*** installing help indices
** building package indices
** installing vignettes
‘PCpheno.Rnw’
** testing if installed package can be loaded
No methods found in "BiocGenerics" for requests: plot
*** Deprecation warning ***:
The package 'ppiData' is deprecated and will not be supported after Bioconductor release 2.11
* DONE (PCpheno)