PING 1.0.0 Xuekui Zhang
Snapshot Date: 2012-03-31 17:01:49 -0700 (Sat, 31 Mar 2012) | URL: https://hedgehog.fhcrc.org/bioconductor/branches/RELEASE_2_10/madman/Rpacks/PING | Last Changed Rev: 64678 / Revision: 64719 | Last Changed Date: 2012-03-30 15:05:02 -0700 (Fri, 30 Mar 2012) |
| lamb2 | Linux (openSUSE 11.4) / x86_64 | OK | OK | |
puck5 | Linux (Ubuntu 12.04) / x86_64 | OK | [ OK ] | |
moscato2 | Windows Server 2008 R2 Enterprise SP1 (64-bit) / x64 | OK | OK | OK |
petty | Mac OS X Leopard (10.5.8) / i386 | OK | OK | OK |
* using log directory '/loc/home/hpages/test-puck5/bbs-2.10-bioc/meat/PING.Rcheck'
* using R version 2.15.0 RC (2012-03-22 r58802)
* using platform: x86_64-unknown-linux-gnu (64-bit)
* using session charset: ISO8859-1
* using option '--no-vignettes'
* checking for file 'PING/DESCRIPTION' ... OK
* checking extension type ... Package
* this is package 'PING' version '1.0.0'
* checking package namespace information ... OK
* checking package dependencies ... OK
* checking if this is a source package ... OK
* checking if there is a namespace ... OK
* checking whether package 'PING' can be installed ... OK
* checking installed package size ... OK
* checking package directory ... OK
* checking for portable file names ... OK
* checking for sufficient/correct file permissions ... OK
* checking DESCRIPTION meta-information ... OK
* checking top-level files ... OK
* checking index information ... OK
* checking package subdirectories ... OK
* checking R files for non-ASCII characters ... OK
* checking R files for syntax errors ... OK
* checking whether the package can be loaded ... OK
* checking whether the package can be loaded with stated dependencies ... OK
* checking whether the package can be unloaded cleanly ... OK
* checking whether the namespace can be loaded with stated dependencies ... OK
* checking whether the namespace can be unloaded cleanly ... OK
* checking for unstated dependencies in R code ... OK
* checking S3 generic/method consistency ... OK
* checking replacement functions ... OK
* checking foreign function calls ... OK
* checking R code for possible problems ... NOTE
Found the following possibly unsafe calls:
File 'R/setParaEM.R':
found unlockBinding("paraEMTF", environment(PING))
found unlockBinding("paraEMH", environment(PING))
File 'R/setParaPrior.R':
found unlockBinding("paraPriorTF", environment(PING))
found unlockBinding("paraPriorH", environment(PING))
File 'R/setParaSeg.R':
found unlockBinding("paraSegTF", environment(PING))
found unlockBinding("paraSegH", environment(PING))
truncateResult: warning in read.table(chr.info.name, colClass =
c("character", "integer")): partial argument match of 'colClass' to
'colClasses'
* checking Rd files ... OK
* checking Rd metadata ... OK
* checking Rd cross-references ... OK
* checking for missing documentation entries ... OK
* checking for code/documentation mismatches ... OK
* checking Rd \usage sections ... OK
* checking Rd contents ... OK
* checking for unstated dependencies in examples ... OK
* checking line endings in C/C++/Fortran sources/headers ... OK
* checking line endings in Makefiles ... OK
* checking for portable compilation flags in Makevars ... OK
* checking for portable use of $(BLAS_LIBS) and $(LAPACK_LIBS) ... OK
* checking compiled code ... OK
* checking installed files from 'inst/doc' ... NOTE
The following files are already in R: 'Sweave.sty'
Please remove them from your package.
* checking examples ... OK
* checking for unstated dependencies in vignettes ... OK
* checking package vignettes in 'inst/doc' ... OK
* checking running R code from vignettes ... SKIPPED
* checking re-building of vignettes ... SKIPPED
* checking PDF version of manual ... OK
NOTE: There were 2 notes.
See
'/loc/home/hpages/test-puck5/bbs-2.10-bioc/meat/PING.Rcheck/00check.log'
for details.
* installing *source* package 'PING' ...
checking for pkg-config... /usr/bin/pkg-config
checking pkg-config is at least version 0.9.0... yes
checking for GSL... yes
configure: creating ./config.status
config.status: creating src/Makevars
** libs
gcc -std=gnu99 -I/home/hpages/test-puck5/bbs-2.10-bioc/R/include -DNDEBUG -I/usr/local/include -fpic -g -O2 -c background.c -o background.o
gcc -std=gnu99 -I/home/hpages/test-puck5/bbs-2.10-bioc/R/include -DNDEBUG -I/usr/local/include -fpic -g -O2 -c init.c -o init.o
gcc -std=gnu99 -I/home/hpages/test-puck5/bbs-2.10-bioc/R/include -DNDEBUG -I/usr/local/include -fpic -g -O2 -c ping.c -o ping.o
gcc -std=gnu99 -I/home/hpages/test-puck5/bbs-2.10-bioc/R/include -DNDEBUG -I/usr/local/include -fpic -g -O2 -c segment.c -o segment.o
gcc -std=gnu99 -shared -L/usr/local/lib -o PING.so background.o init.o ping.o segment.o -lgsl -lgslcblas -lm -L/home/hpages/test-puck5/bbs-2.10-bioc/R/lib -lR
installing to /loc/home/hpages/test-puck5/bbs-2.10-bioc/meat/PING.Rcheck/PING/libs
** R
** inst
** preparing package for lazy loading
Warning: replacing previous import 'density' when loading 'stats'
Warning: replacing previous import 'show' when loading 'GenomeGraphs'
Creating a new generic function for 'map' in package 'PING'
Creating a generic function for 'plot' from package 'graphics' in package 'PING'
** help
*** installing help indices
** building package indices
** installing vignettes
'PING.Rnw'
** testing if installed package can be loaded
Warning: replacing previous import 'density' when loading 'stats'
Warning: replacing previous import 'show' when loading 'GenomeGraphs'
* DONE (PING)