R453Plus1Toolbox 1.6.1 Hans-Ulrich Klein
Snapshot Date: 2012-09-23 17:01:39 -0700 (Sun, 23 Sep 2012) | URL: https://hedgehog.fhcrc.org/bioconductor/branches/RELEASE_2_10/madman/Rpacks/R453Plus1Toolbox | Last Changed Rev: 65961 / Revision: 69725 | Last Changed Date: 2012-05-16 08:38:37 -0700 (Wed, 16 May 2012) |
| lamb2 | Linux (openSUSE 11.4) / x86_64 | OK | OK | |
moscato2 | Windows Server 2008 R2 Enterprise SP1 (64-bit) / x64 | OK | OK | [ OK ] |
petty | Mac OS X Leopard (10.5.8) / i386 | OK | OK | OK |
install for i386
* installing *source* package 'R453Plus1Toolbox' ...
** libs
gcc -I"E:/biocbld/BBS-2˜1.10-/R/include" -DNDEBUG -O3 -Wall -std=gnu99 -mtune=core2 -c readSFF.c -o readSFF.o
gcc -shared -s -static-libgcc -o R453Plus1Toolbox.dll tmp.def readSFF.o -LE:/biocbld/BBS-2˜1.10-/R/bin/i386 -lR
installing to E:/biocbld/bbs-2.10-bioc/meat/R453Plus1Toolbox.buildbin-libdir/R453Plus1Toolbox/libs/i386
** R
** data
** inst
** preparing package for lazy loading
Warning: replacing previous import 'boxplot' when loading 'graphics'
** help
*** installing help indices
** building package indices
** installing vignettes
'vignette.Rnw'
** testing if installed package can be loaded
Warning: replacing previous import 'boxplot' when loading 'graphics'
install for x64
* installing *source* package 'R453Plus1Toolbox' ...
Warning in file.copy(instdir, lockdir, recursive = TRUE) :
problem creating directory E:\biocbld\bbs-2.10-bioc\meat\R453Plus1Toolbox.buildbin-libdir\R453Plus1Toolbox\extdata\StructuralVariantDetection\R_2009_07_30_14_26_52_FLX12080469_Administrator_714003\D_2009_07_31_08_45_30_flxcluster_fullProcessing_714003: No such file or directory
** libs
gcc -m64 -I"E:/biocbld/BBS-2˜1.10-/R/include" -DNDEBUG -I"d:/RCompile/CRANpkg/extralibs64/local/include" -O2 -Wall -std=gnu99 -mtune=core2 -c readSFF.c -o readSFF.o
gcc -m64 -shared -s -static-libgcc -o R453Plus1Toolbox.dll tmp.def readSFF.o -Ld:/RCompile/CRANpkg/extralibs64/local/lib/x64 -Ld:/RCompile/CRANpkg/extralibs64/local/lib -LE:/biocbld/BBS-2~1.10-/R/bin/x64 -lR
installing to E:/biocbld/bbs-2.10-bioc/meat/R453Plus1Toolbox.buildbin-libdir/R453Plus1Toolbox/libs/x64
** testing if installed package can be loaded
Warning: replacing previous import 'boxplot' when loading 'graphics'
* MD5 sums
packaged installation of 'R453Plus1Toolbox' as R453Plus1Toolbox_1.6.1.zip
* DONE (R453Plus1Toolbox)