Back to the "Multiple platform build/check report" A  B  C  D  E  F  G  H  I  J  K  L  M  N  O  P  Q [R] S  T  U  V  W  X  Y  Z 

Package 436/532HostnameOS / ArchBUILDCHECKBUILD BIN
RMAGEML 2.29.0
Steffen Durinck
Snapshot Date: 2012-02-28 17:01:26 -0800 (Tue, 28 Feb 2012)
URL: https://hedgehog.fhcrc.org/bioconductor/trunk/madman/Rpacks/RMAGEML
Last Changed Rev: 59924 / Revision: 63265
Last Changed Date: 2011-10-31 16:12:28 -0700 (Mon, 31 Oct 2011)
lamb2 Linux (openSUSE 11.4) / x86_64 [ OK ] OK 
moscato2 Windows Server 2008 R2 Enterprise SP1 (64-bit) / x64 N O T   S U P P O R T E D
petty Mac OS X Snow Leopard (10.6.7) / i386 N O T   S U P P O R T E D

Summary

Package: RMAGEML
Version: 2.29.0
Command: /home/biocbuild/bbs-2.10-bioc/R/bin/R CMD build --keep-empty-dirs --no-resave-data RMAGEML
StartedAt: 2012-02-28 19:49:50 -0800 (Tue, 28 Feb 2012)
EndedAt: 2012-02-28 19:50:05 -0800 (Tue, 28 Feb 2012)
EllapsedTime: 15.2 seconds
RetCode: 0
Status:  OK 
PackageFile: RMAGEML_2.29.0.tar.gz
PackageFileSize: 4.785 MiB

Command output

* checking for file ‘RMAGEML/DESCRIPTION’ ... OK
* preparing ‘RMAGEML’:
* checking DESCRIPTION meta-information ... OK
* cleaning src
* installing the package to re-build vignettes
* creating vignettes ... OK
* cleaning src
* checking for LF line-endings in source and make files
* checking for empty or unneeded directories
* building ‘RMAGEML_2.29.0.tar.gz’