RchyOptimyx 1.0.0 Adrin Jalali , Nima Aghaeepour
Snapshot Date: 2012-09-23 17:01:39 -0700 (Sun, 23 Sep 2012) | URL: https://hedgehog.fhcrc.org/bioconductor/branches/RELEASE_2_10/madman/Rpacks/RchyOptimyx | Last Changed Rev: 64678 / Revision: 69725 | Last Changed Date: 2012-03-30 15:05:02 -0700 (Fri, 30 Mar 2012) |
| lamb2 | Linux (openSUSE 11.4) / x86_64 | OK | OK | |
moscato2 | Windows Server 2008 R2 Enterprise SP1 (64-bit) / x64 | OK | OK | [ OK ] |
petty | Mac OS X Leopard (10.5.8) / i386 | OK | OK | OK |
install for i386
* installing *source* package 'RchyOptimyx' ...
** libs
g++ -I"E:/biocbld/BBS-2˜1.10-/R/include" -DNDEBUG -O2 -Wall -mtune=core2 -c RchyOptimyx.cpp -o RchyOptimyx.o
g++ -I"E:/biocbld/BBS-2˜1.10-/R/include" -DNDEBUG -O2 -Wall -mtune=core2 -c dataRead.cpp -o dataRead.o
dataRead.cpp: In function 'void readPvals(const char*, const char*, double*, int*, char**, int&, char**)':
dataRead.cpp:52:8: warning: variable 'ltmp' set but not used [-Wunused-but-set-variable]
g++ -I"E:/biocbld/BBS-2˜1.10-/R/include" -DNDEBUG -O2 -Wall -mtune=core2 -c mystring.cpp -o mystring.o
g++ -I"E:/biocbld/BBS-2˜1.10-/R/include" -DNDEBUG -O2 -Wall -mtune=core2 -c numberGenerator.cpp -o numberGenerator.o
g++ -shared -s -static-libgcc -o RchyOptimyx.dll tmp.def RchyOptimyx.o dataRead.o mystring.o numberGenerator.o -LE:/biocbld/BBS-2˜1.10-/R/bin/i386 -lR
installing to E:/biocbld/bbs-2.10-bioc/meat/RchyOptimyx.buildbin-libdir/RchyOptimyx/libs/i386
** R
** data
** inst
** preparing package for lazy loading
Creating a generic function for 'summary' from package 'base' in package 'RchyOptimyx'
Creating a new generic function for 'merge' in package 'RchyOptimyx'
** help
*** installing help indices
** building package indices
** installing vignettes
'RchyOptimyx.Rnw'
** testing if installed package can be loaded
install for x64
* installing *source* package 'RchyOptimyx' ...
** libs
g++ -m64 -I"E:/biocbld/BBS-2˜1.10-/R/include" -DNDEBUG -I"d:/RCompile/CRANpkg/extralibs64/local/include" -O2 -Wall -mtune=core2 -c RchyOptimyx.cpp -o RchyOptimyx.o
g++ -m64 -I"E:/biocbld/BBS-2˜1.10-/R/include" -DNDEBUG -I"d:/RCompile/CRANpkg/extralibs64/local/include" -O2 -Wall -mtune=core2 -c dataRead.cpp -o dataRead.o
dataRead.cpp: In function 'void readPvals(const char*, const char*, double*, int*, char**, int&, char**)':
dataRead.cpp:52:8: warning: variable 'ltmp' set but not used [-Wunused-but-set-variable]
g++ -m64 -I"E:/biocbld/BBS-2˜1.10-/R/include" -DNDEBUG -I"d:/RCompile/CRANpkg/extralibs64/local/include" -O2 -Wall -mtune=core2 -c mystring.cpp -o mystring.o
g++ -m64 -I"E:/biocbld/BBS-2˜1.10-/R/include" -DNDEBUG -I"d:/RCompile/CRANpkg/extralibs64/local/include" -O2 -Wall -mtune=core2 -c numberGenerator.cpp -o numberGenerator.o
g++ -m64 -shared -s -static-libgcc -o RchyOptimyx.dll tmp.def RchyOptimyx.o dataRead.o mystring.o numberGenerator.o -Ld:/RCompile/CRANpkg/extralibs64/local/lib/x64 -Ld:/RCompile/CRANpkg/extralibs64/local/lib -LE:/biocbld/BBS-2~1.10-/R/bin/x64 -lR
installing to E:/biocbld/bbs-2.10-bioc/meat/RchyOptimyx.buildbin-libdir/RchyOptimyx/libs/x64
** testing if installed package can be loaded
Warning in fun(libname, pkgname) :
Rgraphviz built with Graphviz version 2.20.3.
Found installed Graphviz version 2.25.20090912.445. This _may_ cause problems.
* MD5 sums
packaged installation of 'RchyOptimyx' as RchyOptimyx_1.0.0.zip
* DONE (RchyOptimyx)