Rdisop 1.16.0 Steffen Neumann
Snapshot Date: 2012-09-23 17:01:39 -0700 (Sun, 23 Sep 2012) | URL: https://hedgehog.fhcrc.org/bioconductor/branches/RELEASE_2_10/madman/Rpacks/Rdisop | Last Changed Rev: 64678 / Revision: 69725 | Last Changed Date: 2012-03-30 15:05:02 -0700 (Fri, 30 Mar 2012) |
| lamb2 | Linux (openSUSE 11.4) / x86_64 | [ OK ] | OK | |
moscato2 | Windows Server 2008 R2 Enterprise SP1 (64-bit) / x64 | OK | OK | OK |
petty | Mac OS X Leopard (10.5.8) / i386 | OK | OK | OK |
* checking for file ‘Rdisop/DESCRIPTION’ ... OK
* preparing ‘Rdisop’:
* checking DESCRIPTION meta-information ... OK
* cleaning src
* running ‘cleanup’
* installing the package to re-build vignettes
* creating vignettes ... OK
* cleaning src
* running ‘cleanup’
* checking for LF line-endings in source and make files
* checking for empty or unneeded directories
WARNING: directory ‘Rdisop/RcppSrc’ is empty
WARNING: directory ‘Rdisop/src/imslib/examples/.deps’ is empty
WARNING: directory ‘Rdisop/src/imslib/src/ims/.deps’ is empty
WARNING: directory ‘Rdisop/src/imslib/src/ims/base/parser/.deps’ is empty
WARNING: directory ‘Rdisop/src/imslib/src/ims/calib/.deps’ is empty
WARNING: directory ‘Rdisop/src/imslib/src/ims/decomp/.deps’ is empty
WARNING: directory ‘Rdisop/src/imslib/src/ims/utils/.deps’ is empty
WARNING: directory ‘Rdisop/src/imslib/tests/.deps’ is empty
WARNING: directory ‘Rdisop/src/imslib/tests/base/parser/.deps’ is empty
WARNING: directory ‘Rdisop/src/imslib/tests/calib/.deps’ is empty
WARNING: directory ‘Rdisop/src/imslib/tests/decomp/.deps’ is empty
WARNING: directory ‘Rdisop/src/imslib/tests/modifier/.deps’ is empty
WARNING: directory ‘Rdisop/src/imslib/tools/.deps’ is empty
* building ‘Rdisop_1.16.0.tar.gz’