Back to the "Multiple platform build/check report" A  B  C  D  E  F  G  H  I  J  K  L  M  N  O  P  Q [R] S  T  U  V  W  X  Y  Z 

Package 450/554HostnameOS / ArchBUILDCHECKBUILD BIN
Repitools 1.2.0
Mark Robinson
Snapshot Date: 2012-03-31 17:01:49 -0700 (Sat, 31 Mar 2012)
URL: https://hedgehog.fhcrc.org/bioconductor/branches/RELEASE_2_10/madman/Rpacks/Repitools
Last Changed Rev: 64678 / Revision: 64719
Last Changed Date: 2012-03-30 15:05:02 -0700 (Fri, 30 Mar 2012)
lamb2 Linux (openSUSE 11.4) / x86_64  OK  OK 
puck5 Linux (Ubuntu 12.04) / x86_64  OK [ OK ]
moscato2 Windows Server 2008 R2 Enterprise SP1 (64-bit) / x64  OK  OK  OK 
petty Mac OS X Leopard (10.5.8) / i386  OK  OK  OK 

Summary

Package: Repitools
Version: 1.2.0
Command: /home/hpages/test-puck5/bbs-2.10-bioc/R/bin/R CMD check --no-vignettes --timings Repitools_1.2.0.tar.gz
StartedAt: 2012-04-01 03:01:44 -0700 (Sun, 01 Apr 2012)
EndedAt: 2012-04-01 03:06:20 -0700 (Sun, 01 Apr 2012)
EllapsedTime: 275.8 seconds
RetCode: 0
Status:  OK 
CheckDir: Repitools.Rcheck
Warnings: 0

Command output

* using log directory '/loc/home/hpages/test-puck5/bbs-2.10-bioc/meat/Repitools.Rcheck'
* using R version 2.15.0 RC (2012-03-22 r58802)
* using platform: x86_64-unknown-linux-gnu (64-bit)
* using session charset: ISO8859-1
* using option '--no-vignettes'
* checking for file 'Repitools/DESCRIPTION' ... OK
* this is package 'Repitools' version '1.2.0'
* checking package namespace information ... OK
* checking package dependencies ... OK
* checking if this is a source package ... OK
* checking if there is a namespace ... OK
* checking whether package 'Repitools' can be installed ... OK
* checking installed package size ... OK
* checking package directory ... OK
* checking for portable file names ... OK
* checking for sufficient/correct file permissions ... OK
* checking DESCRIPTION meta-information ... OK
* checking top-level files ... OK
* checking index information ... OK
* checking package subdirectories ... OK
* checking R files for non-ASCII characters ... OK
* checking R files for syntax errors ... OK
* checking whether the package can be loaded ... OK
* checking whether the package can be loaded with stated dependencies ... OK
* checking whether the package can be unloaded cleanly ... OK
* checking whether the namespace can be loaded with stated dependencies ... OK
* checking whether the namespace can be unloaded cleanly ... OK
* checking for unstated dependencies in R code ... OK
* checking S3 generic/method consistency ... OK
* checking replacement functions ... OK
* checking foreign function calls ... OK
* checking R code for possible problems ... NOTE
.fdrTable: warning in matrix(, nr = length(cuts), nc = 4): partial
  argument match of 'nr' to 'nrow'
.fdrTable: warning in matrix(, nr = length(cuts), nc = 4): partial
  argument match of 'nc' to 'ncol'
.regionStats: warning in matrix(, nr = nrow(diffs), nc = ncol(diffs)):
  partial argument match of 'nr' to 'nrow'
.regionStats: warning in matrix(, nr = nrow(diffs), nc = ncol(diffs)):
  partial argument match of 'nc' to 'ncol'
.regionStats : <anonymous>: warning in matrix(NA, nr = nrow(diffs), nc
  = n.perm): partial argument match of 'nr' to 'nrow'
.regionStats : <anonymous>: warning in matrix(NA, nr = nrow(diffs), nc
  = n.perm): partial argument match of 'nc' to 'ncol'
.regionStats : <anonymous>: warning in .fdrTable(tmeanReal[, col], u,
  ch, sp, 40, min.probes, max.gap, two.sides, maxCut = mx, verbose =
  verbose): partial argument match of 'maxCut' to 'maxCutoff'
multiHeatmap: warning in viewport(x = start[i], y = ystarts[1], w =
  (end[i] - start[i]), h = diff(ystarts[1:2]), just = c("left",
  "bottom"), name = "vp1"): partial argument match of 'w' to 'width'
multiHeatmap: warning in viewport(x = start[i], y = ystarts[1], w =
  (end[i] - start[i]), h = diff(ystarts[1:2]), just = c("left",
  "bottom"), name = "vp1"): partial argument match of 'h' to 'height'
multiHeatmap: warning in viewport(x = end[i], y = ystarts[3], w =
  min(cwidth * nc/tw), h = diff(ystarts[3:4]), just = c("right",
  "bottom"), name = "vp2"): partial argument match of 'w' to 'width'
multiHeatmap: warning in viewport(x = end[i], y = ystarts[3], w =
  min(cwidth * nc/tw), h = diff(ystarts[3:4]), just = c("right",
  "bottom"), name = "vp2"): partial argument match of 'h' to 'height'
* checking Rd files ... OK
* checking Rd metadata ... OK
* checking Rd cross-references ... OK
* checking for missing documentation entries ... OK
* checking for code/documentation mismatches ... OK
* checking Rd \usage sections ... OK
* checking Rd contents ... OK
* checking for unstated dependencies in examples ... OK
* checking contents of 'data' directory ... OK
* checking data for non-ASCII characters ... OK
* checking data for ASCII and uncompressed saves ... OK
* checking installed files from 'inst/doc' ... NOTE
The following files are already in R: 'Sweave.sty'
Please remove them from your package.
The following files should probably not be installed:
  'analyses1.tex', 'analyses2.tex', 'datasets.tex', 'qc.tex',
  'sInfo.tex', 'utilities.tex', 'visualisations.tex'

Consider the use of a .Rinstignore file: see 'Writing R Extensions',
or move the vignette sources from 'inst/doc' to 'vignettes'.
* checking examples ... OK
* checking for unstated dependencies in tests ... OK
* checking tests ...
  Running 'tests.R'
 OK
* checking for unstated dependencies in vignettes ... OK
* checking package vignettes in 'inst/doc' ... OK
* checking running R code from vignettes ... SKIPPED
* checking re-building of vignettes ... SKIPPED
* checking PDF version of manual ... OK

NOTE: There were 2 notes.
See
  '/loc/home/hpages/test-puck5/bbs-2.10-bioc/meat/Repitools.Rcheck/00check.log'
for details.

Repitools.Rcheck/00install.out:

* installing *source* package 'Repitools' ...
** R
** data
** inst
** preparing package for lazy loading
in method for '.featureScores' with signature '"AffymetrixCelSet","GRanges"': no definition for class "AffymetrixCelSet"
in method for 'regionStats' with signature '"AffymetrixCelSet"': no definition for class "AffymetrixCelSet"
in method for 'writeWig' with signature '"AffymetrixCelSet"': no definition for class "AffymetrixCelSet"
in method for 'cpgBoxplots' with signature '"AffymetrixCelSet"': no definition for class "AffymetrixCelSet"
in method for '.blocksStats' with signature '"AffymetrixCelSet","GRanges"': no definition for class "AffymetrixCelSet"
** help
*** installing help indices
** building package indices
** installing vignettes
   'Repitools_vignette.Rnw' using 'UTF-8' 
** testing if installed package can be loaded

* DONE (Repitools)

Repitools.Rcheck/Repitools-Ex.timings:

nameusersystemelapsed
BAM2GRanges0.6600.0160.728
GCadjustCopy000
GCbiasPlots000
GDL2GRL0.2400.0120.284
absoluteCN000
annoDF2GR0.0320.0000.031
annoGR2DF0.0240.0000.025
annotationBlocksCounts0.0800.0040.080
annotationBlocksLookup0.060.000.06
annotationCounts0.0840.0000.082
annotationLookup0.0800.0000.078
binPlots4.5040.1044.724
blocksStats0.1760.0000.174
checkProbes0.1680.0000.166
chromosomeCNplots000
clusterPlots2.1760.1002.377
cpgDensityCalc11.201 0.51611.780
cpgDensityPlot6.0720.0406.158
enrichmentCalc1.7240.0001.727
enrichmentPlot1.7010.0001.705
featureBlocks0.0320.0000.034
featureScores1.0320.0001.039
findClusters3.4200.0043.429
gcContentCalc3.6600.2163.915
genQC000
genomeBlocks0.0680.0000.070
getProbePositionsDf000
loadPairFile000
loadSampleDirectory000
makeWindowLookupTable0.0920.0040.095
mappabilityCalc000
mergeReplicates0.2720.0200.292
multiHeatmap0.2560.1360.492
plotClusters0.1040.0040.114
processNDF000
profilePlots000
regionStats000
relativeCN0.1200.0000.139
sequenceCalc 9.849 0.45210.347
summarizeScores1.1680.0041.182
writeWig000