Rsubread 1.6.0 Wei Shi
Snapshot Date: 2012-03-31 17:01:49 -0700 (Sat, 31 Mar 2012) | URL: https://hedgehog.fhcrc.org/bioconductor/branches/RELEASE_2_10/madman/Rpacks/Rsubread | Last Changed Rev: 64678 / Revision: 64719 | Last Changed Date: 2012-03-30 15:05:02 -0700 (Fri, 30 Mar 2012) |
| lamb2 | Linux (openSUSE 11.4) / x86_64 | OK | OK | |
puck5 | Linux (Ubuntu 12.04) / x86_64 | OK | [ OK ] | |
moscato2 | Windows Server 2008 R2 Enterprise SP1 (64-bit) / x64 | N O T S U P P O R T E D |
petty | Mac OS X Leopard (10.5.8) / i386 | N O T S U P P O R T E D |
* using log directory '/loc/home/hpages/test-puck5/bbs-2.10-bioc/meat/Rsubread.Rcheck'
* using R version 2.15.0 RC (2012-03-22 r58802)
* using platform: x86_64-unknown-linux-gnu (64-bit)
* using session charset: ISO8859-1
* using option '--no-vignettes'
* checking for file 'Rsubread/DESCRIPTION' ... OK
* checking extension type ... Package
* this is package 'Rsubread' version '1.6.0'
* checking package namespace information ... OK
* checking package dependencies ... OK
* checking if this is a source package ... OK
* checking if there is a namespace ... OK
* checking whether package 'Rsubread' can be installed ... OK
* checking installed package size ... NOTE
installed size is 84.0Mb
sub-directories of 1Mb or more:
annot 82.5Mb
* checking package directory ... OK
* checking for portable file names ... OK
* checking for sufficient/correct file permissions ... OK
* checking DESCRIPTION meta-information ... OK
* checking top-level files ... OK
* checking index information ... OK
* checking package subdirectories ... OK
* checking R files for non-ASCII characters ... OK
* checking R files for syntax errors ... OK
* checking whether the package can be loaded ... OK
* checking whether the package can be loaded with stated dependencies ... OK
* checking whether the package can be unloaded cleanly ... OK
* checking whether the namespace can be loaded with stated dependencies ... OK
* checking whether the namespace can be unloaded cleanly ... OK
* checking for unstated dependencies in R code ... OK
* checking S3 generic/method consistency ... OK
* checking replacement functions ... OK
* checking foreign function calls ... OK
* checking R code for possible problems ... OK
* checking Rd files ... NOTE
prepare_Rd: callSNPs.Rd:32: Dropping empty section \examples
prepare_Rd: featureCounts.Rd:54: Dropping empty section \examples
prepare_Rd: removeDupReads.Rd:27: Dropping empty section \examples
prepare_Rd: sam2bed.Rd:26-27: Dropping empty section \examples
prepare_Rd: subjunc.Rd:35-36: Dropping empty section \references
prepare_Rd: subjunc.Rd:40-41: Dropping empty section \examples
* checking Rd metadata ... OK
* checking Rd cross-references ... OK
* checking for missing documentation entries ... OK
* checking for code/documentation mismatches ... OK
* checking Rd \usage sections ... OK
* checking Rd contents ... OK
* checking for unstated dependencies in examples ... OK
* checking line endings in C/C++/Fortran sources/headers ... OK
* checking line endings in Makefiles ... OK
* checking for portable compilation flags in Makevars ... OK
* checking for portable use of $(BLAS_LIBS) and $(LAPACK_LIBS) ... OK
* checking compiled code ... NOTE
File '/loc/home/hpages/test-puck5/bbs-2.10-bioc/meat/Rsubread.Rcheck/Rsubread/libs/Rsubread.so':
Found 'exit', possibly from 'exit' (C)
Objects: 'SNP_calling.o', 'gene-algorithms.o', 'propmapped.o',
'readSummary.o', 'removeDuplicatedReads.o', 'sam2bed.o',
'sorted-hashtable.o'
Found 'putchar', possibly from 'putchar' (C)
Objects: 'aligner.o', 'exon-align.o', 'gene-algorithms.o',
'index-builder.o'
Found 'puts', possibly from 'printf' (C), 'puts' (C)
Objects: 'SNP_calling.o', 'aligner.o', 'detectionCallAnnotation.o',
'exon-align.o', 'fullscan.o', 'gene-algorithms.o',
'index-builder.o', 'input-files.o', 'processExons.o',
'propmapped.o', 'readSummary.o', 'removeDuplicatedReads.o',
'sam2bed.o', 'sorted-hashtable.o'
Found 'stdout', possibly from 'stdout' (C)
Objects: 'aligner.o', 'exon-align.o', 'gene-algorithms.o',
'index-builder.o'
Compiled code should not call functions which might terminate R nor
write to stdout/stderr instead of to the console.
See 'Writing portable packages' in the 'Writing R Extensions' manual.
* checking installed files from 'inst/doc' ... OK
* checking examples ... OK
* checking for unstated dependencies in vignettes ... OK
* checking package vignettes in 'inst/doc' ... OK
* checking running R code from vignettes ... SKIPPED
* checking re-building of vignettes ... SKIPPED
* checking PDF version of manual ... OK
NOTE: There were 3 notes.
See
'/loc/home/hpages/test-puck5/bbs-2.10-bioc/meat/Rsubread.Rcheck/00check.log'
for details.
* installing *source* package 'Rsubread' ...
** libs
gcc -std=gnu99 -I/home/hpages/test-puck5/bbs-2.10-bioc/R/include -DNDEBUG -I/usr/local/include -DMAKE_FOR_EXON -fpic -g -O2 -c R_wrapper.c -o R_wrapper.o
gcc -std=gnu99 -I/home/hpages/test-puck5/bbs-2.10-bioc/R/include -DNDEBUG -I/usr/local/include -DMAKE_FOR_EXON -fpic -g -O2 -c SNP_calling.c -o SNP_calling.o
gcc -std=gnu99 -I/home/hpages/test-puck5/bbs-2.10-bioc/R/include -DNDEBUG -I/usr/local/include -DMAKE_FOR_EXON -fpic -g -O2 -c aligner.c -o aligner.o
gene-algorithms.h:23:13: warning: inline function 'add_gene_vote_weighted' declared but never defined [enabled by default]
gene-algorithms.h:22:13: warning: inline function 'add_gene_vote' declared but never defined [enabled by default]
gene-algorithms.h:23:13: warning: inline function 'add_gene_vote_weighted' declared but never defined [enabled by default]
gene-algorithms.h:22:13: warning: inline function 'add_gene_vote' declared but never defined [enabled by default]
gcc -std=gnu99 -I/home/hpages/test-puck5/bbs-2.10-bioc/R/include -DNDEBUG -I/usr/local/include -DMAKE_FOR_EXON -fpic -g -O2 -c atgcContent.c -o atgcContent.o
gcc -std=gnu99 -I/home/hpages/test-puck5/bbs-2.10-bioc/R/include -DNDEBUG -I/usr/local/include -DMAKE_FOR_EXON -fpic -g -O2 -c detectionCall.c -o detectionCall.o
gcc -std=gnu99 -I/home/hpages/test-puck5/bbs-2.10-bioc/R/include -DNDEBUG -I/usr/local/include -DMAKE_FOR_EXON -fpic -g -O2 -c detectionCallAnnotation.c -o detectionCallAnnotation.o
detectionCallAnnotation.c: In function 'calculateIRGCContent':
detectionCallAnnotation.c:262:8: warning: ignoring return value of 'fgets', declared with attribute warn_unused_result [-Wunused-result]
detectionCallAnnotation.c: In function 'calculateExonGCContent':
detectionCallAnnotation.c:175:8: warning: ignoring return value of 'fgets', declared with attribute warn_unused_result [-Wunused-result]
gcc -std=gnu99 -I/home/hpages/test-puck5/bbs-2.10-bioc/R/include -DNDEBUG -I/usr/local/include -DMAKE_FOR_EXON -fpic -g -O2 -c exon-algorithms.c -o exon-algorithms.o
gene-algorithms.h:23:13: warning: inline function 'add_gene_vote_weighted' declared but never defined [enabled by default]
gene-algorithms.h:22:13: warning: inline function 'add_gene_vote' declared but never defined [enabled by default]
gene-algorithms.h:23:13: warning: inline function 'add_gene_vote_weighted' declared but never defined [enabled by default]
gene-algorithms.h:22:13: warning: inline function 'add_gene_vote' declared but never defined [enabled by default]
gcc -std=gnu99 -I/home/hpages/test-puck5/bbs-2.10-bioc/R/include -DNDEBUG -I/usr/local/include -DMAKE_FOR_EXON -fpic -g -O2 -c exon-align.c -o exon-align.o
gene-algorithms.h:23:13: warning: inline function 'add_gene_vote_weighted' declared but never defined [enabled by default]
gene-algorithms.h:22:13: warning: inline function 'add_gene_vote' declared but never defined [enabled by default]
gene-algorithms.h:23:13: warning: inline function 'add_gene_vote_weighted' declared but never defined [enabled by default]
gene-algorithms.h:22:13: warning: inline function 'add_gene_vote' declared but never defined [enabled by default]
gcc -std=gnu99 -I/home/hpages/test-puck5/bbs-2.10-bioc/R/include -DNDEBUG -I/usr/local/include -DMAKE_FOR_EXON -fpic -g -O2 -c fullscan.c -o fullscan.o
gene-algorithms.h:23:13: warning: inline function 'add_gene_vote_weighted' declared but never defined [enabled by default]
gene-algorithms.h:22:13: warning: inline function 'add_gene_vote' declared but never defined [enabled by default]
gene-algorithms.h:23:13: warning: inline function 'add_gene_vote_weighted' declared but never defined [enabled by default]
gene-algorithms.h:22:13: warning: inline function 'add_gene_vote' declared but never defined [enabled by default]
gcc -std=gnu99 -I/home/hpages/test-puck5/bbs-2.10-bioc/R/include -DNDEBUG -I/usr/local/include -DMAKE_FOR_EXON -fpic -g -O2 -c gene-algorithms.c -o gene-algorithms.o
gcc -std=gnu99 -I/home/hpages/test-puck5/bbs-2.10-bioc/R/include -DNDEBUG -I/usr/local/include -DMAKE_FOR_EXON -fpic -g -O2 -c gene-value-index.c -o gene-value-index.o
gene-algorithms.h:23:13: warning: inline function 'add_gene_vote_weighted' declared but never defined [enabled by default]
gene-algorithms.h:22:13: warning: inline function 'add_gene_vote' declared but never defined [enabled by default]
gene-algorithms.h:23:13: warning: inline function 'add_gene_vote_weighted' declared but never defined [enabled by default]
gene-algorithms.h:22:13: warning: inline function 'add_gene_vote' declared but never defined [enabled by default]
gcc -std=gnu99 -I/home/hpages/test-puck5/bbs-2.10-bioc/R/include -DNDEBUG -I/usr/local/include -DMAKE_FOR_EXON -fpic -g -O2 -c hashtable.c -o hashtable.o
gcc -std=gnu99 -I/home/hpages/test-puck5/bbs-2.10-bioc/R/include -DNDEBUG -I/usr/local/include -DMAKE_FOR_EXON -fpic -g -O2 -c index-builder.c -o index-builder.o
gene-algorithms.h:23:13: warning: inline function 'add_gene_vote_weighted' declared but never defined [enabled by default]
gene-algorithms.h:22:13: warning: inline function 'add_gene_vote' declared but never defined [enabled by default]
gene-algorithms.h:23:13: warning: inline function 'add_gene_vote_weighted' declared but never defined [enabled by default]
gene-algorithms.h:22:13: warning: inline function 'add_gene_vote' declared but never defined [enabled by default]
gcc -std=gnu99 -I/home/hpages/test-puck5/bbs-2.10-bioc/R/include -DNDEBUG -I/usr/local/include -DMAKE_FOR_EXON -fpic -g -O2 -c input-files.c -o input-files.o
gcc -std=gnu99 -I/home/hpages/test-puck5/bbs-2.10-bioc/R/include -DNDEBUG -I/usr/local/include -DMAKE_FOR_EXON -fpic -g -O2 -c processExons.c -o processExons.o
gcc -std=gnu99 -I/home/hpages/test-puck5/bbs-2.10-bioc/R/include -DNDEBUG -I/usr/local/include -DMAKE_FOR_EXON -fpic -g -O2 -c propmapped.c -o propmapped.o
gcc -std=gnu99 -I/home/hpages/test-puck5/bbs-2.10-bioc/R/include -DNDEBUG -I/usr/local/include -DMAKE_FOR_EXON -fpic -g -O2 -c qualityScores.c -o qualityScores.o
gcc -std=gnu99 -I/home/hpages/test-puck5/bbs-2.10-bioc/R/include -DNDEBUG -I/usr/local/include -DMAKE_FOR_EXON -fpic -g -O2 -c readSummary.c -o readSummary.o
readSummary.c: In function 'readSummary':
readSummary.c:122:3: warning: format '%d' expects argument of type 'int', but argument 5 has type 'long int' [-Wformat]
readSummary.c:122:3: warning: format '%d' expects argument of type 'int', but argument 6 has type 'long int' [-Wformat]
readSummary.c:39:8: warning: ignoring return value of 'getline', declared with attribute warn_unused_result [-Wunused-result]
readSummary.c:52:8: warning: ignoring return value of 'getline', declared with attribute warn_unused_result [-Wunused-result]
readSummary.c:55:9: warning: ignoring return value of 'getline', declared with attribute warn_unused_result [-Wunused-result]
gcc -std=gnu99 -I/home/hpages/test-puck5/bbs-2.10-bioc/R/include -DNDEBUG -I/usr/local/include -DMAKE_FOR_EXON -fpic -g -O2 -c removeDuplicatedReads.c -o removeDuplicatedReads.o
gcc -std=gnu99 -I/home/hpages/test-puck5/bbs-2.10-bioc/R/include -DNDEBUG -I/usr/local/include -DMAKE_FOR_EXON -fpic -g -O2 -c sam2bed.c -o sam2bed.o
gcc -std=gnu99 -I/home/hpages/test-puck5/bbs-2.10-bioc/R/include -DNDEBUG -I/usr/local/include -DMAKE_FOR_EXON -fpic -g -O2 -c sorted-hashtable.c -o sorted-hashtable.o
gene-algorithms.h:23:13: warning: inline function 'add_gene_vote_weighted' declared but never defined [enabled by default]
gene-algorithms.h:22:13: warning: inline function 'add_gene_vote' declared but never defined [enabled by default]
gene-algorithms.h:23:13: warning: inline function 'add_gene_vote_weighted' declared but never defined [enabled by default]
gene-algorithms.h:22:13: warning: inline function 'add_gene_vote' declared but never defined [enabled by default]
gcc -std=gnu99 -shared -L/usr/local/lib -o Rsubread.so R_wrapper.o SNP_calling.o aligner.o atgcContent.o detectionCall.o detectionCallAnnotation.o exon-algorithms.o exon-align.o fullscan.o gene-algorithms.o gene-value-index.o hashtable.o index-builder.o input-files.o processExons.o propmapped.o qualityScores.o readSummary.o removeDuplicatedReads.o sam2bed.o sorted-hashtable.o -lpthread -DMAKE_FOR_EXON -L/home/hpages/test-puck5/bbs-2.10-bioc/R/lib -lR
installing to /loc/home/hpages/test-puck5/bbs-2.10-bioc/meat/Rsubread.Rcheck/Rsubread/libs
** R
** inst
** preparing package for lazy loading
** help
*** installing help indices
** building package indices
** installing vignettes
'Rsubread.Rnw'
** testing if installed package can be loaded
* DONE (Rsubread)