Back to the "Multiple platform build/check report" A  B  C  D  E  F  G  H  I  J  K  L  M  N  O  P  Q  R [S] T  U  V  W  X  Y  Z 

Package 495/554HostnameOS / ArchBUILDCHECKBUILD BIN
SJava 0.82.0
Martin Morgan
Snapshot Date: 2012-03-31 17:01:49 -0700 (Sat, 31 Mar 2012)
URL: https://hedgehog.fhcrc.org/bioconductor/branches/RELEASE_2_10/madman/Rpacks/SJava
Last Changed Rev: 64678 / Revision: 64719
Last Changed Date: 2012-03-30 15:05:02 -0700 (Fri, 30 Mar 2012)
lamb2 Linux (openSUSE 11.4) / x86_64  OK  OK 
puck5 Linux (Ubuntu 12.04) / x86_64  OK [ OK ]
moscato2 Windows Server 2008 R2 Enterprise SP1 (64-bit) / x64 N O T   S U P P O R T E D
petty Mac OS X Leopard (10.5.8) / i386 N O T   S U P P O R T E D

Summary

Package: SJava
Version: 0.82.0
Command: /home/hpages/test-puck5/bbs-2.10-bioc/R/bin/R CMD check --no-vignettes --timings SJava_0.82.0.tar.gz
StartedAt: 2012-04-01 03:27:05 -0700 (Sun, 01 Apr 2012)
EndedAt: 2012-04-01 03:27:36 -0700 (Sun, 01 Apr 2012)
EllapsedTime: 30.7 seconds
RetCode: 0
Status:  OK 
CheckDir: SJava.Rcheck
Warnings: 0

Command output

* using log directory '/loc/home/hpages/test-puck5/bbs-2.10-bioc/meat/SJava.Rcheck'
* using R version 2.15.0 RC (2012-03-22 r58802)
* using platform: x86_64-unknown-linux-gnu (64-bit)
* using session charset: ISO8859-1
* using option '--no-vignettes'
* checking for file 'SJava/DESCRIPTION' ... OK
* this is package 'SJava' version '0.82.0'
* checking package namespace information ... OK
* checking package dependencies ... OK
* checking if this is a source package ... OK
* checking if there is a namespace ... OK
* checking whether package 'SJava' can be installed ... OK
* checking installed package size ... OK
* checking package directory ... OK
* checking for portable file names ... OK
* checking for sufficient/correct file permissions ... OK
* checking DESCRIPTION meta-information ... OK
* checking top-level files ... OK
* checking index information ... OK
* checking package subdirectories ... OK
* checking R files for non-ASCII characters ... OK
* checking R files for syntax errors ... OK
* checking whether the package can be loaded ... OK
* checking whether the package can be loaded with stated dependencies ... OK
* checking whether the package can be unloaded cleanly ... OK
* checking whether the namespace can be loaded with stated dependencies ... OK
* checking whether the namespace can be unloaded cleanly ... OK
* checking for unstated dependencies in R code ... OK
* checking S3 generic/method consistency ... OK
* checking replacement functions ... OK
* checking foreign function calls ... OK
* checking R code for possible problems ... NOTE
defaultJavaPath: no visible global function definition for 'getenv'
* checking Rd files ... OK
* checking Rd metadata ... OK
* checking Rd cross-references ... OK
* checking for missing documentation entries ... OK
* checking for code/documentation mismatches ... OK
* checking Rd \usage sections ... OK
* checking Rd contents ... OK
* checking for unstated dependencies in examples ... OK
* checking line endings in C/C++/Fortran sources/headers ... OK
* checking line endings in Makefiles ... OK
* checking for portable compilation flags in Makevars ... OK
* checking for portable use of $(BLAS_LIBS) and $(LAPACK_LIBS) ... OK
* checking compiled code ... OK
* checking examples ... OK
* checking PDF version of manual ... OK

NOTE: There was 1 note.
See
  '/loc/home/hpages/test-puck5/bbs-2.10-bioc/meat/SJava.Rcheck/00check.log'
for details.

SJava.Rcheck/00install.out:

* installing *source* package 'SJava' ...
checking shlib support in R... checking Java support in R... present:
interpreter : '/usr/bin/java'
archiver    : '/usr/bin/jar'
compiler    : '/usr/bin/javac'
header prep.: '/usr/bin/javah'
cpp flags   : '-I/usr/lib/jvm/java-6-sun-1.6.0.31/jre/../include -I/usr/lib/jvm/java-6-sun-1.6.0.31/jre/../include/linux'
java libs   : '-L/usr/lib/jvm/java-6-sun-1.6.0.31/jre/lib/amd64/server -L/usr/lib/jvm/java-6-sun-1.6.0.31/jre/lib/amd64 -L/usr/lib/jvm/java-6-sun-1.6.0.31/jre/../lib/amd64 -L/usr/java/packages/lib/amd64 -L/usr/lib64 -L/lib64 -L/lib -L/usr/lib -ljvm'
Looking in /usr/lib/jvm/java-6-sun-1.6.0.31/jre/include
Exception in thread "main" java.lang.NullPointerException
	at jniParameters.findJniInclude(jniParameters.java:76)
	at jniParameters.findJniInclude(jniParameters.java:61)
	at jniParameters.compute(jniParameters.java:40)
	at jniParameters.<init>(jniParameters.java:12)
	at jniBashParameters.<init>(jniBashParameters.java:11)
	at jniBashParameters.main(jniBashParameters.java:7)
checking for gcc... gcc
checking for C compiler default output file name... a.out
checking whether the C compiler works... yes
checking whether we are cross compiling... no
checking for suffix of executables... 
checking for suffix of object files... o
checking whether we are using the GNU C compiler... yes
checking whether gcc accepts -g... yes
checking for gcc option to accept ISO C89... none needed
checking for Rf_initEmbeddedR in -lR... yes
configure: creating ./config.status
config.status: creating Makevars
config.status: creating src/Makevars
config.status: creating src/RSJava/Makefile
config.status: creating inst/scripts/RJava.bsh
config.status: creating inst/scripts/RJava.csh
config.status: creating cleanup
config.status: creating inst/scripts/RJava
Copying the cleanup script to the scripts/ directory
** libs
/usr/bin/javah -classpath /loc/home/hpages/test-puck5/bbs-2.10-bioc/meat/SJava.Rcheck/00_pkg_src/SJava/inst:/loc/home/hpages/test-puck5/bbs-2.10-bioc/meat/SJava.Rcheck/00_pkg_src/SJava/inst/org/omegahat/Jars/Environment.jar -o RForeignReference.h org.omegahat.R.Java.RForeignReference
/usr/bin/javah -classpath /loc/home/hpages/test-puck5/bbs-2.10-bioc/meat/SJava.Rcheck/00_pkg_src/SJava/inst:/loc/home/hpages/test-puck5/bbs-2.10-bioc/meat/SJava.Rcheck/00_pkg_src/SJava/inst/org/omegahat/Jars/Environment.jar -o RManualFunctionActionListener.h org.omegahat.R.Java.RManualFunctionActionListener
/usr/bin/javah -classpath /loc/home/hpages/test-puck5/bbs-2.10-bioc/meat/SJava.Rcheck/00_pkg_src/SJava/inst:/loc/home/hpages/test-puck5/bbs-2.10-bioc/meat/SJava.Rcheck/00_pkg_src/SJava/inst/org/omegahat/Jars/Environment.jar -o ROmegahatInterpreter.h org.omegahat.R.Java.ROmegahatInterpreter
/usr/bin/javah -classpath /loc/home/hpages/test-puck5/bbs-2.10-bioc/meat/SJava.Rcheck/00_pkg_src/SJava/inst:/loc/home/hpages/test-puck5/bbs-2.10-bioc/meat/SJava.Rcheck/00_pkg_src/SJava/inst/org/omegahat/Jars/Environment.jar -o REvaluator.h org.omegahat.R.Java.REvaluator
make -C RSJava
make[1]: Entering directory `/loc/home/hpages/test-puck5/bbs-2.10-bioc/meat/SJava.Rcheck/00_pkg_src/SJava/src/RSJava'
/usr/bin/javah -classpath /loc/home/hpages/test-puck5/bbs-2.10-bioc/meat/SJava.Rcheck/00_pkg_src/SJava/inst:/loc/home/hpages/test-puck5/bbs-2.10-bioc/meat/SJava.Rcheck/00_pkg_src/SJava/inst/org/omegahat/Jars/Environment.jar -o OmegaInterfaceManager.h \
	  org.omegahat.Interfaces.NativeInterface.OmegaInterfaceManager
gcc -std=gnu99 -I/home/hpages/test-puck5/bbs-2.10-bioc/R/include -DNDEBUG  -I/usr/local/include   -D_R_ -I/home/hpages/test-puck5/bbs-2.10-bioc/R/include -I/home/hpages/test-puck5/bbs-2.10-bioc/R/include/R_ext -I/loc/home/hpages/test-puck5/bbs-2.10-bioc/meat/SJava.Rcheck/00_pkg_src/SJava/src/RSJava  -I. -I/loc/home/hpages/test-puck5/bbs-2.10-bioc/meat/SJava.Rcheck/00_pkg_src/SJava/inst/include  -I/usr/lib/jvm/java-6-sun-1.6.0.31/jre/include -I/usr/lib/jvm/java-6-sun-1.6.0.31/jre/include/  -fpic  -g -O2  -c CtoJava.c -o CtoJava.o
gcc -std=gnu99 -I/home/hpages/test-puck5/bbs-2.10-bioc/R/include -DNDEBUG  -I/usr/local/include   -D_R_ -I/home/hpages/test-puck5/bbs-2.10-bioc/R/include -I/home/hpages/test-puck5/bbs-2.10-bioc/R/include/R_ext -I/loc/home/hpages/test-puck5/bbs-2.10-bioc/meat/SJava.Rcheck/00_pkg_src/SJava/src/RSJava  -I. -I/loc/home/hpages/test-puck5/bbs-2.10-bioc/meat/SJava.Rcheck/00_pkg_src/SJava/inst/include  -I/usr/lib/jvm/java-6-sun-1.6.0.31/jre/include -I/usr/lib/jvm/java-6-sun-1.6.0.31/jre/include/  -fpic  -g -O2  -c ErrorHandling.c -o ErrorHandling.o
ErrorHandling.c: In function 'throw_Java_exception':
ErrorHandling.c:51:2: warning: implicit declaration of function 'REprintf' [-Wimplicit-function-declaration]
gcc -std=gnu99 -I/home/hpages/test-puck5/bbs-2.10-bioc/R/include -DNDEBUG  -I/usr/local/include   -D_R_ -I/home/hpages/test-puck5/bbs-2.10-bioc/R/include -I/home/hpages/test-puck5/bbs-2.10-bioc/R/include/R_ext -I/loc/home/hpages/test-puck5/bbs-2.10-bioc/meat/SJava.Rcheck/00_pkg_src/SJava/src/RSJava  -I. -I/loc/home/hpages/test-puck5/bbs-2.10-bioc/meat/SJava.Rcheck/00_pkg_src/SJava/inst/include  -I/usr/lib/jvm/java-6-sun-1.6.0.31/jre/include -I/usr/lib/jvm/java-6-sun-1.6.0.31/jre/include/  -fpic  -g -O2  -c ManagerInterfaceUtils.c -o ManagerInterfaceUtils.o
gcc -std=gnu99 -I/home/hpages/test-puck5/bbs-2.10-bioc/R/include -DNDEBUG  -I/usr/local/include   -D_R_ -I/home/hpages/test-puck5/bbs-2.10-bioc/R/include -I/home/hpages/test-puck5/bbs-2.10-bioc/R/include/R_ext -I/loc/home/hpages/test-puck5/bbs-2.10-bioc/meat/SJava.Rcheck/00_pkg_src/SJava/src/RSJava  -I. -I/loc/home/hpages/test-puck5/bbs-2.10-bioc/meat/SJava.Rcheck/00_pkg_src/SJava/inst/include  -I/usr/lib/jvm/java-6-sun-1.6.0.31/jre/include -I/usr/lib/jvm/java-6-sun-1.6.0.31/jre/include/  -fpic  -g -O2  -c References.c -o References.o
References.c: In function 'initReferenceClasses':
References.c:100:6: warning: implicit declaration of function 'REprintf' [-Wimplicit-function-declaration]
gcc -std=gnu99 -I/home/hpages/test-puck5/bbs-2.10-bioc/R/include -DNDEBUG  -I/usr/local/include   -D_R_ -I/home/hpages/test-puck5/bbs-2.10-bioc/R/include -I/home/hpages/test-puck5/bbs-2.10-bioc/R/include/R_ext -I/loc/home/hpages/test-puck5/bbs-2.10-bioc/meat/SJava.Rcheck/00_pkg_src/SJava/src/RSJava  -I. -I/loc/home/hpages/test-puck5/bbs-2.10-bioc/meat/SJava.Rcheck/00_pkg_src/SJava/inst/include  -I/usr/lib/jvm/java-6-sun-1.6.0.31/jre/include -I/usr/lib/jvm/java-6-sun-1.6.0.31/jre/include/  -fpic  -g -O2  -c JNIUtils.c -o JNIUtils.o
JNIUtils.c: In function 'get_java_class_name':
JNIUtils.c:78:6: warning: implicit declaration of function 'REprintf' [-Wimplicit-function-declaration]
cp CtoJava.h ErrorHandling.h ManagerInterfaceUtils.h References.h JNIUtils.h /loc/home/hpages/test-puck5/bbs-2.10-bioc/meat/SJava.Rcheck/00_pkg_src/SJava/inst/include
make[1]: Leaving directory `/loc/home/hpages/test-puck5/bbs-2.10-bioc/meat/SJava.Rcheck/00_pkg_src/SJava/src/RSJava'
gcc -std=gnu99 -I/home/hpages/test-puck5/bbs-2.10-bioc/R/include -DNDEBUG -D_R_ -I/home/hpages/test-puck5/bbs-2.10-bioc/R/include -I/home/hpages/test-puck5/bbs-2.10-bioc/R/include/R_ext -I/loc/home/hpages/test-puck5/bbs-2.10-bioc/meat/SJava.Rcheck/00_pkg_src/SJava/src/RSJava  -I. -I/loc/home/hpages/test-puck5/bbs-2.10-bioc/meat/SJava.Rcheck/00_pkg_src/SJava/inst/include  -I/usr/lib/jvm/java-6-sun-1.6.0.31/jre/include -I/usr/lib/jvm/java-6-sun-1.6.0.31/jre/include/ -I/usr/local/include    -fpic  -g -O2  -c ConverterExamples.c -o ConverterExamples.o
gcc -std=gnu99 -I/home/hpages/test-puck5/bbs-2.10-bioc/R/include -DNDEBUG -D_R_ -I/home/hpages/test-puck5/bbs-2.10-bioc/R/include -I/home/hpages/test-puck5/bbs-2.10-bioc/R/include/R_ext -I/loc/home/hpages/test-puck5/bbs-2.10-bioc/meat/SJava.Rcheck/00_pkg_src/SJava/src/RSJava  -I. -I/loc/home/hpages/test-puck5/bbs-2.10-bioc/meat/SJava.Rcheck/00_pkg_src/SJava/inst/include  -I/usr/lib/jvm/java-6-sun-1.6.0.31/jre/include -I/usr/lib/jvm/java-6-sun-1.6.0.31/jre/include/ -I/usr/local/include    -fpic  -g -O2  -c Converters.c -o Converters.o
gcc -std=gnu99 -I/home/hpages/test-puck5/bbs-2.10-bioc/R/include -DNDEBUG -D_R_ -I/home/hpages/test-puck5/bbs-2.10-bioc/R/include -I/home/hpages/test-puck5/bbs-2.10-bioc/R/include/R_ext -I/loc/home/hpages/test-puck5/bbs-2.10-bioc/meat/SJava.Rcheck/00_pkg_src/SJava/src/RSJava  -I. -I/loc/home/hpages/test-puck5/bbs-2.10-bioc/meat/SJava.Rcheck/00_pkg_src/SJava/inst/include  -I/usr/lib/jvm/java-6-sun-1.6.0.31/jre/include -I/usr/lib/jvm/java-6-sun-1.6.0.31/jre/include/ -I/usr/local/include    -fpic  -g -O2  -c Reflectance.c -o Reflectance.o
gcc -std=gnu99 -I/home/hpages/test-puck5/bbs-2.10-bioc/R/include -DNDEBUG -D_R_ -I/home/hpages/test-puck5/bbs-2.10-bioc/R/include -I/home/hpages/test-puck5/bbs-2.10-bioc/R/include/R_ext -I/loc/home/hpages/test-puck5/bbs-2.10-bioc/meat/SJava.Rcheck/00_pkg_src/SJava/src/RSJava  -I. -I/loc/home/hpages/test-puck5/bbs-2.10-bioc/meat/SJava.Rcheck/00_pkg_src/SJava/inst/include  -I/usr/lib/jvm/java-6-sun-1.6.0.31/jre/include -I/usr/lib/jvm/java-6-sun-1.6.0.31/jre/include/ -I/usr/local/include    -fpic  -g -O2  -c REmbed.c -o REmbed.o
gcc -std=gnu99 -I/home/hpages/test-puck5/bbs-2.10-bioc/R/include -DNDEBUG -D_R_ -I/home/hpages/test-puck5/bbs-2.10-bioc/R/include -I/home/hpages/test-puck5/bbs-2.10-bioc/R/include/R_ext -I/loc/home/hpages/test-puck5/bbs-2.10-bioc/meat/SJava.Rcheck/00_pkg_src/SJava/src/RSJava  -I. -I/loc/home/hpages/test-puck5/bbs-2.10-bioc/meat/SJava.Rcheck/00_pkg_src/SJava/inst/include  -I/usr/lib/jvm/java-6-sun-1.6.0.31/jre/include -I/usr/lib/jvm/java-6-sun-1.6.0.31/jre/include/ -I/usr/local/include    -fpic  -g -O2  -c REmbedWin.c -o REmbedWin.o
gcc -std=gnu99 -I/home/hpages/test-puck5/bbs-2.10-bioc/R/include -DNDEBUG -D_R_ -I/home/hpages/test-puck5/bbs-2.10-bioc/R/include -I/home/hpages/test-puck5/bbs-2.10-bioc/R/include/R_ext -I/loc/home/hpages/test-puck5/bbs-2.10-bioc/meat/SJava.Rcheck/00_pkg_src/SJava/src/RSJava  -I. -I/loc/home/hpages/test-puck5/bbs-2.10-bioc/meat/SJava.Rcheck/00_pkg_src/SJava/inst/include  -I/usr/lib/jvm/java-6-sun-1.6.0.31/jre/include -I/usr/lib/jvm/java-6-sun-1.6.0.31/jre/include/ -I/usr/local/include    -fpic  -g -O2  -c REval.c -o REval.o
gcc -std=gnu99 -I/home/hpages/test-puck5/bbs-2.10-bioc/R/include -DNDEBUG -D_R_ -I/home/hpages/test-puck5/bbs-2.10-bioc/R/include -I/home/hpages/test-puck5/bbs-2.10-bioc/R/include/R_ext -I/loc/home/hpages/test-puck5/bbs-2.10-bioc/meat/SJava.Rcheck/00_pkg_src/SJava/src/RSJava  -I. -I/loc/home/hpages/test-puck5/bbs-2.10-bioc/meat/SJava.Rcheck/00_pkg_src/SJava/inst/include  -I/usr/lib/jvm/java-6-sun-1.6.0.31/jre/include -I/usr/lib/jvm/java-6-sun-1.6.0.31/jre/include/ -I/usr/local/include    -fpic  -g -O2  -c RFunctionListener.c -o RFunctionListener.o
gcc -std=gnu99 -I/home/hpages/test-puck5/bbs-2.10-bioc/R/include -DNDEBUG -D_R_ -I/home/hpages/test-puck5/bbs-2.10-bioc/R/include -I/home/hpages/test-puck5/bbs-2.10-bioc/R/include/R_ext -I/loc/home/hpages/test-puck5/bbs-2.10-bioc/meat/SJava.Rcheck/00_pkg_src/SJava/src/RSJava  -I. -I/loc/home/hpages/test-puck5/bbs-2.10-bioc/meat/SJava.Rcheck/00_pkg_src/SJava/inst/include  -I/usr/lib/jvm/java-6-sun-1.6.0.31/jre/include -I/usr/lib/jvm/java-6-sun-1.6.0.31/jre/include/ -I/usr/local/include    -fpic  -g -O2  -c RReferenceCall.c -o RReferenceCall.o
gcc -std=gnu99 -I/home/hpages/test-puck5/bbs-2.10-bioc/R/include -DNDEBUG -D_R_ -I/home/hpages/test-puck5/bbs-2.10-bioc/R/include -I/home/hpages/test-puck5/bbs-2.10-bioc/R/include/R_ext -I/loc/home/hpages/test-puck5/bbs-2.10-bioc/meat/SJava.Rcheck/00_pkg_src/SJava/src/RSJava  -I. -I/loc/home/hpages/test-puck5/bbs-2.10-bioc/meat/SJava.Rcheck/00_pkg_src/SJava/inst/include  -I/usr/lib/jvm/java-6-sun-1.6.0.31/jre/include -I/usr/lib/jvm/java-6-sun-1.6.0.31/jre/include/ -I/usr/local/include    -fpic  -g -O2  -c RStoJava.c -o RStoJava.o
gcc -std=gnu99 -I/home/hpages/test-puck5/bbs-2.10-bioc/R/include -DNDEBUG -D_R_ -I/home/hpages/test-puck5/bbs-2.10-bioc/R/include -I/home/hpages/test-puck5/bbs-2.10-bioc/R/include/R_ext -I/loc/home/hpages/test-puck5/bbs-2.10-bioc/meat/SJava.Rcheck/00_pkg_src/SJava/src/RSJava  -I. -I/loc/home/hpages/test-puck5/bbs-2.10-bioc/meat/SJava.Rcheck/00_pkg_src/SJava/inst/include  -I/usr/lib/jvm/java-6-sun-1.6.0.31/jre/include -I/usr/lib/jvm/java-6-sun-1.6.0.31/jre/include/ -I/usr/local/include    -fpic  -g -O2  -c RtoJava.c -o RtoJava.o
gcc -std=gnu99 -I/home/hpages/test-puck5/bbs-2.10-bioc/R/include -DNDEBUG -D_R_ -I/home/hpages/test-puck5/bbs-2.10-bioc/R/include -I/home/hpages/test-puck5/bbs-2.10-bioc/R/include/R_ext -I/loc/home/hpages/test-puck5/bbs-2.10-bioc/meat/SJava.Rcheck/00_pkg_src/SJava/src/RSJava  -I. -I/loc/home/hpages/test-puck5/bbs-2.10-bioc/meat/SJava.Rcheck/00_pkg_src/SJava/inst/include  -I/usr/lib/jvm/java-6-sun-1.6.0.31/jre/include -I/usr/lib/jvm/java-6-sun-1.6.0.31/jre/include/ -I/usr/local/include    -fpic  -g -O2  -c RSJava/CtoJava.c -o RSJava/CtoJava.o
gcc -std=gnu99 -I/home/hpages/test-puck5/bbs-2.10-bioc/R/include -DNDEBUG -D_R_ -I/home/hpages/test-puck5/bbs-2.10-bioc/R/include -I/home/hpages/test-puck5/bbs-2.10-bioc/R/include/R_ext -I/loc/home/hpages/test-puck5/bbs-2.10-bioc/meat/SJava.Rcheck/00_pkg_src/SJava/src/RSJava  -I. -I/loc/home/hpages/test-puck5/bbs-2.10-bioc/meat/SJava.Rcheck/00_pkg_src/SJava/inst/include  -I/usr/lib/jvm/java-6-sun-1.6.0.31/jre/include -I/usr/lib/jvm/java-6-sun-1.6.0.31/jre/include/ -I/usr/local/include    -fpic  -g -O2  -c RSJava/ErrorHandling.c -o RSJava/ErrorHandling.o
RSJava/ErrorHandling.c: In function 'throw_Java_exception':
RSJava/ErrorHandling.c:51:2: warning: implicit declaration of function 'REprintf' [-Wimplicit-function-declaration]
gcc -std=gnu99 -I/home/hpages/test-puck5/bbs-2.10-bioc/R/include -DNDEBUG -D_R_ -I/home/hpages/test-puck5/bbs-2.10-bioc/R/include -I/home/hpages/test-puck5/bbs-2.10-bioc/R/include/R_ext -I/loc/home/hpages/test-puck5/bbs-2.10-bioc/meat/SJava.Rcheck/00_pkg_src/SJava/src/RSJava  -I. -I/loc/home/hpages/test-puck5/bbs-2.10-bioc/meat/SJava.Rcheck/00_pkg_src/SJava/inst/include  -I/usr/lib/jvm/java-6-sun-1.6.0.31/jre/include -I/usr/lib/jvm/java-6-sun-1.6.0.31/jre/include/ -I/usr/local/include    -fpic  -g -O2  -c RSJava/ManagerInterfaceUtils.c -o RSJava/ManagerInterfaceUtils.o
gcc -std=gnu99 -I/home/hpages/test-puck5/bbs-2.10-bioc/R/include -DNDEBUG -D_R_ -I/home/hpages/test-puck5/bbs-2.10-bioc/R/include -I/home/hpages/test-puck5/bbs-2.10-bioc/R/include/R_ext -I/loc/home/hpages/test-puck5/bbs-2.10-bioc/meat/SJava.Rcheck/00_pkg_src/SJava/src/RSJava  -I. -I/loc/home/hpages/test-puck5/bbs-2.10-bioc/meat/SJava.Rcheck/00_pkg_src/SJava/inst/include  -I/usr/lib/jvm/java-6-sun-1.6.0.31/jre/include -I/usr/lib/jvm/java-6-sun-1.6.0.31/jre/include/ -I/usr/local/include    -fpic  -g -O2  -c RSJava/References.c -o RSJava/References.o
RSJava/References.c: In function 'initReferenceClasses':
RSJava/References.c:100:6: warning: implicit declaration of function 'REprintf' [-Wimplicit-function-declaration]
gcc -std=gnu99 -I/home/hpages/test-puck5/bbs-2.10-bioc/R/include -DNDEBUG -D_R_ -I/home/hpages/test-puck5/bbs-2.10-bioc/R/include -I/home/hpages/test-puck5/bbs-2.10-bioc/R/include/R_ext -I/loc/home/hpages/test-puck5/bbs-2.10-bioc/meat/SJava.Rcheck/00_pkg_src/SJava/src/RSJava  -I. -I/loc/home/hpages/test-puck5/bbs-2.10-bioc/meat/SJava.Rcheck/00_pkg_src/SJava/inst/include  -I/usr/lib/jvm/java-6-sun-1.6.0.31/jre/include -I/usr/lib/jvm/java-6-sun-1.6.0.31/jre/include/ -I/usr/local/include    -fpic  -g -O2  -c RSJava/JNIUtils.c -o RSJava/JNIUtils.o
RSJava/JNIUtils.c: In function 'get_java_class_name':
RSJava/JNIUtils.c:78:6: warning: implicit declaration of function 'REprintf' [-Wimplicit-function-declaration]
gcc -std=gnu99 -shared -L/usr/local/lib -o SJava.so ConverterExamples.o Converters.o Reflectance.o REmbed.o REmbedWin.o REval.o RFunctionListener.o RReferenceCall.o RStoJava.o RtoJava.o RSJava/CtoJava.o RSJava/ErrorHandling.o RSJava/ManagerInterfaceUtils.o RSJava/References.o RSJava/JNIUtils.o -L/usr/lib/jvm/java-6-sun-1.6.0.31/jre/lib/amd64/server -L/usr/lib/jvm/java-6-sun-1.6.0.31/jre/lib/amd64 -L/usr/lib/jvm/java-6-sun-1.6.0.31/jre/../lib/amd64 -L/usr/java/packages/lib/amd64 -L/usr/lib64 -L/lib64 -L/lib -L/usr/lib -ljvm -L/home/hpages/test-puck5/bbs-2.10-bioc/R/lib -lR
mkdir -p /loc/home/hpages/test-puck5/bbs-2.10-bioc/meat/SJava.Rcheck/SJava/libs
ln -s SJava.so /loc/home/hpages/test-puck5/bbs-2.10-bioc/meat/SJava.Rcheck/SJava/libs/libSJava.so
ln -s SJava.so /loc/home/hpages/test-puck5/bbs-2.10-bioc/meat/SJava.Rcheck/SJava/libs/libRInterpreter.so
make -C RSJava
make[1]: Entering directory `/loc/home/hpages/test-puck5/bbs-2.10-bioc/meat/SJava.Rcheck/00_pkg_src/SJava/src/RSJava'
gcc -std=gnu99 -I/home/hpages/test-puck5/bbs-2.10-bioc/R/include -DNDEBUG  -I/usr/local/include   -D_R_ -I/home/hpages/test-puck5/bbs-2.10-bioc/R/include -I/home/hpages/test-puck5/bbs-2.10-bioc/R/include/R_ext -I/loc/home/hpages/test-puck5/bbs-2.10-bioc/meat/SJava.Rcheck/00_pkg_src/SJava/src/RSJava  -I. -I/loc/home/hpages/test-puck5/bbs-2.10-bioc/meat/SJava.Rcheck/00_pkg_src/SJava/inst/include  -I/usr/lib/jvm/java-6-sun-1.6.0.31/jre/include -I/usr/lib/jvm/java-6-sun-1.6.0.31/jre/include/  -fpic  -g -O2  -c CtoJava.c -o CtoJava.o
gcc -std=gnu99 -I/home/hpages/test-puck5/bbs-2.10-bioc/R/include -DNDEBUG  -I/usr/local/include   -D_R_ -I/home/hpages/test-puck5/bbs-2.10-bioc/R/include -I/home/hpages/test-puck5/bbs-2.10-bioc/R/include/R_ext -I/loc/home/hpages/test-puck5/bbs-2.10-bioc/meat/SJava.Rcheck/00_pkg_src/SJava/src/RSJava  -I. -I/loc/home/hpages/test-puck5/bbs-2.10-bioc/meat/SJava.Rcheck/00_pkg_src/SJava/inst/include  -I/usr/lib/jvm/java-6-sun-1.6.0.31/jre/include -I/usr/lib/jvm/java-6-sun-1.6.0.31/jre/include/  -fpic  -g -O2  -c ErrorHandling.c -o ErrorHandling.o
ErrorHandling.c: In function 'throw_Java_exception':
ErrorHandling.c:51:2: warning: implicit declaration of function 'REprintf' [-Wimplicit-function-declaration]
gcc -std=gnu99 -I/home/hpages/test-puck5/bbs-2.10-bioc/R/include -DNDEBUG  -I/usr/local/include   -D_R_ -I/home/hpages/test-puck5/bbs-2.10-bioc/R/include -I/home/hpages/test-puck5/bbs-2.10-bioc/R/include/R_ext -I/loc/home/hpages/test-puck5/bbs-2.10-bioc/meat/SJava.Rcheck/00_pkg_src/SJava/src/RSJava  -I. -I/loc/home/hpages/test-puck5/bbs-2.10-bioc/meat/SJava.Rcheck/00_pkg_src/SJava/inst/include  -I/usr/lib/jvm/java-6-sun-1.6.0.31/jre/include -I/usr/lib/jvm/java-6-sun-1.6.0.31/jre/include/  -fpic  -g -O2  -c ManagerInterfaceUtils.c -o ManagerInterfaceUtils.o
gcc -std=gnu99 -I/home/hpages/test-puck5/bbs-2.10-bioc/R/include -DNDEBUG  -I/usr/local/include   -D_R_ -I/home/hpages/test-puck5/bbs-2.10-bioc/R/include -I/home/hpages/test-puck5/bbs-2.10-bioc/R/include/R_ext -I/loc/home/hpages/test-puck5/bbs-2.10-bioc/meat/SJava.Rcheck/00_pkg_src/SJava/src/RSJava  -I. -I/loc/home/hpages/test-puck5/bbs-2.10-bioc/meat/SJava.Rcheck/00_pkg_src/SJava/inst/include  -I/usr/lib/jvm/java-6-sun-1.6.0.31/jre/include -I/usr/lib/jvm/java-6-sun-1.6.0.31/jre/include/  -fpic  -g -O2  -c References.c -o References.o
References.c: In function 'initReferenceClasses':
References.c:100:6: warning: implicit declaration of function 'REprintf' [-Wimplicit-function-declaration]
gcc -std=gnu99 -I/home/hpages/test-puck5/bbs-2.10-bioc/R/include -DNDEBUG  -I/usr/local/include   -D_R_ -I/home/hpages/test-puck5/bbs-2.10-bioc/R/include -I/home/hpages/test-puck5/bbs-2.10-bioc/R/include/R_ext -I/loc/home/hpages/test-puck5/bbs-2.10-bioc/meat/SJava.Rcheck/00_pkg_src/SJava/src/RSJava  -I. -I/loc/home/hpages/test-puck5/bbs-2.10-bioc/meat/SJava.Rcheck/00_pkg_src/SJava/inst/include  -I/usr/lib/jvm/java-6-sun-1.6.0.31/jre/include -I/usr/lib/jvm/java-6-sun-1.6.0.31/jre/include/  -fpic  -g -O2  -c JNIUtils.c -o JNIUtils.o
JNIUtils.c: In function 'get_java_class_name':
JNIUtils.c:78:6: warning: implicit declaration of function 'REprintf' [-Wimplicit-function-declaration]
cp CtoJava.h ErrorHandling.h ManagerInterfaceUtils.h References.h JNIUtils.h /loc/home/hpages/test-puck5/bbs-2.10-bioc/meat/SJava.Rcheck/00_pkg_src/SJava/inst/include
make[1]: Leaving directory `/loc/home/hpages/test-puck5/bbs-2.10-bioc/meat/SJava.Rcheck/00_pkg_src/SJava/src/RSJava'
gcc -std=gnu99 -I/home/hpages/test-puck5/bbs-2.10-bioc/R/include -DNDEBUG -D_R_ -I/home/hpages/test-puck5/bbs-2.10-bioc/R/include -I/home/hpages/test-puck5/bbs-2.10-bioc/R/include/R_ext -I/loc/home/hpages/test-puck5/bbs-2.10-bioc/meat/SJava.Rcheck/00_pkg_src/SJava/src/RSJava  -I. -I/loc/home/hpages/test-puck5/bbs-2.10-bioc/meat/SJava.Rcheck/00_pkg_src/SJava/inst/include  -I/usr/lib/jvm/java-6-sun-1.6.0.31/jre/include -I/usr/lib/jvm/java-6-sun-1.6.0.31/jre/include/ -I/usr/local/include    -fpic  -g -O2  -c ConverterExamples.c -o ConverterExamples.o
gcc -std=gnu99 -I/home/hpages/test-puck5/bbs-2.10-bioc/R/include -DNDEBUG -D_R_ -I/home/hpages/test-puck5/bbs-2.10-bioc/R/include -I/home/hpages/test-puck5/bbs-2.10-bioc/R/include/R_ext -I/loc/home/hpages/test-puck5/bbs-2.10-bioc/meat/SJava.Rcheck/00_pkg_src/SJava/src/RSJava  -I. -I/loc/home/hpages/test-puck5/bbs-2.10-bioc/meat/SJava.Rcheck/00_pkg_src/SJava/inst/include  -I/usr/lib/jvm/java-6-sun-1.6.0.31/jre/include -I/usr/lib/jvm/java-6-sun-1.6.0.31/jre/include/ -I/usr/local/include    -fpic  -g -O2  -c Converters.c -o Converters.o
gcc -std=gnu99 -I/home/hpages/test-puck5/bbs-2.10-bioc/R/include -DNDEBUG -D_R_ -I/home/hpages/test-puck5/bbs-2.10-bioc/R/include -I/home/hpages/test-puck5/bbs-2.10-bioc/R/include/R_ext -I/loc/home/hpages/test-puck5/bbs-2.10-bioc/meat/SJava.Rcheck/00_pkg_src/SJava/src/RSJava  -I. -I/loc/home/hpages/test-puck5/bbs-2.10-bioc/meat/SJava.Rcheck/00_pkg_src/SJava/inst/include  -I/usr/lib/jvm/java-6-sun-1.6.0.31/jre/include -I/usr/lib/jvm/java-6-sun-1.6.0.31/jre/include/ -I/usr/local/include    -fpic  -g -O2  -c Reflectance.c -o Reflectance.o
gcc -std=gnu99 -I/home/hpages/test-puck5/bbs-2.10-bioc/R/include -DNDEBUG -D_R_ -I/home/hpages/test-puck5/bbs-2.10-bioc/R/include -I/home/hpages/test-puck5/bbs-2.10-bioc/R/include/R_ext -I/loc/home/hpages/test-puck5/bbs-2.10-bioc/meat/SJava.Rcheck/00_pkg_src/SJava/src/RSJava  -I. -I/loc/home/hpages/test-puck5/bbs-2.10-bioc/meat/SJava.Rcheck/00_pkg_src/SJava/inst/include  -I/usr/lib/jvm/java-6-sun-1.6.0.31/jre/include -I/usr/lib/jvm/java-6-sun-1.6.0.31/jre/include/ -I/usr/local/include    -fpic  -g -O2  -c REmbed.c -o REmbed.o
gcc -std=gnu99 -I/home/hpages/test-puck5/bbs-2.10-bioc/R/include -DNDEBUG -D_R_ -I/home/hpages/test-puck5/bbs-2.10-bioc/R/include -I/home/hpages/test-puck5/bbs-2.10-bioc/R/include/R_ext -I/loc/home/hpages/test-puck5/bbs-2.10-bioc/meat/SJava.Rcheck/00_pkg_src/SJava/src/RSJava  -I. -I/loc/home/hpages/test-puck5/bbs-2.10-bioc/meat/SJava.Rcheck/00_pkg_src/SJava/inst/include  -I/usr/lib/jvm/java-6-sun-1.6.0.31/jre/include -I/usr/lib/jvm/java-6-sun-1.6.0.31/jre/include/ -I/usr/local/include    -fpic  -g -O2  -c REmbedWin.c -o REmbedWin.o
gcc -std=gnu99 -I/home/hpages/test-puck5/bbs-2.10-bioc/R/include -DNDEBUG -D_R_ -I/home/hpages/test-puck5/bbs-2.10-bioc/R/include -I/home/hpages/test-puck5/bbs-2.10-bioc/R/include/R_ext -I/loc/home/hpages/test-puck5/bbs-2.10-bioc/meat/SJava.Rcheck/00_pkg_src/SJava/src/RSJava  -I. -I/loc/home/hpages/test-puck5/bbs-2.10-bioc/meat/SJava.Rcheck/00_pkg_src/SJava/inst/include  -I/usr/lib/jvm/java-6-sun-1.6.0.31/jre/include -I/usr/lib/jvm/java-6-sun-1.6.0.31/jre/include/ -I/usr/local/include    -fpic  -g -O2  -c REval.c -o REval.o
gcc -std=gnu99 -I/home/hpages/test-puck5/bbs-2.10-bioc/R/include -DNDEBUG -D_R_ -I/home/hpages/test-puck5/bbs-2.10-bioc/R/include -I/home/hpages/test-puck5/bbs-2.10-bioc/R/include/R_ext -I/loc/home/hpages/test-puck5/bbs-2.10-bioc/meat/SJava.Rcheck/00_pkg_src/SJava/src/RSJava  -I. -I/loc/home/hpages/test-puck5/bbs-2.10-bioc/meat/SJava.Rcheck/00_pkg_src/SJava/inst/include  -I/usr/lib/jvm/java-6-sun-1.6.0.31/jre/include -I/usr/lib/jvm/java-6-sun-1.6.0.31/jre/include/ -I/usr/local/include    -fpic  -g -O2  -c RFunctionListener.c -o RFunctionListener.o
gcc -std=gnu99 -I/home/hpages/test-puck5/bbs-2.10-bioc/R/include -DNDEBUG -D_R_ -I/home/hpages/test-puck5/bbs-2.10-bioc/R/include -I/home/hpages/test-puck5/bbs-2.10-bioc/R/include/R_ext -I/loc/home/hpages/test-puck5/bbs-2.10-bioc/meat/SJava.Rcheck/00_pkg_src/SJava/src/RSJava  -I. -I/loc/home/hpages/test-puck5/bbs-2.10-bioc/meat/SJava.Rcheck/00_pkg_src/SJava/inst/include  -I/usr/lib/jvm/java-6-sun-1.6.0.31/jre/include -I/usr/lib/jvm/java-6-sun-1.6.0.31/jre/include/ -I/usr/local/include    -fpic  -g -O2  -c RReferenceCall.c -o RReferenceCall.o
gcc -std=gnu99 -I/home/hpages/test-puck5/bbs-2.10-bioc/R/include -DNDEBUG -D_R_ -I/home/hpages/test-puck5/bbs-2.10-bioc/R/include -I/home/hpages/test-puck5/bbs-2.10-bioc/R/include/R_ext -I/loc/home/hpages/test-puck5/bbs-2.10-bioc/meat/SJava.Rcheck/00_pkg_src/SJava/src/RSJava  -I. -I/loc/home/hpages/test-puck5/bbs-2.10-bioc/meat/SJava.Rcheck/00_pkg_src/SJava/inst/include  -I/usr/lib/jvm/java-6-sun-1.6.0.31/jre/include -I/usr/lib/jvm/java-6-sun-1.6.0.31/jre/include/ -I/usr/local/include    -fpic  -g -O2  -c RStoJava.c -o RStoJava.o
gcc -std=gnu99 -I/home/hpages/test-puck5/bbs-2.10-bioc/R/include -DNDEBUG -D_R_ -I/home/hpages/test-puck5/bbs-2.10-bioc/R/include -I/home/hpages/test-puck5/bbs-2.10-bioc/R/include/R_ext -I/loc/home/hpages/test-puck5/bbs-2.10-bioc/meat/SJava.Rcheck/00_pkg_src/SJava/src/RSJava  -I. -I/loc/home/hpages/test-puck5/bbs-2.10-bioc/meat/SJava.Rcheck/00_pkg_src/SJava/inst/include  -I/usr/lib/jvm/java-6-sun-1.6.0.31/jre/include -I/usr/lib/jvm/java-6-sun-1.6.0.31/jre/include/ -I/usr/local/include    -fpic  -g -O2  -c RtoJava.c -o RtoJava.o
gcc -std=gnu99 -I/home/hpages/test-puck5/bbs-2.10-bioc/R/include -DNDEBUG -D_R_ -I/home/hpages/test-puck5/bbs-2.10-bioc/R/include -I/home/hpages/test-puck5/bbs-2.10-bioc/R/include/R_ext -I/loc/home/hpages/test-puck5/bbs-2.10-bioc/meat/SJava.Rcheck/00_pkg_src/SJava/src/RSJava  -I. -I/loc/home/hpages/test-puck5/bbs-2.10-bioc/meat/SJava.Rcheck/00_pkg_src/SJava/inst/include  -I/usr/lib/jvm/java-6-sun-1.6.0.31/jre/include -I/usr/lib/jvm/java-6-sun-1.6.0.31/jre/include/ -I/usr/local/include    -fpic  -g -O2  -c RSJava/CtoJava.c -o RSJava/CtoJava.o
gcc -std=gnu99 -I/home/hpages/test-puck5/bbs-2.10-bioc/R/include -DNDEBUG -D_R_ -I/home/hpages/test-puck5/bbs-2.10-bioc/R/include -I/home/hpages/test-puck5/bbs-2.10-bioc/R/include/R_ext -I/loc/home/hpages/test-puck5/bbs-2.10-bioc/meat/SJava.Rcheck/00_pkg_src/SJava/src/RSJava  -I. -I/loc/home/hpages/test-puck5/bbs-2.10-bioc/meat/SJava.Rcheck/00_pkg_src/SJava/inst/include  -I/usr/lib/jvm/java-6-sun-1.6.0.31/jre/include -I/usr/lib/jvm/java-6-sun-1.6.0.31/jre/include/ -I/usr/local/include    -fpic  -g -O2  -c RSJava/ErrorHandling.c -o RSJava/ErrorHandling.o
RSJava/ErrorHandling.c: In function 'throw_Java_exception':
RSJava/ErrorHandling.c:51:2: warning: implicit declaration of function 'REprintf' [-Wimplicit-function-declaration]
gcc -std=gnu99 -I/home/hpages/test-puck5/bbs-2.10-bioc/R/include -DNDEBUG -D_R_ -I/home/hpages/test-puck5/bbs-2.10-bioc/R/include -I/home/hpages/test-puck5/bbs-2.10-bioc/R/include/R_ext -I/loc/home/hpages/test-puck5/bbs-2.10-bioc/meat/SJava.Rcheck/00_pkg_src/SJava/src/RSJava  -I. -I/loc/home/hpages/test-puck5/bbs-2.10-bioc/meat/SJava.Rcheck/00_pkg_src/SJava/inst/include  -I/usr/lib/jvm/java-6-sun-1.6.0.31/jre/include -I/usr/lib/jvm/java-6-sun-1.6.0.31/jre/include/ -I/usr/local/include    -fpic  -g -O2  -c RSJava/ManagerInterfaceUtils.c -o RSJava/ManagerInterfaceUtils.o
gcc -std=gnu99 -I/home/hpages/test-puck5/bbs-2.10-bioc/R/include -DNDEBUG -D_R_ -I/home/hpages/test-puck5/bbs-2.10-bioc/R/include -I/home/hpages/test-puck5/bbs-2.10-bioc/R/include/R_ext -I/loc/home/hpages/test-puck5/bbs-2.10-bioc/meat/SJava.Rcheck/00_pkg_src/SJava/src/RSJava  -I. -I/loc/home/hpages/test-puck5/bbs-2.10-bioc/meat/SJava.Rcheck/00_pkg_src/SJava/inst/include  -I/usr/lib/jvm/java-6-sun-1.6.0.31/jre/include -I/usr/lib/jvm/java-6-sun-1.6.0.31/jre/include/ -I/usr/local/include    -fpic  -g -O2  -c RSJava/References.c -o RSJava/References.o
RSJava/References.c: In function 'initReferenceClasses':
RSJava/References.c:100:6: warning: implicit declaration of function 'REprintf' [-Wimplicit-function-declaration]
gcc -std=gnu99 -I/home/hpages/test-puck5/bbs-2.10-bioc/R/include -DNDEBUG -D_R_ -I/home/hpages/test-puck5/bbs-2.10-bioc/R/include -I/home/hpages/test-puck5/bbs-2.10-bioc/R/include/R_ext -I/loc/home/hpages/test-puck5/bbs-2.10-bioc/meat/SJava.Rcheck/00_pkg_src/SJava/src/RSJava  -I. -I/loc/home/hpages/test-puck5/bbs-2.10-bioc/meat/SJava.Rcheck/00_pkg_src/SJava/inst/include  -I/usr/lib/jvm/java-6-sun-1.6.0.31/jre/include -I/usr/lib/jvm/java-6-sun-1.6.0.31/jre/include/ -I/usr/local/include    -fpic  -g -O2  -c RSJava/JNIUtils.c -o RSJava/JNIUtils.o
RSJava/JNIUtils.c: In function 'get_java_class_name':
RSJava/JNIUtils.c:78:6: warning: implicit declaration of function 'REprintf' [-Wimplicit-function-declaration]
installing to /loc/home/hpages/test-puck5/bbs-2.10-bioc/meat/SJava.Rcheck/SJava/libs
** R
** inst
** preparing package for lazy loading
Creating a generic function for 'merge' from package 'base' in package 'SJava'
** help
*** installing help indices
** building package indices
** testing if installed package can be loaded

* DONE (SJava)

SJava.Rcheck/SJava-Ex.timings:

nameusersystemelapsed
Array0.1400.0080.148
Dollar0.3720.0080.380
JClass0.1520.0200.185
Java0.0240.0000.025
JavaConfiguration-class0.0040.0000.003
JavaConstructor0.1080.0040.104
JavaInit000
JavaTerminate000
OmegahatExpression0.0000.0000.001
RSJava.symbol000
RtoJavaSig000
expandClassName0.0280.0000.013
foreignReference0.0240.0120.044
getForeignReferences0.2520.0360.289
getJavaConverterDescriptions000
getJavaHandler0.0040.0000.006
getMethods0.0760.0040.078
getNumJavaConverters000
interfaceGenerator0.0080.0000.005
isJavaInitialized0.0360.0000.028
javaConfig0.0040.0000.003
javaHandlerGenerator000
javaIs0.0000.0000.002
jdynamicCompile0.0000.0000.001
mergePath000
mergeProperties0.0000.0000.001
omegahatReference000
removeJavaConverter000
setJavaConverter0.0000.0000.001
setJavaFunctionConverter0.0440.0000.044
setJavaHandler000