SMAP 1.20.0 Robin Andersson
Snapshot Date: 2012-09-23 17:01:39 -0700 (Sun, 23 Sep 2012) | URL: https://hedgehog.fhcrc.org/bioconductor/branches/RELEASE_2_10/madman/Rpacks/SMAP | Last Changed Rev: 64678 / Revision: 69725 | Last Changed Date: 2012-03-30 15:05:02 -0700 (Fri, 30 Mar 2012) |
| lamb2 | Linux (openSUSE 11.4) / x86_64 | OK | OK | |
moscato2 | Windows Server 2008 R2 Enterprise SP1 (64-bit) / x64 | OK | OK | [ OK ] |
petty | Mac OS X Leopard (10.5.8) / i386 | OK | OK | OK |
install for i386
* installing *source* package 'SMAP' ...
** libs
gcc -I"E:/biocbld/BBS-2˜1.10-/R/include" -DNDEBUG -O3 -Wall -std=gnu99 -mtune=core2 -c gradient.c -o gradient.o
gradient.c: In function 'prior_gradient':
gradient.c:142:7: warning: variable 'lower' set but not used [-Wunused-but-set-variable]
gradient.c: In function 'hmm_update':
gradient.c:247:10: warning: unused variable 'tmp' [-Wunused-variable]
gcc -I"E:/biocbld/BBS-2˜1.10-/R/include" -DNDEBUG -O3 -Wall -std=gnu99 -mtune=core2 -c init.c -o init.o
gcc -I"E:/biocbld/BBS-2˜1.10-/R/include" -DNDEBUG -O3 -Wall -std=gnu99 -mtune=core2 -c overlap.c -o overlap.o
gcc -I"E:/biocbld/BBS-2˜1.10-/R/include" -DNDEBUG -O3 -Wall -std=gnu99 -mtune=core2 -c prob.c -o prob.o
gcc -I"E:/biocbld/BBS-2˜1.10-/R/include" -DNDEBUG -O3 -Wall -std=gnu99 -mtune=core2 -c viterbi.c -o viterbi.o
gcc -shared -s -static-libgcc -o SMAP.dll tmp.def gradient.o init.o overlap.o prob.o viterbi.o -LE:/biocbld/BBS-2˜1.10-/R/bin/i386 -lR
installing to E:/biocbld/bbs-2.10-bioc/meat/SMAP.buildbin-libdir/SMAP/libs/i386
** R
** data
** inst
** preparing package for lazy loading
Creating a generic function for 'plot' from package 'graphics' in package 'SMAP'
** help
*** installing help indices
** building package indices
** installing vignettes
'SMAP.Rnw'
** testing if installed package can be loaded
install for x64
* installing *source* package 'SMAP' ...
** libs
gcc -m64 -I"E:/biocbld/BBS-2˜1.10-/R/include" -DNDEBUG -I"d:/RCompile/CRANpkg/extralibs64/local/include" -O2 -Wall -std=gnu99 -mtune=core2 -c gradient.c -o gradient.o
gradient.c: In function 'prior_gradient':
gradient.c:142:7: warning: variable 'lower' set but not used [-Wunused-but-set-variable]
gradient.c: In function 'hmm_update':
gradient.c:247:10: warning: unused variable 'tmp' [-Wunused-variable]
gcc -m64 -I"E:/biocbld/BBS-2˜1.10-/R/include" -DNDEBUG -I"d:/RCompile/CRANpkg/extralibs64/local/include" -O2 -Wall -std=gnu99 -mtune=core2 -c init.c -o init.o
gcc -m64 -I"E:/biocbld/BBS-2˜1.10-/R/include" -DNDEBUG -I"d:/RCompile/CRANpkg/extralibs64/local/include" -O2 -Wall -std=gnu99 -mtune=core2 -c overlap.c -o overlap.o
gcc -m64 -I"E:/biocbld/BBS-2˜1.10-/R/include" -DNDEBUG -I"d:/RCompile/CRANpkg/extralibs64/local/include" -O2 -Wall -std=gnu99 -mtune=core2 -c prob.c -o prob.o
gcc -m64 -I"E:/biocbld/BBS-2˜1.10-/R/include" -DNDEBUG -I"d:/RCompile/CRANpkg/extralibs64/local/include" -O2 -Wall -std=gnu99 -mtune=core2 -c viterbi.c -o viterbi.o
gcc -m64 -shared -s -static-libgcc -o SMAP.dll tmp.def gradient.o init.o overlap.o prob.o viterbi.o -Ld:/RCompile/CRANpkg/extralibs64/local/lib/x64 -Ld:/RCompile/CRANpkg/extralibs64/local/lib -LE:/biocbld/BBS-2~1.10-/R/bin/x64 -lR
installing to E:/biocbld/bbs-2.10-bioc/meat/SMAP.buildbin-libdir/SMAP/libs/x64
** testing if installed package can be loaded
* MD5 sums
packaged installation of 'SMAP' as SMAP_1.20.0.zip
* DONE (SMAP)