SamSPECTRAL 1.10.0 Habil Zare
Snapshot Date: 2012-09-23 17:01:39 -0700 (Sun, 23 Sep 2012) | URL: https://hedgehog.fhcrc.org/bioconductor/branches/RELEASE_2_10/madman/Rpacks/SamSPECTRAL | Last Changed Rev: 64678 / Revision: 69725 | Last Changed Date: 2012-03-30 15:05:02 -0700 (Fri, 30 Mar 2012) |
| lamb2 | Linux (openSUSE 11.4) / x86_64 | OK | OK | |
moscato2 | Windows Server 2008 R2 Enterprise SP1 (64-bit) / x64 | OK | OK | [ OK ] |
petty | Mac OS X Leopard (10.5.8) / i386 | OK | OK | OK |
install for i386
* installing *source* package 'SamSPECTRAL' ...
** libs
gcc -I"E:/biocbld/BBS-2˜1.10-/R/include" -DNDEBUG -O3 -Wall -std=gnu99 -mtune=core2 -c Rinit.c -o Rinit.o
gcc -I"E:/biocbld/BBS-2˜1.10-/R/include" -DNDEBUG -O3 -Wall -std=gnu99 -mtune=core2 -c conductance_computation.c -o conductance_computation.o
conductance_computation.c: In function 'conductance_computation':
conductance_computation.c:155:17: warning: variable 'repres_ind' set but not used [-Wunused-but-set-variable]
conductance_computation.c:155:7: warning: variable 'density' set but not used [-Wunused-but-set-variable]
conductance_computation.c:153:31: warning: unused variable 'dj' [-Wunused-variable]
conductance_computation.c:153:27: warning: unused variable 'di' [-Wunused-variable]
conductance_computation.c:152:20: warning: unused variable 'memberLen' [-Wunused-variable]
gcc -I"E:/biocbld/BBS-2˜1.10-/R/include" -DNDEBUG -O3 -Wall -std=gnu99 -mtune=core2 -c maximum_of_rows.c -o maximum_of_rows.o
gcc -shared -s -static-libgcc -o SamSPECTRAL.dll tmp.def Rinit.o conductance_computation.o maximum_of_rows.o -LE:/biocbld/BBS-2˜1.10-/R/bin/i386 -lR
installing to E:/biocbld/bbs-2.10-bioc/meat/SamSPECTRAL.buildbin-libdir/SamSPECTRAL/libs/i386
** R
** data
** inst
** preparing package for lazy loading
** help
*** installing help indices
** building package indices
** installing vignettes
'Clustering_by_SamSPECTRAL.Rnw'
** testing if installed package can be loaded
install for x64
* installing *source* package 'SamSPECTRAL' ...
** libs
gcc -m64 -I"E:/biocbld/BBS-2˜1.10-/R/include" -DNDEBUG -I"d:/RCompile/CRANpkg/extralibs64/local/include" -O2 -Wall -std=gnu99 -mtune=core2 -c Rinit.c -o Rinit.o
gcc -m64 -I"E:/biocbld/BBS-2~1.10-/R/include" -DNDEBUG -I"d:/RCompile/CRANpkg/extralibs64/local/include" -O2 -Wall -std=gnu99 -mtune=core2 -c conductance_computation.c -o conductance_computation.o
conductance_computation.c: In function 'conductance_computation':
conductance_computation.c:155:17: warning: variable 'repres_ind' set but not used [-Wunused-but-set-variable]
conductance_computation.c:155:7: warning: variable 'density' set but not used [-Wunused-but-set-variable]
conductance_computation.c:153:31: warning: unused variable 'dj' [-Wunused-variable]
conductance_computation.c:153:27: warning: unused variable 'di' [-Wunused-variable]
conductance_computation.c:152:20: warning: unused variable 'memberLen' [-Wunused-variable]
gcc -m64 -I"E:/biocbld/BBS-2˜1.10-/R/include" -DNDEBUG -I"d:/RCompile/CRANpkg/extralibs64/local/include" -O2 -Wall -std=gnu99 -mtune=core2 -c maximum_of_rows.c -o maximum_of_rows.o
gcc -m64 -shared -s -static-libgcc -o SamSPECTRAL.dll tmp.def Rinit.o conductance_computation.o maximum_of_rows.o -Ld:/RCompile/CRANpkg/extralibs64/local/lib/x64 -Ld:/RCompile/CRANpkg/extralibs64/local/lib -LE:/biocbld/BBS-2~1.10-/R/bin/x64 -lR
installing to E:/biocbld/bbs-2.10-bioc/meat/SamSPECTRAL.buildbin-libdir/SamSPECTRAL/libs/x64
** testing if installed package can be loaded
* MD5 sums
packaged installation of 'SamSPECTRAL' as SamSPECTRAL_1.10.0.zip
* DONE (SamSPECTRAL)