Back to the "Multiple platform build/check report" A  B  C  D  E  F  G  H  I  J  K  L  M  N  O  P  Q  R [S] T  U  V  W  X  Y  Z 

Package 504/554HostnameOS / ArchBUILDCHECKBUILD BIN
SpeCond 1.10.0
Florence Cavalli
Snapshot Date: 2012-03-31 17:01:49 -0700 (Sat, 31 Mar 2012)
URL: https://hedgehog.fhcrc.org/bioconductor/branches/RELEASE_2_10/madman/Rpacks/SpeCond
Last Changed Rev: 64678 / Revision: 64719
Last Changed Date: 2012-03-30 15:05:02 -0700 (Fri, 30 Mar 2012)
lamb2 Linux (openSUSE 11.4) / x86_64  OK  OK 
puck5 Linux (Ubuntu 12.04) / x86_64  OK [ OK ]
moscato2 Windows Server 2008 R2 Enterprise SP1 (64-bit) / x64  OK  OK  OK 
petty Mac OS X Leopard (10.5.8) / i386  OK  OK  OK 

Summary

Package: SpeCond
Version: 1.10.0
Command: /home/hpages/test-puck5/bbs-2.10-bioc/R/bin/R CMD check --no-vignettes --timings SpeCond_1.10.0.tar.gz
StartedAt: 2012-04-01 03:32:29 -0700 (Sun, 01 Apr 2012)
EndedAt: 2012-04-01 03:34:19 -0700 (Sun, 01 Apr 2012)
EllapsedTime: 109.9 seconds
RetCode: 0
Status:  OK 
CheckDir: SpeCond.Rcheck
Warnings: 0

Command output

* using log directory '/loc/home/hpages/test-puck5/bbs-2.10-bioc/meat/SpeCond.Rcheck'
* using R version 2.15.0 RC (2012-03-22 r58802)
* using platform: x86_64-unknown-linux-gnu (64-bit)
* using session charset: ISO8859-1
* using option '--no-vignettes'
* checking for file 'SpeCond/DESCRIPTION' ... OK
* this is package 'SpeCond' version '1.10.0'
* checking package namespace information ... OK
* checking package dependencies ... OK
* checking if this is a source package ... OK
* checking if there is a namespace ... OK
* checking whether package 'SpeCond' can be installed ... OK
* checking installed package size ... OK
* checking package directory ... OK
* checking for portable file names ... OK
* checking for sufficient/correct file permissions ... OK
* checking DESCRIPTION meta-information ... OK
* checking top-level files ... OK
* checking index information ... OK
* checking package subdirectories ... OK
* checking R files for non-ASCII characters ... OK
* checking R files for syntax errors ... OK
* checking whether the package can be loaded ... OK
* checking whether the package can be loaded with stated dependencies ... OK
* checking whether the package can be unloaded cleanly ... OK
* checking whether the namespace can be loaded with stated dependencies ... OK
* checking whether the namespace can be unloaded cleanly ... OK
* checking for unstated dependencies in R code ... OK
* checking S3 generic/method consistency ... OK
* checking replacement functions ... OK
* checking foreign function calls ... OK
* checking R code for possible problems ... NOTE
SpeCond: warning in getSpecificOutliersStep1(expressionMatrix, fit =
  fit1, param.detection = param.detection, multitest.correction.method
  = "BY", prefix.file = prefix.file, print.hist.pv = FALSE): partial
  argument match of 'fit' to 'fit1'
SpeCond: warning in getSpecificResult(expressionMatrix, fit = fit2,
  specificOutlierStep1 = specificOutlierStep1, param.detection =
  param.detection, multitest.correction.method =
  multitest.correction.method, prefix.file = prefix.file, print.hist.pv
  = print.hist.pv): partial argument match of 'fit' to 'fit2'
createSingleGeneHtmlPage: warning in matrix(c("color:#000DFE", NA), nr
  = 1, nc = 2): partial argument match of 'nr' to 'nrow'
createSingleGeneHtmlPage: warning in matrix(c("color:#000DFE", NA), nr
  = 1, nc = 2): partial argument match of 'nc' to 'ncol'
getExpressionpatternLegend: warning in matrix(" ", nr = 2, nc =
  1): partial argument match of 'nr' to 'nrow'
getExpressionpatternLegend: warning in matrix(" ", nr = 2, nc =
  1): partial argument match of 'nc' to 'ncol'
getHeatmap: warning in heatmap(M_values, scale = "none", margin = c(8,
  8), col = colors): partial argument match of 'margin' to 'margins'
getHeatmap: warning in heatmap(M_values, scale = "none", margin = c(8,
  8), col = colors, RowSideColors = colRowSide): partial argument match
  of 'margin' to 'margins'
getHeatmap: warning in heatmap(M_values[rownames(M_values) %in%
  probe_set, ], scale = "none", margin = c(8, 8), col = colors):
  partial argument match of 'margin' to 'margins'
getProfileHeatmap: warning in heatmap(M_profile, scale = "none", margin
  = c(8, 8), col = colors): partial argument match of 'margin' to
  'margins'
* checking Rd files ... OK
* checking Rd metadata ... OK
* checking Rd cross-references ... OK
* checking for missing documentation entries ... OK
* checking for code/documentation mismatches ... OK
* checking Rd \usage sections ... OK
* checking Rd contents ... OK
* checking for unstated dependencies in examples ... OK
* checking contents of 'data' directory ... OK
* checking data for non-ASCII characters ... OK
* checking data for ASCII and uncompressed saves ... OK
* checking installed files from 'inst/doc' ... OK
* checking examples ... OK
* checking for unstated dependencies in vignettes ... OK
* checking package vignettes in 'inst/doc' ... OK
* checking running R code from vignettes ... SKIPPED
* checking re-building of vignettes ... SKIPPED
* checking PDF version of manual ... OK

NOTE: There was 1 note.
See
  '/loc/home/hpages/test-puck5/bbs-2.10-bioc/meat/SpeCond.Rcheck/00check.log'
for details.

SpeCond.Rcheck/00install.out:

* installing *source* package 'SpeCond' ...
** R
** data
** inst
** preparing package for lazy loading
** help
*** installing help indices
** building package indices
** installing vignettes
   'SpeCond.Rnw' 
** testing if installed package can be loaded

* DONE (SpeCond)

SpeCond.Rcheck/SpeCond-Ex.timings:

nameusersystemelapsed
SpeCond5.2040.0245.296
createParameterMatrix0.0000.0000.001
expSetSpeCondExample0.0040.0000.029
expressionSpeCondExample0.0000.0000.012
fitNoPriorWithExclusion4.8760.0044.906
fitPrior3.0320.0043.145
getDefaultParameter000
getFullHtmlSpeCondResult6.7890.0526.912
getGeneHtmlPage6.3160.0286.364
getMatrixFromExpressionSet0.2280.0000.253
getProfile4.9450.0045.006
getSpecificOutliersStep13.1680.0163.252
getSpecificResult5.2760.0045.485
simulatedSpeCondData0.0040.0000.020
writeGeneResult4.9520.0084.975
writeSpeCondResult5.0210.0205.186
writeUniqueProfileSpecificResult4.9400.0084.971