Back to the "Multiple platform build/check report" A  B  C  D  E  F  G  H  I  J  K  L  M  N  O  P  Q  R  S [T] U  V  W  X  Y  Z 

Package 524/554HostnameOS / ArchBUILDCHECKBUILD BIN
TEQC 2.4.0
Manuela Hummel
Snapshot Date: 2012-03-31 17:01:49 -0700 (Sat, 31 Mar 2012)
URL: https://hedgehog.fhcrc.org/bioconductor/branches/RELEASE_2_10/madman/Rpacks/TEQC
Last Changed Rev: 64678 / Revision: 64719
Last Changed Date: 2012-03-30 15:05:02 -0700 (Fri, 30 Mar 2012)
lamb2 Linux (openSUSE 11.4) / x86_64  OK  OK 
puck5 Linux (Ubuntu 12.04) / x86_64  OK [ OK ]
moscato2 Windows Server 2008 R2 Enterprise SP1 (64-bit) / x64  OK  OK  OK 
petty Mac OS X Leopard (10.5.8) / i386  OK  OK  OK 

Summary

Package: TEQC
Version: 2.4.0
Command: /home/hpages/test-puck5/bbs-2.10-bioc/R/bin/R CMD check --no-vignettes --timings TEQC_2.4.0.tar.gz
StartedAt: 2012-04-01 03:41:46 -0700 (Sun, 01 Apr 2012)
EndedAt: 2012-04-01 03:43:54 -0700 (Sun, 01 Apr 2012)
EllapsedTime: 128.9 seconds
RetCode: 0
Status:  OK 
CheckDir: TEQC.Rcheck
Warnings: 0

Command output

* using log directory '/loc/home/hpages/test-puck5/bbs-2.10-bioc/meat/TEQC.Rcheck'
* using R version 2.15.0 RC (2012-03-22 r58802)
* using platform: x86_64-unknown-linux-gnu (64-bit)
* using session charset: ISO8859-1
* using option '--no-vignettes'
* checking for file 'TEQC/DESCRIPTION' ... OK
* checking extension type ... Package
* this is package 'TEQC' version '2.4.0'
* checking package namespace information ... OK
* checking package dependencies ... OK
* checking if this is a source package ... OK
* checking if there is a namespace ... OK
* checking whether package 'TEQC' can be installed ... OK
* checking installed package size ... OK
* checking package directory ... OK
* checking for portable file names ... OK
* checking for sufficient/correct file permissions ... OK
* checking DESCRIPTION meta-information ... OK
* checking top-level files ... OK
* checking index information ... OK
* checking package subdirectories ... OK
* checking R files for non-ASCII characters ... OK
* checking R files for syntax errors ... OK
* checking whether the package can be loaded ... OK
* checking whether the package can be loaded with stated dependencies ... OK
* checking whether the package can be unloaded cleanly ... OK
* checking whether the namespace can be loaded with stated dependencies ... OK
* checking whether the namespace can be unloaded cleanly ... OK
* checking for unstated dependencies in R code ... OK
* checking S3 generic/method consistency ... OK
* checking replacement functions ... OK
* checking foreign function calls ... OK
* checking R code for possible problems ... NOTE
get.reads: no visible binding for global variable 'pos'
get.reads: no visible binding for global variable 'qname'
* checking Rd files ... OK
* checking Rd metadata ... OK
* checking Rd cross-references ... OK
* checking for missing documentation entries ... OK
* checking for code/documentation mismatches ... OK
* checking Rd \usage sections ... OK
* checking Rd contents ... OK
* checking for unstated dependencies in examples ... OK
* checking installed files from 'inst/doc' ... OK
* checking examples ... OK
* checking for unstated dependencies in vignettes ... OK
* checking package vignettes in 'inst/doc' ... OK
* checking running R code from vignettes ... SKIPPED
* checking re-building of vignettes ... SKIPPED
* checking PDF version of manual ... OK

NOTE: There was 1 note.
See
  '/loc/home/hpages/test-puck5/bbs-2.10-bioc/meat/TEQC.Rcheck/00check.log'
for details.

TEQC.Rcheck/00install.out:

* installing *source* package 'TEQC' ...
** R
** inst
** preparing package for lazy loading
** help
*** installing help indices
** building package indices
** installing vignettes
   'TEQC.Rnw' 
** testing if installed package can be loaded

* DONE (TEQC)

TEQC.Rcheck/TEQC-Ex.timings:

nameusersystemelapsed
TEQCreport0.0040.0000.009
chrom.barplot0.3200.0080.335
coverage.GC1.4720.0041.480
coverage.correlation1.9360.0161.958
coverage.density1.1120.0001.116
coverage.hist0.9560.0000.961
coverage.plot0.9480.0000.952
coverage.target0.9240.0000.931
coverage.targetlength.plot1.3440.0041.350
coverage.uniformity0.9440.0000.948
covered.k0.9320.0040.940
duplicates.barplot4.9490.0044.957
fraction.reads.target0.3880.0000.393
fraction.target0.1080.0000.112
get.baits0.0160.0000.021
get.reads0.1320.0000.136
get.targets0.1200.0000.123
insert.size.hist2.0800.0082.091
make.wigfiles0.9360.0000.941
reads2pairs1.8680.0001.872
readsPerTarget0.7560.0000.764