TargetSearch 1.12.0 Alvaro Cuadros-Inostroza
Snapshot Date: 2012-03-31 17:01:49 -0700 (Sat, 31 Mar 2012) | URL: https://hedgehog.fhcrc.org/bioconductor/branches/RELEASE_2_10/madman/Rpacks/TargetSearch | Last Changed Rev: 64678 / Revision: 64719 | Last Changed Date: 2012-03-30 15:05:02 -0700 (Fri, 30 Mar 2012) |
| lamb2 | Linux (openSUSE 11.4) / x86_64 | OK | OK | |
puck5 | Linux (Ubuntu 12.04) / x86_64 | OK | [ OK ] | |
moscato2 | Windows Server 2008 R2 Enterprise SP1 (64-bit) / x64 | OK | OK | OK |
petty | Mac OS X Leopard (10.5.8) / i386 | OK | OK | OK |
* using log directory '/loc/home/hpages/test-puck5/bbs-2.10-bioc/meat/TargetSearch.Rcheck'
* using R version 2.15.0 RC (2012-03-22 r58802)
* using platform: x86_64-unknown-linux-gnu (64-bit)
* using session charset: ISO8859-1
* using option '--no-vignettes'
* checking for file 'TargetSearch/DESCRIPTION' ... OK
* checking extension type ... Package
* this is package 'TargetSearch' version '1.12.0'
* checking package namespace information ... OK
* checking package dependencies ... OK
* checking if this is a source package ... OK
* checking if there is a namespace ... OK
* checking whether package 'TargetSearch' can be installed ... OK
* checking installed package size ... OK
* checking package directory ... OK
* checking for portable file names ... OK
* checking for sufficient/correct file permissions ... OK
* checking DESCRIPTION meta-information ... OK
* checking top-level files ... OK
* checking index information ... OK
* checking package subdirectories ... OK
* checking R files for non-ASCII characters ... OK
* checking R files for syntax errors ... OK
* checking whether the package can be loaded ... OK
* checking whether the package can be loaded with stated dependencies ... OK
* checking whether the package can be unloaded cleanly ... OK
* checking whether the namespace can be loaded with stated dependencies ... OK
* checking whether the namespace can be unloaded cleanly ... OK
* checking for unstated dependencies in R code ... OK
* checking S3 generic/method consistency ... OK
* checking replacement functions ... OK
* checking foreign function calls ... OK
* checking R code for possible problems ... OK
* checking Rd files ... OK
* checking Rd metadata ... OK
* checking Rd cross-references ... OK
* checking for missing documentation entries ... OK
* checking for code/documentation mismatches ... OK
* checking Rd \usage sections ... OK
* checking Rd contents ... OK
* checking for unstated dependencies in examples ... OK
* checking line endings in C/C++/Fortran sources/headers ... OK
* checking line endings in Makefiles ... OK
* checking for portable use of $(BLAS_LIBS) and $(LAPACK_LIBS) ... OK
* checking compiled code ... OK
* checking installed files from 'inst/doc' ... OK
* checking examples ... OK
* checking for unstated dependencies in vignettes ... OK
* checking package vignettes in 'inst/doc' ... OK
* checking running R code from vignettes ... SKIPPED
* checking re-building of vignettes ... SKIPPED
* checking PDF version of manual ... OK
* installing *source* package 'TargetSearch' ...
** libs
gcc -std=gnu99 -I/home/hpages/test-puck5/bbs-2.10-bioc/R/include -DNDEBUG -I/usr/local/include -fpic -g -O2 -c Rinit.c -o Rinit.o
gcc -std=gnu99 -I/home/hpages/test-puck5/bbs-2.10-bioc/R/include -DNDEBUG -I/usr/local/include -fpic -g -O2 -c file.c -o file.o
file.c: In function 'read_dat':
file.c:57:7: warning: ignoring return value of 'fread', declared with attribute warn_unused_result [-Wunused-result]
file.c:61:14: warning: ignoring return value of 'fread', declared with attribute warn_unused_result [-Wunused-result]
file.c:62:14: warning: ignoring return value of 'fread', declared with attribute warn_unused_result [-Wunused-result]
file.c:77:7: warning: ignoring return value of 'fread', declared with attribute warn_unused_result [-Wunused-result]
file.c:78:7: warning: ignoring return value of 'fread', declared with attribute warn_unused_result [-Wunused-result]
file.c:79:7: warning: ignoring return value of 'fread', declared with attribute warn_unused_result [-Wunused-result]
file.c:95:22: warning: ignoring return value of 'fread', declared with attribute warn_unused_result [-Wunused-result]
file.c:96:22: warning: ignoring return value of 'fread', declared with attribute warn_unused_result [-Wunused-result]
gcc -std=gnu99 -I/home/hpages/test-puck5/bbs-2.10-bioc/R/include -DNDEBUG -I/usr/local/include -fpic -g -O2 -c find_peaks.c -o find_peaks.o
gcc -std=gnu99 -I/home/hpages/test-puck5/bbs-2.10-bioc/R/include -DNDEBUG -I/usr/local/include -fpic -g -O2 -c getLine.c -o getLine.o
gcc -std=gnu99 -I/home/hpages/test-puck5/bbs-2.10-bioc/R/include -DNDEBUG -I/usr/local/include -fpic -g -O2 -c hpf.c -o hpf.o
gcc -std=gnu99 -I/home/hpages/test-puck5/bbs-2.10-bioc/R/include -DNDEBUG -I/usr/local/include -fpic -g -O2 -c netcdf_peak_finding.c -o netcdf_peak_finding.o
gcc -std=gnu99 -I/home/hpages/test-puck5/bbs-2.10-bioc/R/include -DNDEBUG -I/usr/local/include -fpic -g -O2 -c peakExtraction.c -o peakExtraction.o
gcc -std=gnu99 -I/home/hpages/test-puck5/bbs-2.10-bioc/R/include -DNDEBUG -I/usr/local/include -fpic -g -O2 -c ppc.c -o ppc.o
gcc -std=gnu99 -shared -L/usr/local/lib -o TargetSearch.so Rinit.o file.o find_peaks.o getLine.o hpf.o netcdf_peak_finding.o peakExtraction.o ppc.o -L/home/hpages/test-puck5/bbs-2.10-bioc/R/lib -lR
installing to /loc/home/hpages/test-puck5/bbs-2.10-bioc/meat/TargetSearch.Rcheck/TargetSearch/libs
** R
** inst
** preparing package for lazy loading
** help
*** installing help indices
** building package indices
** installing vignettes
'RICorrection.Rnw'
'TargetSearch.Rnw'
** testing if installed package can be loaded
* DONE (TargetSearch)