Back to the "Multiple platform build/check report"[A] B  C  D  E  F  G  H  I  J  K  L  M  N  O  P  Q  R  S  T  U  V  W  X  Y  Z 

Package 1/554HostnameOS / ArchBUILDCHECKBUILD BIN
a4 1.4.0
Tobias Verbeke
Snapshot Date: 2012-03-31 17:01:49 -0700 (Sat, 31 Mar 2012)
URL: https://hedgehog.fhcrc.org/bioconductor/branches/RELEASE_2_10/madman/Rpacks/a4
Last Changed Rev: 64678 / Revision: 64719
Last Changed Date: 2012-03-30 15:05:02 -0700 (Fri, 30 Mar 2012)
lamb2 Linux (openSUSE 11.4) / x86_64  OK  OK 
puck5 Linux (Ubuntu 12.04) / x86_64 [ OK ] OK 
moscato2 Windows Server 2008 R2 Enterprise SP1 (64-bit) / x64  OK  OK  OK 
petty Mac OS X Leopard (10.5.8) / i386  OK  OK  OK 

Summary

Package: a4
Version: 1.4.0
Command: /home/hpages/test-puck5/bbs-2.10-bioc/R/bin/R CMD build --keep-empty-dirs --no-resave-data a4
StartedAt: 2012-03-31 22:13:45 -0700 (Sat, 31 Mar 2012)
EndedAt: 2012-03-31 22:15:40 -0700 (Sat, 31 Mar 2012)
EllapsedTime: 114.4 seconds
RetCode: 0
Status:  OK 
PackageFile: a4_1.4.0.tar.gz
PackageFileSize: 943.8 KiB

Command output

* checking for file 'a4/DESCRIPTION' ... OK
* preparing 'a4':
* checking DESCRIPTION meta-information ... OK
* installing the package to re-build vignettes
* creating vignettes ... OK
* checking for LF line-endings in source and make files
* checking for empty or unneeded directories
* creating default NAMESPACE file
* building 'a4_1.4.0.tar.gz'